data_3000543
loop_
_publ_author_name
'Georgia Cametti'
_journal_name_full               'To be published'
_chemical_formula_sum            'Al12 Cu5.95 O98.26 Si24'
_chemical_name_common            Cu-chabazite
_space_group_name_Hall           '-R 3 2"'
_space_group_name_H-M_alt        'R -3 m :H'
_cell_angle_alpha                90
_cell_angle_beta                 90
_cell_angle_gamma                120
_cell_length_a                   13.9192(4)
_cell_length_b                   13.9192(4)
_cell_length_c                   14.3936(5)
_cell_measurement_temperature    299(2)
_cell_volume                     2415.06(13)
_diffrn_ambient_temperature      299(2)
_diffrn_radiation_type           MoK\a
_diffrn_radiation_wavelength     0.71073
_refine_ls_goodness_of_fit_ref   1.062
_refine_ls_R_factor_all          0.0657
_refine_ls_R_factor_gt           0.0612
_refine_ls_wR_factor_gt          0.1880
_refine_ls_wR_factor_ref         0.1923
_cod_database_code               3000543
_cod_hold_until_date             2025-03-29
_cod_depositor_requested_release_date 2025-03-29
loop_
_atom_site_label
_atom_site_fract_x
_atom_site_fract_y
_atom_site_fract_z
? ? ? ?
