data_3000548
loop_
_publ_author_name
'Carmen López'
'Miguel Quirós'
'Miguel A. Galindo'
_journal_name_full               'To be published'
_chemical_formula_sum            'C18 H24.6 Ag B F4 N8 O0.3'
_space_group_name_Hall           '-P 2ybc'
_space_group_name_H-M_alt        'P 1 21/c 1'
_cell_angle_alpha                90
_cell_angle_beta                 117.686(2)
_cell_angle_gamma                90
_cell_length_a                   15.7746(10)
_cell_length_b                   9.7554(6)
_cell_length_c                   16.5821(9)
_cell_measurement_temperature    105(2)
_cell_volume                     2259.6(2)
_diffrn_ambient_temperature      105(2)
_diffrn_radiation_type           MoK\a
_diffrn_radiation_wavelength     0.71073
_refine_ls_goodness_of_fit_ref   1.066
_refine_ls_R_factor_all          0.0252
_refine_ls_R_factor_gt           0.0230
_refine_ls_wR_factor_gt          0.0608
_refine_ls_wR_factor_ref         0.0630
_cod_database_code               3000548
_cod_hold_until_date             2024-12-14
_cod_depositor_requested_release_date 2024-12-14
loop_
_atom_site_label
_atom_site_fract_x
_atom_site_fract_y
_atom_site_fract_z
? ? ? ?
