data_3000555
loop_
_publ_author_name
'Rakovský, Erik'
'Chrappová, Jana'
'Pateda, Yogeswara Rao'
'Bartošová, Lenka'
_journal_name_full               'To be published in Crystals'
_chemical_formula_sum            'C6 H50 N4 O46 V10 Zn2'
_chemical_name_common
'diammonium bis[pentaaqua-β-alanine-zinc(II)] decavanadate tetrahydrate'
_chemical_name_systematic
'diammonium bis[pentaaqua-β-alanine-zinc(II)] decavanadate tetrahydrate'
_space_group_name_Hall           '-P 2yn'
_space_group_name_H-M_alt        'P 1 21/n 1'
_cell_angle_alpha                90
_cell_angle_beta                 101.8149(7)
_cell_angle_gamma                90
_cell_length_a                   8.91183(7)
_cell_length_b                   18.01144(10)
_cell_length_c                   13.83383(9)
_cell_measurement_temperature    99.95(10)
_cell_volume                     2173.49(3)
_diffrn_ambient_temperature      99.95(10)
_diffrn_radiation_probe          x-ray
_diffrn_radiation_type           'Mo K\a'
_diffrn_radiation_wavelength     0.71073
_refine_ls_goodness_of_fit_ref   1.092
_refine_ls_R_factor_all          0.0156
_refine_ls_R_factor_gt           0.0152
_refine_ls_wR_factor_gt          0.0424
_refine_ls_wR_factor_ref         0.0426
_cod_database_code               3000555
_cod_hold_until_date             2024-12-26
_cod_depositor_requested_release_date 2024-12-26
loop_
_atom_site_label
_atom_site_fract_x
_atom_site_fract_y
_atom_site_fract_z
? ? ? ?
