data_3000556
loop_
_publ_author_name
'Rakovský, Erik'
'Chrappová, Jana'
'Pateda, Yogeswara Rao'
'Bartošová, Lenka'
_journal_name_full               'To be published in Crystals'
_chemical_formula_sum            'C6 H46 Mn2 N4 O44 V10'
_chemical_name_common
;
diammonium-bis(pentaaqua-β-alanine-manganese(II)) decavanadate dihydrate
;
_chemical_name_systematic
;
diammonium-bis(pentaaqua-β-alanine-manganese(II)) decavanadate dihydrate
;
_space_group_name_Hall           '-P 2yn'
_space_group_name_H-M_alt        'P 1 21/n 1'
_cell_angle_alpha                90
_cell_angle_beta                 110.239(5)
_cell_angle_gamma                90
_cell_length_a                   9.7536(4)
_cell_length_b                   22.7609(8)
_cell_length_c                   10.0154(4)
_cell_measurement_temperature    100.0(3)
_cell_volume                     2086.15(16)
_diffrn_ambient_temperature      100.0(3)
_diffrn_radiation_probe          x-ray
_diffrn_radiation_type           'Mo K\a'
_diffrn_radiation_wavelength     0.71073
_refine_ls_goodness_of_fit_ref   1.048
_refine_ls_R_factor_all          0.0426
_refine_ls_R_factor_gt           0.0276
_refine_ls_wR_factor_gt          0.0693
_refine_ls_wR_factor_ref         0.0725
_cod_database_code               3000556
_cod_hold_until_date             2024-12-26
_cod_depositor_requested_release_date 2024-12-26
loop_
_atom_site_label
_atom_site_fract_x
_atom_site_fract_y
_atom_site_fract_z
? ? ? ?
