data_3000584
loop_
_publ_author_name
'Yuudai Iwai'
'Kimura Saaya'
'Manabu Nakaya'
'Takanori Nakane'
'Akihiro Kawamoto'
'Genji Kurisu'
'Yuta Tsuji'
'Kenji Hirai'
'Koji Kimoto'
'Ovidiu Cretu'
'Fumitaka Takeiri'
'Kunihisa Sugimoto'
'Benjamin Le Ouay'
'Masaaki Ohba'
'Ryo Ohtani'
_publ_section_title
;
 Three- and two-dimensional melting metal cyanidos coexisting in a single
 particle
;
_journal_name_full               'To be published'
_chemical_formula_sum            'C6 Cd Cu3 K N6'
_space_group_name_Hall           '-P 3 2'
_space_group_name_H-M_alt        'P -3 1 m'
_cell_angle_alpha                90.0
_cell_angle_beta                 90.0
_cell_angle_gamma                120.0
_cell_length_a                   6.7783(18)
_cell_length_b                   6.7783(18)
_cell_length_c                   8.005(2)
_cell_measurement_temperature    79
_cell_volume                     318.52(14)
_diffrn_ambient_temperature      79
_diffrn_radiation_type           electron
_diffrn_radiation_wavelength     0.02508
_refine_ls_goodness_of_fit_ref   2.0514
_refine_ls_R_factor_all          0.2200
_refine_ls_wR_factor_gt          0.5059
_cod_database_code               3000584
_cod_hold_until_date             2025-07-16
_cod_depositor_requested_release_date 2025-07-16
loop_
_atom_site_label
_atom_site_fract_x
_atom_site_fract_y
_atom_site_fract_z
? ? ? ?
