data_3000592
loop_
_publ_author_name
'Shin-ichiro Noro'
_journal_name_full               'To be published'
_chemical_formula_sum            'C28 H28 Cu F6 N4 O6 S2'
_space_group_name_Hall           'P 2yb'
_space_group_name_H-M_alt        'P 1 21 1'
_cell_angle_alpha                90
_cell_angle_beta                 96.22(3)
_cell_angle_gamma                90
_cell_length_a                   8.810(3)
_cell_length_b                   17.268(4)
_cell_length_c                   10.929(4)
_cell_measurement_temperature    79
_cell_volume                     1652.9(9)
_diffrn_ambient_temperature      79
_diffrn_radiation_probe          electron
_diffrn_radiation_type           electron
_diffrn_radiation_wavelength     0.02508
_refine_ls_goodness_of_fit_ref   0.920
_refine_ls_R_factor_all          0.1441
_refine_ls_R_factor_gt           0.0875
_refine_ls_wR_factor_gt          0.2002
_refine_ls_wR_factor_ref         0.2169
_cod_database_code               3000592
_cod_hold_until_date             2025-09-07
_cod_depositor_requested_release_date 2025-09-07
loop_
_atom_site_label
_atom_site_fract_x
_atom_site_fract_y
_atom_site_fract_z
? ? ? ?
