data_3000595
loop_
_publ_author_name
'Jack Simonson'
_publ_section_title
;
 ?
;
_journal_name_full               'To be published in Physical Review Materials'
_chemical_formula_sum            'Co In2'
_space_group_name_Hall           '-C 2yc'
_space_group_name_H-M_alt        'C 1 2/c 1'
_cell_angle_alpha                90
_cell_angle_beta                 117.788(11)
_cell_angle_gamma                90
_cell_length_a                   9.3721(11)
_cell_length_b                   5.2662(3)
_cell_length_c                   10.0425(9)
_cell_measurement_temperature    200(130)
_cell_volume                     438.49(8)
_diffrn_ambient_temperature      198
_diffrn_radiation_probe          x-ray
_diffrn_radiation_type           'Ag K\a'
_diffrn_radiation_wavelength     0.56087
_refine_ls_goodness_of_fit_gt    1.4797
_refine_ls_goodness_of_fit_ref   1.4517
_refine_ls_R_factor_all          0.0356
_refine_ls_R_factor_gt           0.0268
_refine_ls_wR_factor_gt          0.0618
_refine_ls_wR_factor_ref         0.0658
_cod_database_code               3000595
_cod_hold_until_date             2025-09-14
_cod_depositor_requested_release_date 2025-09-14
loop_
_atom_site_label
_atom_site_fract_x
_atom_site_fract_y
_atom_site_fract_z
? ? ? ?
