data_3000606
loop_
_publ_author_name
'Bania, Ankur'
'Gogoi, Diptajyoti'
'Kalita, Nabadeep'
'Nakane, Takanori'
'Kawamoto, Akihiro'
'Althubeiti, Khaled'
'Sasaki, Toshiyuki'
'Kurisu, Genji'
'Thakuria, Ranjit'
_journal_name_full               'To be published'
_chemical_formula_sum            'C8 H10 N2 O5'
_space_group_name_Hall           '-P 2yn'
_space_group_name_H-M_alt        'P 1 21/n 1'
_cell_angle_alpha                90
_cell_angle_beta                 91.70(2)
_cell_angle_gamma                90
_cell_length_a                   6.9711(15)
_cell_length_b                   11.059(3)
_cell_length_c                   31.307(7)
_cell_measurement_temperature    79
_cell_volume                     2412.5(10)
_diffrn_ambient_temperature      79
_diffrn_radiation_probe          electron
_diffrn_radiation_type           electron
_diffrn_radiation_wavelength     0.02508
_refine_ls_goodness_of_fit_ref   1.643
_refine_ls_R_factor_all          0.2208
_refine_ls_wR_factor_gt          0.4599
_cod_database_code               3000606
_cod_hold_until_date             2026-06-19
_cod_depositor_requested_release_date 2026-06-19
loop_
_atom_site_label
_atom_site_fract_x
_atom_site_fract_y
_atom_site_fract_z
? ? ? ?
