#------------------------------------------------------------------------------
#$Date: 2020-02-14 01:28:09 +0200 (Fri, 14 Feb 2020) $
#$Revision: 248133 $
#$URL: file:///home/coder/svn-repositories/cod/cif/4/00/34/4003482.cif $
#------------------------------------------------------------------------------
#
# This file is available in the Crystallography Open Database (COD),
# http://www.crystallography.net/
#
# All data on this site have been placed in the public domain by the
# contributors.
#
data_4003482
loop_
_publ_author_name
'Jørgensen, Mathias'
'Shea, Patrick T.'
'Tomich, Anton W.'
'Varley, Joel B.'
'Bercx, Marnik'
'Lovera, Sergio'
'Černý, Radovan'
'Zhou, Wei'
'Udovic, Terrence J.'
'Lavallo, Vincent'
'Jensen, Torben R.'
'Wood, Brandon C.'
'Stavila, Vitalie'
_publ_section_title
;
 Understanding Superionic Conductivity in Lithium and Sodium Salts of
 Weakly Coordinating Closo-Hexahalocarbaborate Anions
;
_journal_name_full               'Chemistry of Materials'
_journal_paper_doi               10.1021/acs.chemmater.9b04383
_journal_year                    2020
_chemical_formula_sum            'C H6 B11 Cl6 Li'
_chemical_formula_weight         356.61
_chemical_name_systematic        ' LiHCB11H5Cl6'
_space_group_IT_number           62
_space_group_name_Hall           '-P 2ac 2n'
_space_group_name_H-M_alt        'P n m a'
_symmetry_cell_setting           orthorhombic
_symmetry_space_group_name_Hall  '-P 2ac 2n'
_symmetry_space_group_name_H-M   'P n m a'
_cell_angle_alpha                90.0000
_cell_angle_beta                 90.0000
_cell_angle_gamma                90.0000
_cell_formula_units_Z            4
_cell_length_a                   11.6879(6)
_cell_length_b                   11.1093(5)
_cell_length_c                   11.3771(5)
_cell_measurement_temperature    373
_cell_volume                     1477.25(12)
_computing_structure_refinement  FULLPROF
_computing_structure_solution    FOX
_diffrn_ambient_temperature      373;
_diffrn_detector                 2D
_diffrn_detector_type            'Perkin Elmer (XRD1621)'
_diffrn_measurement_device_type  'PETRA III, p0.2'
_diffrn_radiation_type           Synchrotron
_diffrn_source                   Synchrotron
_pd_char_colour                  White
_pd_instr_location               ' ?'
_pd_meas_2theta_range_inc        0.006266
_pd_meas_2theta_range_max        9.14489
_pd_meas_2theta_range_min        0.46648
_pd_meas_number_of_points        1387
_pd_proc_2theta_range_inc        0.006266
_pd_proc_2theta_range_max        9.1459
_pd_proc_2theta_range_min        0.4675
_pd_proc_ls_pref_orient_corr     ' ?'
_pd_proc_ls_prof_R_factor        1.3107
_pd_proc_ls_prof_wR_expected     0.1485
_pd_proc_ls_prof_wR_factor       2.0171
_pd_proc_wavelength              0.207109
_pd_spec_mounting                ' ?'
_refine_ls_number_parameters     59
_refine_ls_number_reflns         417
_refine_ls_number_restraints     0
_refine_ls_R_I_factor            5.4943
_cod_data_source_file            cm9b04383_si_002.cif
_cod_data_source_block           LiHCB11H5Cl6
_cod_depositor_comments
;
The following automatic conversions were performed:

data item '_symmetry_cell_setting' value 'Orthorhombic' was changed
to 'orthorhombic' in accordance with the
/home/data/users/saulius/crontab/automatic-downloads/rss-feeds/ACS/lib/dictionaries/cif_core.dic
dictionary named 'cif_core.dic' version 2.4.2 last updated on
2011-04-26.

Automatic conversion script
Id: cif_fix_values 7556 2019-12-06 15:28:31Z antanas 
;
_cod_original_cell_volume        1477.26(12)
_cod_database_code               4003482
_pd_proc_ls_prof_cr_factor       12.0190
_pd_proc_ls_prof_cwr_factor      11.0337
_pd_proc_ls_prof_cwr_expected    0.8122
_pd_proc_ls_prof_chi2            184.5431
_pd_proc_ls_prof_echi2           186.6349
loop_
_symmetry_equiv_pos_as_xyz
x,y,z
x+1/2,-y+1/2,-z+1/2
-x,y+1/2,-z
-x+1/2,-y,z+1/2
-x,-y,-z
-x+1/2,y+1/2,z+1/2
x,-y+1/2,z
x+1/2,y,-z+1/2
loop_
_atom_site_label
_atom_site_fract_x
_atom_site_fract_y
_atom_site_fract_z
_atom_site_U_iso_or_equiv
_atom_site_occupancy
_atom_site_adp_type
_atom_site_type_symbol
B1 0.6748(7) 0.25000 0.8387(11) 0.028(5) 1.00000 Uiso B
C1 0.5766(7) 0.25000 0.9445(11) 0.028(5) 1.00000 Uiso C
B2 0.6538(7) 0.38316 0.9291(11) 0.028(5) 1.00000 Uiso B
B3 0.7930(7) 0.33145 0.8997(11) 0.028(5) 1.00000 Uiso B
H1 0.6463(7) 0.25000 0.7424(11) 0.028(5) 1.00000 Uiso H
B4 0.6100(7) 0.16975 1.0679(11) 0.028(5) 1.00000 Uiso B
H2 0.4898(7) 0.25000 0.9189(11) 0.028(5) 1.00000 Uiso H
B5 0.7566(7) 0.37657 1.0463(11) 0.028(5) 1.00000 Uiso B
H3 0.6116(7) 0.47170 0.8868(11) 0.028(5) 1.00000 Uiso H
B6 0.8414(7) 0.25000 1.0241(11) 0.028(5) 1.00000 Uiso B
B7 0.7280(7) 0.25000 1.1305(11) 0.028(5) 1.00000 Uiso B
H4 0.5372(7) 0.11876 1.1223(11) 0.028(5) 1.00000 Uiso H
Cl1 0.89805(5) 0.41381(5) 0.81600(5) 0.0602(18) 1.00000 Uiso Cl
Cl2 0.81285(4) 0.51496(5) 1.09629(5) 0.0602(18) 1.00000 Uiso Cl
Cl3 0.98428(7) 0.25000 1.06688(8) 0.0602(18) 1.00000 Uiso Cl
Cl4 0.75764(7) 0.25000 1.28423(7) 0.0602(18) 1.00000 Uiso Cl
Li1 0.50000 0.50000 0.50000 0.12(3) 1.00000 Uiso Li
loop_
_atom_type_symbol
_atom_type_scat_Cromer_Mann_a1
_atom_type_scat_Cromer_Mann_b1
_atom_type_scat_Cromer_Mann_a2
_atom_type_scat_Cromer_Mann_b2
_atom_type_scat_Cromer_Mann_a3
_atom_type_scat_Cromer_Mann_b3
_atom_type_scat_Cromer_Mann_a4
_atom_type_scat_Cromer_Mann_b4
_atom_type_scat_Cromer_Mann_c
_atom_type_scat_dispersion_real
_atom_type_scat_dispersion_imag
_atom_type_scat_source
b 2.05450 23.21850 1.33260 1.02100 1.09790 60.34980 0.70680 0.14030 -0.19320
0.00000 0.00000
International_Tables_for_Crystallography_Vol.C(1991)_Tables_6.1.1.4_and_6.1.1.5
c 2.31000 20.84390 1.02000 10.20750 1.58860 0.56870 0.86500 51.65120 0.21560
0.00000 0.00100
International_Tables_for_Crystallography_Vol.C(1991)_Tables_6.1.1.4_and_6.1.1.5
h 0.49300 10.51090 0.32291 26.12570 0.14019 3.14236 0.04081 57.79970 0.00304
0.00000 0.00000
International_Tables_for_Crystallography_Vol.C(1991)_Tables_6.1.1.4_and_6.1.1.5
cl 11.46040 0.01040 7.19640 1.16620 6.25560 18.51940 1.64550 47.77840 -9.55740
0.08400 0.09900
International_Tables_for_Crystallography_Vol.C(1991)_Tables_6.1.1.4_and_6.1.1.5
li 1.12820 3.95460 0.75080 1.05240 0.61750 85.39050 0.46530 168.26100 0.03770
0.00000 0.00000
International_Tables_for_Crystallography_Vol.C(1991)_Tables_6.1.1.4_and_6.1.1.5
loop_
_geom_angle_atom_site_label_1
_geom_angle_atom_site_label_2
_geom_angle_atom_site_label_3
_geom_angle_site_symmetry_1
_geom_angle_site_symmetry_2
_geom_angle_site_symmetry_3
_geom_angle
_geom_angle_publ_flag
? ? ? ? ? ? ? ?
loop_
_geom_bond_atom_site_label_1
_geom_bond_atom_site_label_2
_geom_bond_site_symmetry_1
_geom_bond_site_symmetry_2
_geom_bond_distance
_geom_bond_publ_flag
? ? ? ? ? ?
loop_
_geom_contact_atom_site_label_1
_geom_contact_atom_site_label_2
_geom_contact_distance
_geom_contact_site_symmetry_1
_geom_contact_site_symmetry_2
_geom_contact_publ_flag
? ? ? ? ? ?
loop_
_geom_hbond_atom_site_label_D
_geom_hbond_atom_site_label_H
_geom_hbond_atom_site_label_A
_geom_hbond_site_symmetry_D
_geom_hbond_site_symmetry_H
_geom_hbond_site_symmetry_A
_geom_hbond_distance_DH
_geom_hbond_distance_HA
_geom_hbond_distance_DA
_geom_hbond_angle_DHA
_geom_hbond_publ_flag
? ? ? ? ? ? ? ? ? ? ?
loop_
_geom_torsion_atom_site_label_1
_geom_torsion_atom_site_label_2
_geom_torsion_atom_site_label_3
_geom_torsion_atom_site_label_4
_geom_torsion_site_symmetry_1
_geom_torsion_site_symmetry_2
_geom_torsion_site_symmetry_3
_geom_torsion_site_symmetry_4
_geom_torsion
_geom_torsion_publ_flag
? ? ? ? ? ? ? ? ? ?
