#------------------------------------------------------------------------------
#$Date: 2017-03-05 21:59:09 +0200 (Sun, 05 Mar 2017) $
#$Revision: 193981 $
#$URL: file:///home/coder/svn-repositories/cod/cif/4/02/14/4021485.cif $
#------------------------------------------------------------------------------
#
# This file is available in the Crystallography Open Database (COD),
# http://www.crystallography.net/
#
# All data on this site have been placed in the public domain by the
# contributors.
#
data_4021485
loop_
_publ_author_name
'Fraser F. Fleming'
'Zhiyu Zhang'
'Guoqing Wei'
'Omar W. Steward'
_publ_contact_author_address
;
  Department of Chemistry and Biochemistry
  Duquesne University
  Pittsburgh, PA 15282 USA
;
_publ_contact_author_email       ' steward@duq.edu '
_publ_contact_author_fax         ' (412) 396 5683 '
_publ_contact_author_name        'Omar W. Steward'
_publ_contact_author_phone       ' (412) 396 6338 '
_publ_section_title
;
 C-Metalated Nitriles: Electrophile-Dependent Alkylations and Acylations
;
_journal_name_full               'Journal of Organic Chemistry'
_journal_page_first              1430
_journal_page_last               1435
_journal_paper_doi               10.1021/jo052102j
_journal_volume                  71
_journal_year                    2006
_chemical_formula_moiety         'C12 H21 N O2 '
_chemical_formula_sum            'C12 H21 N O2'
_chemical_formula_weight         211.30
_space_group_IT_number           9
_symmetry_cell_setting           monoclinic
_symmetry_space_group_name_Hall  'C -2yc'
_symmetry_space_group_name_H-M   'C 1 c 1'
_audit_creation_date             'May 26, 2004'
_audit_creation_method           'by teXsan v1.8'
_audit_update_record             '6/3/05 update Omar W. Steward'
_cell_angle_alpha                90
_cell_angle_beta                 104.45(3)
_cell_angle_gamma                90
_cell_formula_units_Z            4
_cell_length_a                   6.917(2)
_cell_length_b                   20.548(8)
_cell_length_c                   8.673(3)
_cell_measurement_reflns_used    25
_cell_measurement_temperature    294.2
_cell_measurement_theta_max      17.4
_cell_measurement_theta_min      15.2
_cell_volume                     1193.6(8)
_computing_cell_refinement       'MSC/AFC Diffractometer Control'
_computing_data_collection       'MSC/AFC Diffractometer Control'
_computing_data_reduction        'teXsan (MSC, 1992-1997)'
_computing_publication_material  'teXsan (MSC, 1992-1997)'
_computing_structure_refinement  'teXsan (MSC, 1992-1997)'
_diffrn_ambient_temperature      294.2
_diffrn_measurement_device_type  'Rigaku AFC7R'
_diffrn_measurement_method       ω
_diffrn_orient_matrix_UB_11      -0.01388
_diffrn_orient_matrix_UB_12      0.01611
_diffrn_orient_matrix_UB_13      -0.11110
_diffrn_orient_matrix_UB_21      -0.11963
_diffrn_orient_matrix_UB_22      -0.02846
_diffrn_orient_matrix_UB_23      -0.03831
_diffrn_orient_matrix_UB_31      -0.08822
_diffrn_orient_matrix_UB_32      0.03605
_diffrn_orient_matrix_UB_33      0.01922
_diffrn_radiation_detector       'scintillation counter'
_diffrn_radiation_monochromator  graphite
_diffrn_radiation_source         'Rigaku rotating anode'
_diffrn_radiation_type           'Mo K\a'
_diffrn_radiation_wavelength     0.7107
_diffrn_reflns_av_R_equivalents  0.09079
_diffrn_reflns_av_sigmaI/netI    0.030
_diffrn_reflns_limit_h_max       0
_diffrn_reflns_limit_h_min       -8
_diffrn_reflns_limit_k_max       26
_diffrn_reflns_limit_k_min       0
_diffrn_reflns_limit_l_max       11
_diffrn_reflns_limit_l_min       -10
_diffrn_reflns_number            1525
_diffrn_reflns_reduction_process 'Lp corrections applied'
_diffrn_reflns_theta_max         27.50
_diffrn_reflns_theta_min         3.13
_diffrn_standards_decay_%        -1.88
_diffrn_standards_interval_count 150
_diffrn_standards_number         3
_exptl_absorpt_coefficient_mu    0.079
_exptl_absorpt_correction_T_max  0.998
_exptl_absorpt_correction_T_min  0.973
_exptl_absorpt_correction_type
;
\y scans (North,Phillips & Matthews, 1968)
;
_exptl_crystal_colour            colorless
_exptl_crystal_density_diffrn    1.176
_exptl_crystal_density_meas      ?
_exptl_crystal_description       plate
_exptl_crystal_F_000             464.00
_exptl_crystal_size_max          0.60
_exptl_crystal_size_mid          0.40
_exptl_crystal_size_min          0.10
_refine_diff_density_max         0.20
_refine_diff_density_min         -0.17
_refine_ls_extinction_method     none
_refine_ls_goodness_of_fit_ref   1.267
_refine_ls_hydrogen_treatment    noref
_refine_ls_matrix_type           full
_refine_ls_number_constraints    0
_refine_ls_number_parameters     136
_refine_ls_number_reflns         1245
_refine_ls_number_restraints     0
_refine_ls_R_factor_gt           0.0413
_refine_ls_shift/su_max          0.0001
_refine_ls_shift/su_mean         0.0000
_refine_ls_structure_factor_coef F
_refine_ls_weighting_details     'w = 1/[σ²(Fo) + 0.00063|Fo|²]'
_refine_ls_weighting_scheme      sigma
_refine_ls_wR_factor_ref         0.0562
_reflns_number_gt                1245
_reflns_number_total             1413
_reflns_threshold_expression     I>3.00σ(I)
_cod_data_source_file            jo052102jsi20051214_105650_09.cif
_cod_depositor_comments
;
The following automatic conversions were performed:
data name '_geom_bond_atom_site_label_D' replaced with
'_geom_hbond_atom_site_label_D' as specified in the replacement file
'/home/antanas/src/cod-tools/trunk/data/replacement-values/replacement_tags.lst'.

data
name '_geom_bond_atom_site_label_H' replaced with
'_geom_hbond_atom_site_label_H' as specified in the replacement file
'/home/antanas/src/cod-tools/trunk/data/replacement-values/replacement_tags.lst'.

data
name '_geom_bond_atom_site_label_A' replaced with
'_geom_hbond_atom_site_label_A' as specified in the replacement file
'/home/antanas/src/cod-tools/trunk/data/replacement-values/replacement_tags.lst'.

data
name '_geom_bond_distance_DH' replaced with '_geom_hbond_distance_DH'
as specified in the replacement file
'/home/antanas/src/cod-tools/trunk/data/replacement-values/replacement_tags.lst'.

data
name '_geom_contact_distance_HA' replaced with
'_geom_hbond_distance_HA' as specified in the replacement file
'/home/antanas/src/cod-tools/trunk/data/replacement-values/replacement_tags.lst'.

data
name '_geom_contact_distance_DA' replaced with
'_geom_hbond_distance_DA' as specified in the replacement file
'/home/antanas/src/cod-tools/trunk/data/replacement-values/replacement_tags.lst'.

data
name '_geom_angle_DHA' replaced with '_geom_hbond_angle_DHA' as
specified in the replacement file
'/home/antanas/src/cod-tools/trunk/data/replacement-values/replacement_tags.lst'.

data
name '_geom_contact_site_symmetry_A' replaced with
'_geom_hbond_site_symmetry_A' as specified in the replacement file
'/home/antanas/src/cod-tools/trunk/data/replacement-values/replacement_tags.lst'.

Automatic conversion script
Id: cif_correct_tags 5005 2017-03-03 11:38:54Z antanas 
;
_cod_original_sg_symbol_H-M      'C c        '
_cod_original_formula_sum        'C12 H21 N O2 '
_cod_database_code               4021485
loop_
_symmetry_equiv_pos_as_xyz
'   +x,   +y,   +z'
'1/2+x,1/2+y,   +z'
'   +x,   -y,1/2+z'
1/2+x,1/2-y,1/2+z
loop_
_atom_site_label
_atom_site_fract_x
_atom_site_fract_y
_atom_site_fract_z
_atom_site_U_iso_or_equiv
_atom_site_occupancy
_atom_site_adp_type
_atom_site_calc_flag
O(1) 0.753(1) 0.19428(7) 0.508(1) 0.0439(4) 1.000 Uani d
O(2) 1.036(1) 0.21090(7) 0.783(1) 0.0479(4) 1.000 Uani d
N(1) 1.230(1) -0.0109(1) 0.764(1) 0.0752(7) 1.000 Uani d
C(1) 1.094(1) 0.10506(9) 0.665(1) 0.0375(4) 1.000 Uani d
C(2) 0.910(1) 0.08884(9) 0.521(1) 0.0363(4) 1.000 Uani d
C(3) 0.832(1) 0.14765(9) 0.415(1) 0.0401(4) 1.000 Uani d
C(4) 0.999(1) 0.1782(1) 0.354(1) 0.0509(6) 1.000 Uani d
C(5) 1.182(1) 0.1954(1) 0.485(1) 0.0533(6) 1.000 Uani d
C(6) 1.255(1) 0.1372(1) 0.593(1) 0.0498(5) 1.000 Uani d
C(7) 1.172(1) 0.0397(1) 0.724(1) 0.0508(5) 1.000 Uani d
C(8) 1.063(1) 0.1432(1) 0.817(1) 0.0442(5) 1.000 Uani d
C(9) 1.254(1) 0.1393(1) 0.952(1) 0.0669(7) 1.000 Uani d
C(10) 0.889(1) 0.1192(2) 0.878(1) 0.0665(8) 1.000 Uani d
C(11) 0.745(1) 0.0475(1) 0.560(1) 0.0526(6) 1.000 Uani d
C(12) 0.662(1) 0.1275(1) 0.272(1) 0.0576(6) 1.000 Uani d
H(1) 0.9670 0.0611 0.4565 0.043 1.000 Uiso c
H(2) 0.9515 0.2175 0.3010 0.063 1.000 Uiso c
H(3) 1.0385 0.1490 0.2844 0.063 1.000 Uiso c
H(4) 1.1515 0.2295 0.5487 0.065 1.000 Uiso c
H(5) 1.2872 0.2082 0.4398 0.065 1.000 Uiso c
H(6) 1.3054 0.1050 0.5362 0.060 1.000 Uiso c
H(7) 1.3627 0.1516 0.6811 0.060 1.000 Uiso c
H(8) 1.2394 0.1625 1.0436 0.081 1.000 Uiso c
H(9) 1.2855 0.0948 0.9824 0.081 1.000 Uiso c
H(10) 1.3647 0.1573 0.9186 0.081 1.000 Uiso c
H(11) 0.8878 0.1429 0.9745 0.081 1.000 Uiso c
H(12) 0.9046 0.0745 0.9033 0.081 1.000 Uiso c
H(13) 0.7695 0.1271 0.8018 0.081 1.000 Uiso c
H(14) 0.8028 0.0122 0.6282 0.064 1.000 Uiso c
H(15) 0.6701 0.0738 0.6160 0.064 1.000 Uiso c
H(16) 0.6605 0.0314 0.4662 0.064 1.000 Uiso c
H(17) 0.5576 0.1082 0.3108 0.073 1.000 Uiso c
H(18) 0.6132 0.1644 0.2103 0.073 1.000 Uiso c
H(19) 0.7107 0.0964 0.2100 0.073 1.000 Uiso c
H(20) 0.6797 0.2222 0.4390 0.084 1.000 Uiso c
H(21) 0.9349 0.2170 0.7058 0.084 1.000 Uiso c
loop_
_atom_site_aniso_label
_atom_site_aniso_U_11
_atom_site_aniso_U_22
_atom_site_aniso_U_33
_atom_site_aniso_U_12
_atom_site_aniso_U_13
_atom_site_aniso_U_23
O(1) 0.0423(7) 0.0444(7) 0.0404(7) 0.0120(6) 0.0016(5) -0.0014(6)
O(2) 0.0535(9) 0.0449(7) 0.0382(7) 0.0010(6) -0.0018(6) -0.0043(6)
N(1) 0.079(2) 0.058(1) 0.080(2) 0.025(1) 0.003(1) 0.011(1)
C(1) 0.0310(8) 0.0406(9) 0.0370(8) 0.0033(6) 0.0011(6) 0.0033(6)
C(2) 0.0332(8) 0.0371(8) 0.0357(9) 0.0026(6) 0.0026(6) -0.0037(6)
C(3) 0.0394(9) 0.0428(9) 0.0335(9) 0.0077(7) 0.0002(6) -0.0008(7)
C(4) 0.059(1) 0.056(1) 0.039(1) 0.004(1) 0.0145(8) 0.0084(9)
C(5) 0.045(1) 0.063(1) 0.056(1) -0.0089(9) 0.0200(9) 0.009(1)
C(6) 0.0286(8) 0.067(1) 0.052(1) 0.0016(9) 0.0074(8) 0.0025(9)
C(7) 0.042(1) 0.054(1) 0.052(1) 0.0131(9) 0.0034(9) 0.0066(9)
C(8) 0.049(1) 0.0444(9) 0.0342(9) -0.0012(8) 0.0016(7) 0.0010(7)
C(9) 0.073(2) 0.067(1) 0.043(1) 0.001(1) -0.019(1) 0.000(1)
C(10) 0.078(2) 0.079(2) 0.050(1) -0.018(1) 0.031(1) -0.004(1)
C(11) 0.043(1) 0.047(1) 0.064(1) -0.0095(9) 0.0057(9) -0.002(1)
C(12) 0.057(1) 0.057(1) 0.045(1) 0.008(1) -0.0139(9) -0.008(1)
loop_
_atom_type_symbol
_atom_type_oxidation_number
_atom_type_number_in_cell
_atom_type_scat_dispersion_real
_atom_type_scat_dispersion_imag
_atom_type_scat_source
C 0 48 0.003 0.002
;International Tables for Crystallography
(1992, Vol. C, Tables 4.2.6.8 and 6.1.1.1)
;
H 0 84 0.000 0.000
;International Tables for Crystallography
(1992, Vol. C, Table 6.1.1.2)
;
N 0 4 0.006 0.003
;International Tables for Crystallography
(1992, Vol. C, Tables 4.2.6.8 and 6.1.1.1)
;
O 0 8 0.011 0.006
;International Tables for Crystallography
(1992, Vol. C, Tables 4.2.6.8 and 6.1.1.1)
;
loop_
_geom_angle_atom_site_label_1
_geom_angle_atom_site_label_2
_geom_angle_atom_site_label_3
_geom_angle
_geom_angle_publ_flag
C(3) O(1) H(20) 106.2 no
C(8) O(2) H(21) 110.5 no
C(2) C(1) C(6) 106.4(2) yes
C(2) C(1) C(7) 103.4(2) yes
C(2) C(1) C(8) 120.9(2) yes
C(6) C(1) C(7) 106.5(2) yes
C(6) C(1) C(8) 112.4(2) yes
C(7) C(1) C(8) 106.0(2) yes
C(1) C(2) C(3) 113.8(2) yes
C(1) C(2) C(11) 115.9(2) yes
C(1) C(2) H(1) 102.9 no
C(3) C(2) C(11) 113.5(2) yes
C(3) C(2) H(1) 105.0 no
C(11) C(2) H(1) 103.8 no
O(1) C(3) C(2) 108.2(2) yes
O(1) C(3) C(4) 110.2(2) yes
O(1) C(3) C(12) 108.2(2) yes
C(2) C(3) C(4) 110.2(2) yes
C(2) C(3) C(12) 110.9(2) yes
C(4) C(3) C(12) 109.1(2) yes
C(3) C(4) C(5) 113.6(2) yes
C(3) C(4) H(2) 108.5 no
C(3) C(4) H(3) 109.1 no
C(5) C(4) H(2) 106.8 no
C(5) C(4) H(3) 108.1 no
H(2) C(4) H(3) 110.8 no
C(4) C(5) C(6) 111.3(2) yes
C(4) C(5) H(4) 110.2 no
C(4) C(5) H(5) 109.6 no
C(6) C(5) H(4) 108.1 no
C(6) C(5) H(5) 107.5 no
H(4) C(5) H(5) 109.9 no
C(1) C(6) C(5) 114.9(2) yes
C(1) C(6) H(6) 108.0 no
C(1) C(6) H(7) 107.3 no
C(5) C(6) H(6) 110.0 no
C(5) C(6) H(7) 108.4 no
H(6) C(6) H(7) 108.1 no
N(1) C(7) C(1) 178.1(3) yes
O(2) C(8) C(1) 110.3(2) yes
O(2) C(8) C(9) 104.7(2) yes
O(2) C(8) C(10) 108.2(2) yes
C(1) C(8) C(9) 110.0(2) yes
C(1) C(8) C(10) 114.3(2) yes
C(9) C(8) C(10) 108.8(2) yes
C(8) C(9) H(8) 111.3 no
C(8) C(9) H(9) 110.7 no
C(8) C(9) H(10) 110.5 no
H(8) C(9) H(9) 108.0 no
H(8) C(9) H(10) 108.5 no
H(9) C(9) H(10) 107.7 no
C(8) C(10) H(11) 108.4 no
C(8) C(10) H(12) 109.7 no
C(8) C(10) H(13) 109.3 no
H(11) C(10) H(12) 108.6 no
H(11) C(10) H(13) 109.3 no
H(12) C(10) H(13) 111.5 no
C(2) C(11) H(14) 109.7 no
C(2) C(11) H(15) 109.1 no
C(2) C(11) H(16) 110.0 no
H(14) C(11) H(15) 108.0 no
H(14) C(11) H(16) 110.1 no
H(15) C(11) H(16) 109.9 no
C(3) C(12) H(17) 108.7 no
C(3) C(12) H(18) 109.5 no
C(3) C(12) H(19) 109.2 no
H(17) C(12) H(18) 109.9 no
H(17) C(12) H(19) 109.1 no
H(18) C(12) H(19) 110.4 no
loop_
_geom_bond_atom_site_label_1
_geom_bond_atom_site_label_2
_geom_bond_distance
_geom_bond_publ_flag
O(1) C(3) 1.445(3) yes
O(1) H(20) 0.89 no
O(2) C(8) 1.426(3) yes
O(2) H(21) 0.85 no
N(1) C(7) 1.137(4) yes
C(1) C(2) 1.583(3) yes
C(1) C(6) 1.556(3) yes
C(1) C(7) 1.489(3) yes
C(1) C(8) 1.587(3) yes
C(2) C(3) 1.534(3) yes
C(2) C(11) 1.529(3) yes
C(2) H(1) 0.95 no
C(3) C(4) 1.522(4) yes
C(3) C(12) 1.535(3) yes
C(4) C(5) 1.517(4) yes
C(4) H(2) 0.95 no
C(4) H(3) 0.94 no
C(5) C(6) 1.523(4) yes
C(5) H(4) 0.95 no
C(5) H(5) 0.95 no
C(6) H(6) 0.94 no
C(6) H(7) 0.97 no
C(8) C(9) 1.531(3) yes
C(8) C(10) 1.521(4) yes
C(9) H(8) 0.95 no
C(9) H(9) 0.96 no
C(9) H(10) 0.96 no
C(10) H(11) 0.97 no
C(10) H(12) 0.94 no
C(10) H(13) 0.93 no
C(11) H(14) 0.96 no
C(11) H(15) 0.96 no
C(11) H(16) 0.94 no
C(12) H(17) 0.96 no
C(12) H(18) 0.94 no
C(12) H(19) 0.95 no
loop_
_geom_contact_atom_site_label_1
_geom_contact_atom_site_label_2
_geom_contact_distance
_geom_contact_site_symmetry_2
_geom_contact_publ_flag
O(1) O(2) 2.901(2) 4_454 no
O(1) C(9) 3.454(4) 4_454 no
O(2) C(12) 3.440(3) 4 no
O(2) C(3) 3.574(3) 4 no
C(9) C(12) 3.438(4) 1_656 no
loop_
_geom_hbond_atom_site_label_D
_geom_hbond_atom_site_label_H
_geom_hbond_atom_site_label_A
_geom_hbond_distance_DH
_geom_hbond_distance_HA
_geom_hbond_distance_DA
_geom_hbond_angle_DHA
_geom_hbond_site_symmetry_A
O(1) H(20) O(2) 0.89 2.01 2.901(2) 175.0 4_454
O(2) H(21) O(1) 0.85 1.91 2.698(2) 153.9 .
loop_
_geom_torsion_atom_site_label_1
_geom_torsion_atom_site_label_2
_geom_torsion_atom_site_label_3
_geom_torsion_atom_site_label_4
_geom_torsion
_geom_torsion_publ_flag
O(1) C(3) C(2) C(1) -64.7(2) no
O(1) C(3) C(2) C(11) 70.8(2) no
O(1) C(3) C(4) C(5) 65.6(3) no
O(2) C(8) C(1) C(2) -77.3(2) no
O(2) C(8) C(1) C(6) 49.8(2) no
O(2) C(8) C(1) C(7) 165.8(2) no
N(1) C(7) C(1) C(2) 28(9) no
N(1) C(7) C(1) C(6) -84(9) no
N(1) C(7) C(1) C(8) 156(9) no
C(1) C(2) C(3) C(4) 55.8(2) no
C(1) C(2) C(3) C(12) 176.8(2) no
C(1) C(6) C(5) C(4) -54.2(3) no
C(2) C(1) C(6) C(5) 53.5(3) no
C(2) C(1) C(8) C(9) 167.7(2) no
C(2) C(1) C(8) C(10) 45.0(3) no
C(2) C(3) C(4) C(5) -53.7(3) no
C(3) C(2) C(1) C(6) -54.5(2) no
C(3) C(2) C(1) C(7) -166.5(2) no
C(3) C(2) C(1) C(8) 75.2(2) no
C(3) C(4) C(5) C(6) 52.7(3) no
C(4) C(3) C(2) C(11) -168.7(2) no
C(5) C(4) C(3) C(12) -175.7(2) no
C(5) C(6) C(1) C(7) 163.4(2) no
C(5) C(6) C(1) C(8) -80.9(3) no
C(6) C(1) C(2) C(11) 171.1(2) no
C(6) C(1) C(8) C(9) -65.3(3) no
C(6) C(1) C(8) C(10) 172.0(2) no
C(7) C(1) C(2) C(11) 59.1(2) no
C(7) C(1) C(8) C(9) 50.7(3) no
C(7) C(1) C(8) C(10) -72.0(3) no
C(8) C(1) C(2) C(11) -59.2(3) no
C(11) C(2) C(3) C(12) -47.7(3) no
