#------------------------------------------------------------------------------
#$Date: 2017-10-13 14:42:48 +0300 (Fri, 13 Oct 2017) $
#$Revision: 201982 $
#$URL: file:///home/coder/svn-repositories/cod/cif/4/02/76/4027677.cif $
#------------------------------------------------------------------------------
#
# This file is available in the Crystallography Open Database (COD),
# http://www.crystallography.net/
#
# All data on this site have been placed in the public domain by the
# contributors.
#
data_4027677
loop_
_publ_author_name
'Agnieszka Witosińska'
'Bogdan Musielak'
'Paweł Serda'
'Maria Owińska'
'Barbara Rys'
_publ_contact_author_address
;
Faculty of Chemistry
Jagiellonian University
Ingardena 3
30-060 Kraków, Poland
;
_publ_contact_author_email       rys@chemia.uj.edu.pl
_publ_contact_author_name        'Rys, B.'
_publ_section_title
;
 Conformation of Eight-Membered Benzoannulated Lactams by Combined NMR and
 DFT Studies
;
_journal_name_full               'Journal of Organic Chemistry'
_journal_page_first              9784
_journal_page_last               9794
_journal_paper_doi               10.1021/jo301859h
_journal_volume                  77
_journal_year                    2012
_chemical_compound_source        'synthesis as described'
_chemical_formula_moiety         'C11 H13 N O'
_chemical_formula_sum            'C11 H13 N O'
_chemical_formula_weight         175.22
_chemical_name_common            arx
_chemical_name_systematic
;
3,4,5,6-tetrahydro-1H-benzo[b]azocin-2-one
;
_space_group_IT_number           14
_symmetry_cell_setting           monoclinic
_symmetry_Int_Tables_number      14
_symmetry_space_group_name_Hall  '-P 2ybc'
_symmetry_space_group_name_H-M   'P 1 21/c 1'
_atom_sites_solution_hydrogens   geom
_atom_sites_solution_primary     direct
_atom_sites_solution_secondary   difmap
_audit_conform_dict_location     ftp://ftp.iucr.org/pub/cif_core.dic
_audit_conform_dict_name         cif_core.dic
_audit_conform_dict_version      2.3
_audit_creation_date             2012-08-16T17:30:44-00:00
_audit_creation_method           'WinGX routine CIF_UPDATE'
_cell_angle_alpha                90
_cell_angle_beta                 111.4150(10)
_cell_angle_gamma                90
_cell_formula_units_Z            4
_cell_length_a                   13.1243(4)
_cell_length_b                   4.76300(10)
_cell_length_c                   15.8937(6)
_cell_measurement_reflns_used    3208
_cell_measurement_temperature    293(2)
_cell_measurement_theta_max      25.028
_cell_measurement_theta_min      2.91
_cell_measurement_wavelength     0.71073
_cell_volume                     924.94(5)
_computing_cell_refinement       'HKL Scalepack (Otwinowski & Minor 1997)'
_computing_data_collection       'Collect (Nonius BV, 1997-2000)'
_computing_data_reduction
'HKL Denzo and Scalepack (Otwinowski & Minor 1997)'
_computing_molecular_graphics    'Ortep-3 for Windows (Farrugia, 1997)'
_computing_publication_material  'WinGX publication routines (Farrugia, 1999)'
_computing_structure_refinement  'SHELXL-97 (Sheldrick, 1997)'
_computing_structure_solution    'SHELXS-86 (Sheldrick, 1986)'
_diffrn_ambient_temperature      293(2)
_diffrn_detector                 'CCD plate'
_diffrn_detector_area_resol_mean 9
_diffrn_measured_fraction_theta_full 0.995
_diffrn_measured_fraction_theta_max 0.995
_diffrn_measurement_device       '95mm CCD camera on κ-goniostat'
_diffrn_measurement_device_type  KappaCCD
_diffrn_measurement_method       'CCD rotation images, thick slices'
_diffrn_orient_matrix_type       'by Nonius Collect from scalepack cell'
_diffrn_orient_matrix_UB_11      0.24902E-1
_diffrn_orient_matrix_UB_12      0.481632E-1
_diffrn_orient_matrix_UB_13      0.61309E-1
_diffrn_orient_matrix_UB_21      -0.199295
_diffrn_orient_matrix_UB_22      0.533498E-1
_diffrn_orient_matrix_UB_23      0.389242E-1
_diffrn_orient_matrix_UB_31      0.23853E-2
_diffrn_orient_matrix_UB_32      -0.33764E-1
_diffrn_orient_matrix_UB_33      0.584968E-1
_diffrn_radiation_monochromator  graphite
_diffrn_radiation_probe          x-ray
_diffrn_radiation_type           MoK\a
_diffrn_radiation_wavelength     0.71073
_diffrn_reflns_av_R_equivalents  0.0476
_diffrn_reflns_av_unetI/netI     0.0381
_diffrn_reflns_limit_h_max       15
_diffrn_reflns_limit_h_min       -15
_diffrn_reflns_limit_k_max       5
_diffrn_reflns_limit_k_min       -5
_diffrn_reflns_limit_l_max       18
_diffrn_reflns_limit_l_min       -18
_diffrn_reflns_number            5843
_diffrn_reflns_theta_full        25.02
_diffrn_reflns_theta_max         25.02
_diffrn_reflns_theta_min         3.33
_diffrn_source                   'Enraf Nonius FR590'
_exptl_absorpt_coefficient_mu    0.081
_exptl_absorpt_correction_type   none
_exptl_crystal_colour            colourless
_exptl_crystal_density_diffrn    1.258
_exptl_crystal_description       needles
_exptl_crystal_F_000             376
_exptl_crystal_size_max          0.4
_exptl_crystal_size_mid          0.18
_exptl_crystal_size_min          0.1
_refine_diff_density_max         0.126
_refine_diff_density_min         -0.171
_refine_diff_density_rms         0.033
_refine_ls_extinction_coef       0.048(9)
_refine_ls_extinction_expression Fc^*^=kFc[1+0.001xFc²λ³/sin(2θ)]^-1/4^
_refine_ls_extinction_method     SHELXL
_refine_ls_goodness_of_fit_ref   1.049
_refine_ls_hydrogen_treatment    refall
_refine_ls_matrix_type           full
_refine_ls_number_parameters     171
_refine_ls_number_reflns         1630
_refine_ls_number_restraints     0
_refine_ls_restrained_S_all      1.049
_refine_ls_R_factor_all          0.0506
_refine_ls_R_factor_gt           0.0404
_refine_ls_shift/su_max          0
_refine_ls_shift/su_mean         0
_refine_ls_structure_factor_coef Fsqd
_refine_ls_weighting_details
'calc w=1/[σ²(Fo²)+(0.0577P)²+0.1596P] where P=(Fo²+2Fc²)/3'
_refine_ls_weighting_scheme      calc
_refine_ls_wR_factor_gt          0.1032
_refine_ls_wR_factor_ref         0.1118
_reflns_number_gt                1323
_reflns_number_total             1630
_reflns_threshold_expression     >2sigma(I)
_cod_data_source_file            jo301859h_si_001.cif
_cod_data_source_block           ar105
_cod_database_code               4027677
loop_
_symmetry_equiv_pos_as_xyz
'x, y, z'
'-x, y+1/2, -z+1/2'
'-x, -y, -z'
'x, -y-1/2, z-1/2'
loop_
_atom_site_label
_atom_site_type_symbol
_atom_site_fract_x
_atom_site_fract_y
_atom_site_fract_z
_atom_site_U_iso_or_equiv
_atom_site_adp_type
_atom_site_occupancy
_atom_site_symmetry_multiplicity
_atom_site_calc_flag
N12 N -0.12592(10) 0.2178(3) -0.00974(9) 0.0507(4) Uani 1 1 d
C11 C -0.22665(11) 0.3574(3) -0.05690(9) 0.0422(4) Uani 1 1 d
C10 C -0.23036(14) 0.5511(4) -0.12340(10) 0.0534(4) Uani 1 1 d
C9 C -0.32732(15) 0.6834(4) -0.17315(11) 0.0582(5) Uani 1 1 d
C8 C -0.42119(14) 0.6229(4) -0.15691(10) 0.0553(5) Uani 1 1 d
C7 C -0.41698(12) 0.4317(3) -0.09123(10) 0.0486(4) Uani 1 1 d
C6 C -0.32085(11) 0.2936(3) -0.03964(9) 0.0408(4) Uani 1 1 d
C5 C -0.32315(13) 0.0858(4) 0.03058(11) 0.0512(4) Uani 1 1 d
C4 C -0.29872(13) 0.2119(5) 0.12501(11) 0.0584(5) Uani 1 1 d
C3 C -0.17849(13) 0.2370(4) 0.18354(10) 0.0564(5) Uani 1 1 d
C2 C -0.10908(13) 0.3955(4) 0.13987(11) 0.0514(4) Uani 1 1 d
C1 C -0.07056(11) 0.2141(3) 0.08029(10) 0.0466(4) Uani 1 1 d
O13 O 0.01188(9) 0.0668(3) 0.11337(7) 0.0612(4) Uani 1 1 d
H205 H -0.2714(15) -0.065(4) 0.0341(11) 0.059(5) Uiso 1 1 d
H10 H -0.1610(15) 0.580(4) -0.1310(12) 0.061(5) Uiso 1 1 d
H202 H -0.1503(13) 0.559(4) 0.1068(11) 0.051(4) Uiso 1 1 d
H7 H -0.4848(14) 0.386(4) -0.0797(11) 0.055(4) Uiso 1 1 d
H204 H -0.3332(15) 0.404(4) 0.1167(12) 0.067(5) Uiso 1 1 d
H203 H -0.1429(15) 0.046(4) 0.2015(12) 0.068(5) Uiso 1 1 d
H8 H -0.4896(16) 0.717(4) -0.1927(13) 0.069(5) Uiso 1 1 d
H9 H -0.3270(16) 0.827(4) -0.2172(14) 0.080(6) Uiso 1 1 d
H102 H -0.0401(16) 0.461(4) 0.1881(12) 0.067(5) Uiso 1 1 d
H105 H -0.4002(16) 0.002(4) 0.0085(12) 0.068(5) Uiso 1 1 d
H12 H -0.0952(17) 0.126(4) -0.0425(14) 0.072(6) Uiso 1 1 d
H104 H -0.3352(18) 0.099(5) 0.1569(15) 0.086(6) Uiso 1 1 d
H103 H -0.1707(16) 0.341(4) 0.2412(14) 0.075(6) Uiso 1 1 d
loop_
_atom_site_aniso_label
_atom_site_aniso_U_11
_atom_site_aniso_U_22
_atom_site_aniso_U_33
_atom_site_aniso_U_23
_atom_site_aniso_U_13
_atom_site_aniso_U_12
N12 0.0371(7) 0.0678(9) 0.0468(7) -0.0078(6) 0.0147(6) 0.0106(6)
C11 0.0376(7) 0.0492(8) 0.0384(7) -0.0079(6) 0.0121(6) 0.0043(6)
C10 0.0537(10) 0.0661(10) 0.0439(8) -0.0054(7) 0.0221(7) -0.0047(8)
C9 0.0733(11) 0.0581(10) 0.0390(8) 0.0032(7) 0.0158(8) 0.0032(8)
C8 0.0521(9) 0.0617(10) 0.0422(8) -0.0001(7) 0.0056(7) 0.0126(8)
C7 0.0372(8) 0.0584(9) 0.0459(8) -0.0035(7) 0.0101(6) 0.0046(7)
C6 0.0367(7) 0.0442(8) 0.0382(7) -0.0064(6) 0.0097(6) 0.0022(6)
C5 0.0426(9) 0.0540(9) 0.0542(9) 0.0055(7) 0.0145(7) -0.0012(7)
C4 0.0474(9) 0.0826(13) 0.0504(9) 0.0115(9) 0.0239(7) 0.0100(9)
C3 0.0519(10) 0.0767(12) 0.0404(8) 0.0008(8) 0.0167(7) 0.0122(8)
C2 0.0421(8) 0.0586(10) 0.0469(8) -0.0080(7) 0.0083(7) 0.0025(7)
C1 0.0326(7) 0.0561(9) 0.0503(8) -0.0001(7) 0.0143(6) 0.0014(6)
O13 0.0420(6) 0.0829(9) 0.0582(7) 0.0080(6) 0.0178(5) 0.0184(6)
loop_
_atom_type_symbol
_atom_type_description
_atom_type_scat_dispersion_real
_atom_type_scat_dispersion_imag
_atom_type_scat_source
C C 0.0033 0.0016 'International Tables Vol C Tables 4.2.6.8 and 6.1.1.4'
H H 0 0 'International Tables Vol C Tables 4.2.6.8 and 6.1.1.4'
O O 0.0106 0.006 'International Tables Vol C Tables 4.2.6.8 and 6.1.1.4'
N N 0.0061 0.0033 'International Tables Vol C Tables 4.2.6.8 and 6.1.1.4'
loop_
_geom_angle_atom_site_label_1
_geom_angle_atom_site_label_2
_geom_angle_atom_site_label_3
_geom_angle
C1 N12 C11 127.02(13)
C10 C11 C6 120.47(13)
C10 C11 N12 118.55(13)
C6 C11 N12 120.93(13)
C9 C10 C11 120.48(15)
C8 C9 C10 119.80(16)
C7 C8 C9 119.44(15)
C8 C7 C6 122.52(15)
C7 C6 C11 117.30(14)
C7 C6 C5 119.30(13)
C11 C6 C5 123.41(13)
C6 C5 C4 114.51(14)
C3 C4 C5 115.42(14)
C4 C3 C2 114.78(14)
C1 C2 C3 113.31(14)
O13 C1 N12 120.59(14)
O13 C1 C2 120.23(14)
N12 C1 C2 119.18(13)
loop_
_geom_bond_atom_site_label_1
_geom_bond_atom_site_label_2
_geom_bond_distance
N12 C1 1.348(2)
N12 C11 1.4239(19)
C11 C10 1.390(2)
C11 C6 1.394(2)
C10 C9 1.381(2)
C9 C8 1.378(3)
C8 C7 1.371(2)
C7 C6 1.393(2)
C6 C5 1.500(2)
C5 C4 1.538(2)
C4 C3 1.516(2)
C3 C2 1.531(2)
C2 C1 1.499(2)
C1 O13 1.2340(18)
loop_
_cod_related_entry_id
_cod_related_entry_database
_cod_related_entry_code
1 ChemSpider 10713513
