#------------------------------------------------------------------------------
#$Date: 2016-02-13 21:28:24 +0200 (Sat, 13 Feb 2016) $
#$Revision: 176429 $
#$URL: svn://www.crystallography.net/cod/cif/4/03/16/4031661.cif $
#------------------------------------------------------------------------------
#
# This file is available in the Crystallography Open Database (COD),
# http://www.crystallography.net/
#
# All data on this site have been placed in the public domain by the
# contributors.
#
data_4031661
loop_
_publ_author_name
'Penneman, R.A.'
'Staritzky, E.'
_publ_section_title
;
 Infra-red and crystallographic investigation of the Tl C N - K C N - H2 O
 system; the lack of Tl (I)-cyanide complexes
;
_journal_name_full               'Journal of Inorganic and Nuclear Chemistry'
_journal_page_first              112
_journal_page_last               118
_journal_volume                  6
_journal_year                    1958
_chemical_formula_sum            'C Tl'
_chemical_name_systematic        'Tl C N'
_space_group_IT_number           221
_symmetry_space_group_name_Hall  '-P 4 2 3'
_symmetry_space_group_name_H-M   'P m -3 m'
_cell_angle_alpha                90
_cell_angle_beta                 90
_cell_angle_gamma                90
_cell_formula_units_Z            1
_cell_length_a                   3.994
_cell_length_b                   3.994
_cell_length_c                   3.994
_cell_volume                     63.712
_citation_journal_id_ASTM        JINCAO
_cod_data_source_file            Penneman_JINCAO_1958_1991.cif
_cod_data_source_block           C1Tl1
_cod_original_cell_volume        63.71243
_cod_original_formula_sum        'C1 Tl1'
_cod_database_code               4031661
loop_
_symmetry_equiv_pos_as_xyz
x,y,z
-y,x,z
-x,-y,z
y,-x,z
x,-y,-z
y,x,-z
-x,y,-z
-y,-x,-z
z,x,y
-x,z,y
-z,-x,y
x,-z,y
z,-x,-y
x,z,-y
-z,x,-y
-x,-z,-y
y,z,x
y,-z,-x
z,y,-x
-y,z,-x
-z,-y,-x
-y,-z,x
z,-y,x
-z,y,x
-x,-y,-z
y,-x,-z
x,y,-z
-y,x,-z
-x,y,z
-y,-x,z
x,-y,z
y,x,z
-z,-x,-y
x,-z,-y
z,x,-y
-x,z,-y
-z,x,y
-x,-z,y
z,-x,y
x,z,y
-y,-z,-x
-y,z,x
-z,-y,x
y,-z,x
z,y,x
y,z,-x
-z,y,-x
z,-y,-x
loop_
_atom_site_label
_atom_site_type_symbol
_atom_site_fract_x
_atom_site_fract_y
_atom_site_fract_z
_atom_site_occupancy
_atom_site_U_iso_or_equiv
Tl1 Tl+1 0 0 0 1 0.0
C1 C+2 0.5 0.5 0.5 1 0.0
