#------------------------------------------------------------------------------
#$Date: 2016-03-21 07:33:06 +0200 (Mon, 21 Mar 2016) $
#$Revision: 178570 $
#$URL: svn://www.crystallography.net/cod/cif/4/06/79/4067986.cif $
#------------------------------------------------------------------------------
#
# This file is available in the Crystallography Open Database (COD),
# http://www.crystallography.net/
#
# All data on this site have been placed in the public domain by the
# contributors.
#
data_4067986
loop_
_publ_author_name
'Böttcher, Tobias'
'Shyshkov, Oleg'
'Bremer, Matthias'
'Bassil, Bassem S.'
'Röschenthaler, Gerd-Volker'
_publ_section_title
;
 Carbene Complexes of Phosphorus(V) Fluorides by Oxidative Addition of
 2,2-Difluorobis(dialkylamines) to Phosphorus(III) Halides
;
_journal_issue                   4
_journal_name_full               Organometallics
_journal_page_first              1278
_journal_paper_doi               10.1021/om2009827
_journal_volume                  31
_journal_year                    2012
_chemical_formula_sum            'C5 H12 F5 N2 P'
_chemical_formula_weight         226.14
_chemical_name_systematic
; 
 ? 
;
_space_group_IT_number           9
_symmetry_cell_setting           monoclinic
_symmetry_space_group_name_Hall  'C -2yc'
_symmetry_space_group_name_H-M   'C 1 c 1'
_atom_sites_solution_hydrogens   geom
_atom_sites_solution_primary     direct
_atom_sites_solution_secondary   difmap
_audit_creation_method           SHELXL-97
_cell_angle_alpha                90.00
_cell_angle_beta                 99.377(2)
_cell_angle_gamma                90.00
_cell_formula_units_Z            4
_cell_length_a                   6.1807(2)
_cell_length_b                   13.8148(5)
_cell_length_c                   10.7253(4)
_cell_measurement_reflns_used    9970
_cell_measurement_temperature    173(2)
_cell_measurement_theta_max      30.06
_cell_measurement_theta_min      2.95
_cell_volume                     903.54(6)
_computing_cell_refinement       'Bruker SAINT'
_computing_data_collection       'Bruker APEX2'
_computing_data_reduction        'Bruker SAINT'
_computing_molecular_graphics    'Bruker SHELXTL'
_computing_publication_material  'Bruker SHELXTL'
_computing_structure_refinement  'SHELXL-97 (Sheldrick, 2008)'
_computing_structure_solution    'SHELXS-97 (Sheldrick, 2008)'
_diffrn_ambient_temperature      173(2)
_diffrn_measured_fraction_theta_full 0.999
_diffrn_measured_fraction_theta_max 0.999
_diffrn_measurement_device_type  'Bruker APEX-II CCD'
_diffrn_measurement_method       'φ and ω scans'
_diffrn_radiation_monochromator  graphite
_diffrn_radiation_source         'fine-focus sealed tube'
_diffrn_radiation_type           MoK\a
_diffrn_radiation_wavelength     0.71073
_diffrn_reflns_av_R_equivalents  0.0493
_diffrn_reflns_av_sigmaI/netI    0.0230
_diffrn_reflns_limit_h_max       8
_diffrn_reflns_limit_h_min       -8
_diffrn_reflns_limit_k_max       19
_diffrn_reflns_limit_k_min       -19
_diffrn_reflns_limit_l_max       15
_diffrn_reflns_limit_l_min       -15
_diffrn_reflns_number            27386
_diffrn_reflns_theta_full        30.51
_diffrn_reflns_theta_max         30.51
_diffrn_reflns_theta_min         3.52
_exptl_absorpt_coefficient_mu    0.342
_exptl_absorpt_correction_T_max  0.9134
_exptl_absorpt_correction_T_min  0.8062
_exptl_absorpt_correction_type   multi-scan
_exptl_absorpt_process_details   SADABS
_exptl_crystal_colour            colourless
_exptl_crystal_density_diffrn    1.662
_exptl_crystal_density_method    'not measured'
_exptl_crystal_description       Block
_exptl_crystal_F_000             464
_exptl_crystal_size_max          0.76
_exptl_crystal_size_mid          0.33
_exptl_crystal_size_min          0.27
_refine_diff_density_max         0.169
_refine_diff_density_min         -0.361
_refine_diff_density_rms         0.061
_refine_ls_abs_structure_details 'Flack H D (1983), Acta Cryst. A39, 876-881'
_refine_ls_abs_structure_Flack   -0.04(6)
_refine_ls_extinction_method     none
_refine_ls_goodness_of_fit_ref   1.011
_refine_ls_hydrogen_treatment    refall
_refine_ls_matrix_type           full
_refine_ls_number_parameters     166
_refine_ls_number_reflns         2726
_refine_ls_number_restraints     2
_refine_ls_restrained_S_all      1.011
_refine_ls_R_factor_all          0.0267
_refine_ls_R_factor_gt           0.0247
_refine_ls_shift/su_max          0.001
_refine_ls_shift/su_mean         0.000
_refine_ls_structure_factor_coef Fsqd
_refine_ls_weighting_details
'calc w=1/[σ²(Fo²)+(0.0440P)²+0.0400P] where P=(Fo²+2Fc²)/3'
_refine_ls_weighting_scheme      calc
_refine_ls_wR_factor_gt          0.0614
_refine_ls_wR_factor_ref         0.0632
_reflns_number_gt                2615
_reflns_number_total             2726
_reflns_threshold_expression     >2sigma(I)
_cod_data_source_file            om2009827_si_003.cif
_cod_data_source_block           ADC-PF5
_cod_depositor_comments
;
The following automatic conversions were performed:

'_symmetry_cell_setting' value 'Monoclinic' changed to 'monoclinic'
according to /home/saulius/struct/CIF-dictionaries/cif_core.dic
dictionary named 'cif_core.dic' version 2.4.1 from 2010-06-29.

Automatic conversion script
Id: cif_fix_values 1715 2011-07-08 13:25:40Z adriana 
;
_cod_original_sg_symbol_H-M      Cc
_cod_database_code               4067986
loop_
_symmetry_equiv_pos_as_xyz
'x, y, z'
'x, -y, z+1/2'
'x+1/2, y+1/2, z'
'x+1/2, -y+1/2, z+1/2'
loop_
_atom_site_label
_atom_site_type_symbol
_atom_site_fract_x
_atom_site_fract_y
_atom_site_fract_z
_atom_site_U_iso_or_equiv
_atom_site_adp_type
_atom_site_occupancy
_atom_site_symmetry_multiplicity
_atom_site_calc_flag
P1 P 0.83276(5) 0.577114(19) 0.20872(3) 0.02022(7) Uani 1 1 d
F1 F 0.80596(15) 0.61789(5) 0.34657(7) 0.02949(17) Uani 1 1 d
F2 F 1.06612(14) 0.62973(6) 0.21692(8) 0.03214(19) Uani 1 1 d
F3 F 0.59768(12) 0.52530(6) 0.19921(8) 0.02874(17) Uani 1 1 d
F4 F 0.85732(15) 0.53683(6) 0.07060(7) 0.03067(18) Uani 1 1 d
F5 F 0.71434(16) 0.67296(6) 0.14495(9) 0.03343(19) Uani 1 1 d
N1 N 1.16434(16) 0.46739(8) 0.36438(11) 0.0246(2) Uani 1 1 d
N2 N 0.88484(18) 0.37478(7) 0.26287(10) 0.02201(19) Uani 1 1 d
C1 C 0.97451(19) 0.46284(8) 0.28568(11) 0.0185(2) Uani 1 1 d
C2 C 1.2488(3) 0.55127(11) 0.44120(17) 0.0349(3) Uani 1 1 d
H3C2 H 1.285(4) 0.5279(17) 0.522(2) 0.047(6) Uiso 1 1 d
H2C2 H 1.141(4) 0.6000(17) 0.446(2) 0.044(6) Uiso 1 1 d
H1C2 H 1.354(4) 0.5791(17) 0.401(2) 0.045(6) Uiso 1 1 d
C3 C 1.3227(2) 0.38700(12) 0.37933(18) 0.0376(3) Uani 1 1 d
H3C3 H 1.464(4) 0.4140(17) 0.371(2) 0.044(6) Uiso 1 1 d
H2C3 H 1.337(4) 0.3530(18) 0.457(3) 0.050(6) Uiso 1 1 d
H1C3 H 1.279(4) 0.3381(17) 0.305(2) 0.049(6) Uiso 1 1 d
C4 C 0.9078(2) 0.29805(8) 0.35908(13) 0.0254(2) Uani 1 1 d
H3C4 H 0.944(3) 0.3255(14) 0.4383(18) 0.027(4) Uiso 1 1 d
H2C4 H 0.999(3) 0.2438(15) 0.3409(18) 0.035(5) Uiso 1 1 d
H1C4 H 0.756(4) 0.2708(17) 0.359(2) 0.046(6) Uiso 1 1 d
C5 C 0.7441(3) 0.34409(10) 0.14567(14) 0.0321(3) Uani 1 1 d
H3C5 H 0.743(3) 0.3875(15) 0.084(2) 0.035(5) Uiso 1 1 d
H2C5 H 0.593(4) 0.3383(16) 0.157(2) 0.044(5) Uiso 1 1 d
H1C5 H 0.808(4) 0.2861(18) 0.115(2) 0.055(7) Uiso 1 1 d
loop_
_atom_site_aniso_label
_atom_site_aniso_U_11
_atom_site_aniso_U_22
_atom_site_aniso_U_33
_atom_site_aniso_U_23
_atom_site_aniso_U_13
_atom_site_aniso_U_12
P1 0.02441(13) 0.01661(11) 0.01894(11) 0.00232(10) 0.00145(9) 0.00189(10)
F1 0.0410(4) 0.0237(3) 0.0226(4) -0.0026(3) 0.0018(3) 0.0090(3)
F2 0.0320(4) 0.0227(3) 0.0407(5) 0.0091(3) 0.0029(4) -0.0078(3)
F3 0.0208(4) 0.0316(4) 0.0319(4) 0.0043(3) -0.0018(3) 0.0009(3)
F4 0.0471(5) 0.0270(4) 0.0188(3) 0.0026(3) 0.0081(3) 0.0027(3)
F5 0.0446(5) 0.0229(3) 0.0301(4) 0.0060(3) -0.0019(3) 0.0101(3)
N1 0.0200(5) 0.0213(4) 0.0312(5) 0.0053(4) 0.0002(4) -0.0004(4)
N2 0.0291(5) 0.0161(4) 0.0209(4) 0.0006(3) 0.0041(4) 0.0001(4)
C1 0.0202(5) 0.0184(5) 0.0176(5) 0.0007(4) 0.0052(4) 0.0008(4)
C2 0.0307(6) 0.0294(6) 0.0385(7) 0.0045(6) -0.0120(6) -0.0088(5)
C3 0.0224(6) 0.0343(7) 0.0551(10) 0.0137(7) 0.0034(6) 0.0078(5)
C4 0.0347(6) 0.0155(5) 0.0269(6) 0.0033(4) 0.0071(5) 0.0000(5)
C5 0.0458(8) 0.0236(6) 0.0240(6) -0.0037(5) -0.0029(6) -0.0062(6)
loop_
_atom_type_symbol
_atom_type_description
_atom_type_scat_dispersion_real
_atom_type_scat_dispersion_imag
_atom_type_scat_source
C C 0.0033 0.0016 'International Tables Vol C Tables 4.2.6.8 and 6.1.1.4'
H H 0.0000 0.0000 'International Tables Vol C Tables 4.2.6.8 and 6.1.1.4'
N N 0.0061 0.0033 'International Tables Vol C Tables 4.2.6.8 and 6.1.1.4'
F F 0.0171 0.0103 'International Tables Vol C Tables 4.2.6.8 and 6.1.1.4'
P P 0.1023 0.0942 'International Tables Vol C Tables 4.2.6.8 and 6.1.1.4'
loop_
_geom_angle_atom_site_label_1
_geom_angle_atom_site_label_2
_geom_angle_atom_site_label_3
_geom_angle
F2 P1 F3 179.31(5)
F2 P1 F5 89.60(5)
F3 P1 F5 89.75(5)
F2 P1 F4 89.33(5)
F3 P1 F4 90.43(5)
F5 P1 F4 89.87(5)
F2 P1 F1 90.98(5)
F3 P1 F1 89.26(5)
F5 P1 F1 89.70(4)
F4 P1 F1 179.47(6)
F2 P1 C1 90.33(5)
F3 P1 C1 90.32(4)
F5 P1 C1 179.74(5)
F4 P1 C1 90.37(5)
F1 P1 C1 90.05(5)
C1 N1 C2 126.13(11)
C1 N1 C3 122.38(12)
C2 N1 C3 111.43(12)
C1 N2 C4 122.39(11)
C1 N2 C5 125.91(10)
C4 N2 C5 111.61(10)
N1 C1 N2 116.97(11)
N1 C1 P1 121.74(8)
N2 C1 P1 121.29(9)
loop_
_geom_bond_atom_site_label_1
_geom_bond_atom_site_label_2
_geom_bond_distance
P1 F2 1.6047(9)
P1 F3 1.6080(8)
P1 F5 1.6104(8)
P1 F4 1.6126(8)
P1 F1 1.6156(8)
P1 C1 1.9249(12)
N1 C1 1.3306(16)
N1 C2 1.4676(18)
N1 C3 1.4715(17)
N2 C1 1.3427(14)
N2 C4 1.4700(15)
N2 C5 1.4698(18)
