#------------------------------------------------------------------------------
#$Date: 2016-03-21 17:15:20 +0200 (Mon, 21 Mar 2016) $
#$Revision: 178775 $
#$URL: svn://www.crystallography.net/cod/cif/4/10/29/4102919.cif $
#------------------------------------------------------------------------------
#
# This file is available in the Crystallography Open Database (COD),
# http://www.crystallography.net/
#
# All data on this site have been placed in the public domain by the
# contributors.
#
data_4102919
loop_
_publ_author_name
'Panče Naumov'
'Petre Makreski'
'Gjorgji Petruševski'
'Tomče Runčevski'
'Gligor Jovanovski'
_publ_section_title
;
 Visualization of a Discrete Solid-State Process with Steady-State X-ray
 Diffraction: Observation of Hopping of Sulfur Atoms in Single Crystals of
 Realgar
;
_journal_name_full               'Journal of the American Chemical Society'
_journal_page_first              11398
_journal_page_last               11401
_journal_paper_doi               10.1021/ja1030672
_journal_volume                  132
_journal_year                    2010
_chemical_formula_sum            'As4 S4'
_chemical_formula_weight         427.92
_chemical_name_systematic
;
 ?
;
_space_group_IT_number           14
_symmetry_cell_setting           monoclinic
_symmetry_space_group_name_Hall  '-P 2yn'
_symmetry_space_group_name_H-M   'P 1 21/n 1'
_atom_sites_solution_hydrogens   geom
_atom_sites_solution_primary     direct
_atom_sites_solution_secondary   difmap
_audit_creation_method           SHELXL-97
_cell_angle_alpha                90.00
_cell_angle_beta                 106.4220(10)
_cell_angle_gamma                90.00
_cell_formula_units_Z            4
_cell_length_a                   9.3303(2)
_cell_length_b                   13.5634(3)
_cell_length_c                   6.58880(10)
_cell_measurement_temperature    293(2)
_cell_volume                     799.80(3)
_computing_structure_refinement  'SHELXL-97 (Sheldrick, 1997)'
_diffrn_ambient_temperature      293(2)
_diffrn_measured_fraction_theta_full 0.749
_diffrn_measured_fraction_theta_max 0.749
_diffrn_radiation_monochromator  graphite
_diffrn_radiation_source         'fine-focus sealed tube'
_diffrn_radiation_type           MoK\a
_diffrn_radiation_wavelength     0.71073
_diffrn_reflns_av_R_equivalents  0.0428
_diffrn_reflns_av_sigmaI/netI    0.0527
_diffrn_reflns_limit_h_max       19
_diffrn_reflns_limit_h_min       -18
_diffrn_reflns_limit_k_max       26
_diffrn_reflns_limit_k_min       -26
_diffrn_reflns_limit_l_max       10
_diffrn_reflns_limit_l_min       -12
_diffrn_reflns_number            14935
_diffrn_reflns_theta_full        49.87
_diffrn_reflns_theta_max         49.87
_diffrn_reflns_theta_min         7.89
_exptl_absorpt_coefficient_mu    17.508
_exptl_crystal_density_diffrn    3.554
_exptl_crystal_density_method    'not measured'
_exptl_crystal_F_000             784
_refine_diff_density_max         2.429
_refine_diff_density_min         -2.983
_refine_diff_density_rms         0.270
_refine_ls_extinction_method     none
_refine_ls_goodness_of_fit_ref   1.007
_refine_ls_hydrogen_treatment    mixed
_refine_ls_matrix_type           full
_refine_ls_number_parameters     73
_refine_ls_number_reflns         6246
_refine_ls_number_restraints     0
_refine_ls_restrained_S_all      1.007
_refine_ls_R_factor_all          0.0925
_refine_ls_R_factor_gt           0.0603
_refine_ls_shift/su_max          0.001
_refine_ls_shift/su_mean         0.000
_refine_ls_structure_factor_coef Fsqd
_refine_ls_weighting_details
'calc w=1/[σ²(Fo²)+(0.0971P)²+1.1935P] where P=(Fo²+2Fc²)/3'
_refine_ls_weighting_scheme      calc
_refine_ls_wR_factor_gt          0.1586
_refine_ls_wR_factor_ref         0.1799
_reflns_number_gt                4069
_reflns_number_total             6246
_reflns_threshold_expression     >2sigma(I)
_cod_data_source_file            ja1030672_re4-24.cif
_cod_data_source_block           re4-24
_cod_database_code               4102919
loop_
_symmetry_equiv_pos_as_xyz
'x, y, z'
'-x+1/2, y+1/2, -z+1/2'
'-x, -y, -z'
'x-1/2, -y-1/2, z-1/2'
loop_
_atom_site_label
_atom_site_type_symbol
_atom_site_fract_x
_atom_site_fract_y
_atom_site_fract_z
_atom_site_U_iso_or_equiv
_atom_site_adp_type
_atom_site_occupancy
_atom_site_symmetry_multiplicity
_atom_site_calc_flag
As3 As 0.17916(4) 0.62657(3) 0.32251(6) 0.02762(9) Uani 1 1 d
As1 As 0.37843(4) 0.47938(3) 0.73634(7) 0.02814(9) Uani 1 1 d
As2 As 0.07622(4) 0.63906(3) 0.64376(7) 0.02776(9) Uani 1 1 d
As4 As 0.46022(4) 0.66090(3) 0.78532(7) 0.02980(10) Uani 1 1 d
S2 S 0.28566(11) 0.47680(8) 0.38444(17) 0.02949(17) Uani 1 1 d
S1 S 0.15507(11) 0.49416(8) 0.79896(17) 0.03027(17) Uani 1 1 d
S3 S 0.26104(12) 0.72599(8) 0.86036(18) 0.03210(18) Uani 1 1 d
S4 S 0.39310(11) 0.70986(9) 0.44833(18) 0.03295(19) Uani 1 1 d
loop_
_atom_site_aniso_label
_atom_site_aniso_U_11
_atom_site_aniso_U_22
_atom_site_aniso_U_33
_atom_site_aniso_U_23
_atom_site_aniso_U_13
_atom_site_aniso_U_12
As3 0.02126(13) 0.03279(19) 0.02599(19) 0.00356(11) 0.00209(11) 0.00132(12)
As1 0.02398(14) 0.02648(18) 0.0309(2) 0.00338(11) 0.00282(12) 0.00435(12)
As2 0.01921(12) 0.02806(18) 0.0359(2) -0.00166(12) 0.00765(12) 0.00135(11)
As4 0.02031(13) 0.0322(2) 0.0330(2) -0.00227(12) 0.00126(12) -0.00555(12)
S2 0.0248(3) 0.0309(4) 0.0314(4) -0.0049(3) 0.0057(3) 0.0020(3)
S1 0.0284(3) 0.0286(4) 0.0347(5) 0.0026(3) 0.0103(3) -0.0039(3)
S3 0.0317(4) 0.0282(4) 0.0360(5) -0.0081(3) 0.0089(3) -0.0041(3)
S4 0.0269(3) 0.0355(5) 0.0368(5) 0.0057(3) 0.0096(3) -0.0066(3)
loop_
_atom_type_symbol
_atom_type_description
_atom_type_scat_dispersion_real
_atom_type_scat_dispersion_imag
_atom_type_scat_source
S S 0.1246 0.1234 'International Tables Vol C Tables 4.2.6.8 and 6.1.1.4'
As As 0.0499 2.0058 'International Tables Vol C Tables 4.2.6.8 and 6.1.1.4'
loop_
_geom_angle_atom_site_label_1
_geom_angle_atom_site_label_2
_geom_angle_atom_site_label_3
_geom_angle
S4 As3 S2 94.97(4)
S4 As3 As2 99.42(3)
S2 As3 As2 99.17(3)
S2 As1 S1 94.86(4)
S2 As1 As4 99.17(3)
S1 As1 As4 98.59(3)
S3 As2 S1 94.40(4)
S3 As2 As3 99.22(3)
S1 As2 As3 99.64(3)
S4 As4 S3 94.91(4)
S4 As4 As1 99.81(4)
S3 As4 As1 99.80(3)
As1 S2 As3 101.30(4)
As2 S1 As1 101.33(4)
As4 S3 As2 100.94(4)
As4 S4 As3 100.86(4)
loop_
_geom_bond_atom_site_label_1
_geom_bond_atom_site_label_2
_geom_bond_distance
As3 S4 2.2388(11)
As3 S2 2.2475(11)
As3 As2 2.5653(6)
As1 S2 2.2342(11)
As1 S1 2.2450(11)
As1 As4 2.5708(6)
As2 S3 2.2381(11)
As2 S1 2.2414(12)
As4 S4 2.2309(12)
As4 S3 2.2354(12)
