#------------------------------------------------------------------------------
#$Date: 2016-03-21 18:01:52 +0200 (Mon, 21 Mar 2016) $
#$Revision: 178799 $
#$URL: svn://www.crystallography.net/cod/cif/4/10/53/4105341.cif $
#------------------------------------------------------------------------------
#
# This file is available in the Crystallography Open Database (COD),
# http://www.crystallography.net/
#
# All data on this site have been placed in the public domain by the
# contributors.
#
data_4105341
loop_
_publ_author_name
'Masaki Mito'
'Yuki Komorida'
'Hideki Tsuruda'
'John S. Tse'
'Serge Desgreniers'
'Yauso Ohishi'
'Alicea A. Leitch'
'Kristina Cvrkalj'
'Craig M. Robertson'
'Richard T. Oakley'
_publ_contact_author_address
; Department of Chemistry
University of Waterloo
Waterloo, ON N2L 3G1 Canada
;
_publ_contact_author_email       oakley@uwaterloo.ca
_publ_contact_author_fax         519-746-0435
_publ_contact_author_name        'Richard Oakley'
_publ_contact_author_phone       519-888-4582
_publ_section_title
;
 Heavy Atom Ferromagnets under Pressure: Structural Changes and the
 Magnetic Response
;
_journal_name_full               'Journal of the American Chemical Society'
_journal_page_first              16012
_journal_page_last               16013
_journal_paper_doi               10.1021/ja908238w
_journal_volume                  131
_journal_year                    2009
_chemical_formula_moiety         'C7 H5 Cl N3 Se4'
_chemical_formula_sum            'C7 H5 Cl N3 Se4'
_chemical_formula_weight         482.43
_chemical_name_common            ClBPSSEt
_chemical_name_systematic        ' ?'
_space_group_IT_number           113
_symmetry_cell_setting           tetragonal
_symmetry_space_group_name_Hall  'P -4 2ab'
_symmetry_space_group_name_H-M   'P -4 21 m'
_cell_angle_alpha                90.0
_cell_angle_beta                 90.0
_cell_angle_gamma                90.0
_cell_formula_units_Z            4
_cell_length_a                   15.78087(28)
_cell_length_b                   15.78087
_cell_length_c                   3.69090(8)
_cell_measurement_temperature    293(2)
_cell_volume                     919.17(3)
_computing_structure_refinement  GSAS
_diffrn_ambient_temperature      293(2)
_diffrn_radiation_polarisn_ratio 0.95
_diffrn_radiation_probe          x-ray
_diffrn_radiation_type           synchrotron
_diffrn_radiation_wavelength     0.51446
_diffrn_source                   synchrotron
_diffrn_source_type              'Spring-8 BL10XU'
_exptl_absorpt_process_details
;   GSAS Absorption/surface roughness correction: function number 0
 No correction is applied.
;
_exptl_crystal_colour            black
_exptl_crystal_density_diffrn    3.486
_pd_calc_method                  'Rietveld Refinement'
_pd_phase_name                   'clbpsset 4.5GPa'
_pd_proc_info_datetime           2009-09-17T18:17:15
_pd_proc_ls_background_function
;   GSAS Background function number 1 with 10 terms.
 Shifted Chebyshev function of 1st kind
      1:    42410.0     2:    25955.6     3:   -2603.97     4:   -911.305    
      5:   -665.274     6:   -25.5821     7:   -156.673     8:    316.948    
      9:    295.650    10:    119.450    
;
_pd_proc_ls_peak_cutoff          0.00100
_pd_proc_ls_profile_function
;
 CW Profile function number 2 with  18 terms
 Profile coefficients for Simpson's rule integration of pseudovoigt function
 C.J. Howard (1982). J. Appl. Cryst.,15,615-620.
 P. Thompson, D.E. Cox & J.B. Hastings (1987). J. Appl. Cryst.,20,79-83.
 Peak tails are ignored  where the intensity is below 0.0010 times the peak
   Aniso. broadening axis   0.0   0.0   1.0
;
_pd_proc_ls_prof_R_factor        0.0150
_pd_proc_ls_prof_wR_expected     0.0045
_pd_proc_ls_prof_wR_factor       0.0242
_refine_ls_matrix_type           full
_refine_ls_number_parameters     11
_refine_ls_number_restraints     0
_refine_ls_R_Fsqd_factor         0.07402
_refine_ls_shift/su_max          0.01
_refine_ls_shift/su_mean         0.00
_reflns_d_resolution_high        1.504
_reflns_d_resolution_low         7.890
_reflns_limit_h_max              11
_reflns_limit_h_min              0
_reflns_limit_k_max              7
_reflns_limit_k_min              0
_reflns_limit_l_max              2
_reflns_limit_l_min              0
_reflns_number_total             112
_cod_data_source_file            ja908238w_si_006.cif
_cod_data_source_block           ClBPSSEt_4.5GPa
_cod_depositor_comments
;
The following automatic conversions were performed:

'_geom_bond_publ_flag' value 'N' changed to 'n' according to the
built-in table from CIF Core dictionary named 'cif_core.dic' version
2.4.1 from 2010-06-29 (14 times).

'_geom_angle_publ_flag' value 'N'
changed to 'n' according to the built-in table from CIF Core
dictionary named 'cif_core.dic' version 2.4.1 from 2010-06-29 (27
times).

Automatic conversion script
Id: cif_fix_values 1715 2011-07-08 13:25:40Z adriana 
;
_cod_original_cell_volume        919.17(2)
_cod_database_code               4105341
_cod_database_fobs_code          4105341
loop_
_symmetry_equiv_pos_site_id
_symmetry_equiv_pos_as_xyz
1 +x,+y,+z
2 +y,-x,-z
3 -x,-y,+z
4 -y,+x,-z
5 -x+1/2,+y+1/2,-z
6 +y+1/2,+x+1/2,+z
7 +x+1/2,-y+1/2,-z
8 -y+1/2,-x+1/2,+z
loop_
_atom_site_type_symbol
_atom_site_label
_atom_site_fract_x
_atom_site_fract_y
_atom_site_fract_z
_atom_site_occupancy
_atom_site_thermal_displace_type
_atom_site_U_iso_or_equiv
_atom_site_symmetry_multiplicity
_atom_site_refinement_flags
Se Se1 0.0953 0.05807 0.25414 1.0 Uiso 0.0277 8 G
Se Se2 0.22789 0.01622 0.01627 1.0 Uiso 0.0343 8 G
Cl Cl1 0.42059 0.07941 -0.12912 1.0 Uiso 0.0277 4 G
C C1 0.21104 0.17831 0.34105 1.0 Uiso 0.0277 8 G
C C3 0.3511 0.14891 0.07876 1.0 Uiso 0.0277 4 G
N N1 0.13171 0.16133 0.4089 1.0 Uiso 0.0277 8 G
C C2 0.26934 0.12242 0.15517 1.0 Uiso 0.0277 8 G
N N2 0.24266 0.25734 0.45262 1.0 Uiso 0.0277 4 G
C C5 0.12968 0.37033 0.44822 1.0 Uiso 0.0277 4 G
H H5A 0.09569 0.40432 0.60753 1.0 Uiso 0.0277 4 G
H H5B 0.09333 0.33686 0.29687 1.0 Uiso 0.0277 8 G
C C4 0.18828 0.31173 0.6731 1.0 Uiso 0.0277 4 G
H H4 0.1532 0.27676 0.82594 1.0 Uiso 0.0277 8 G
loop_
_atom_type_symbol
_atom_type_number_in_cell
_atom_type_scat_dispersion_real
_atom_type_scat_dispersion_imag
_atom_type_scat_Cromer_Mann_a1
_atom_type_scat_Cromer_Mann_a2
_atom_type_scat_Cromer_Mann_a3
_atom_type_scat_Cromer_Mann_a4
_atom_type_scat_Cromer_Mann_b1
_atom_type_scat_Cromer_Mann_b2
_atom_type_scat_Cromer_Mann_b3
_atom_type_scat_Cromer_Mann_b4
_atom_type_scat_Cromer_Mann_c
_atom_type_scat_source
Se 16.0 0.000 0.000 17.0006 2.40980 5.81960 0.27260 3.97310 15.2372 4.35430
43.8163 2.84090 International_Tables_Vol_C
Cl 4.0 0.000 0.000 11.4604 0.01040 7.19640 1.16620 6.25560 18.5194 1.64550
47.7784 -9.5574 International_Tables_Vol_C
C 28.0 0.000 0.000 2.31000 20.8439 1.02000 10.2075 1.58860 0.56870 0.86500
51.6512 0.21560 International_Tables_Vol_C
N 12.0 0.000 0.000 12.2126 0.00570 3.13220 9.89330 2.01250 28.9975 1.16630
0.58260 -11.529 International_Tables_Vol_C
H 20.0 0.000 0.000 0.49300 10.5109 0.32291 26.1257 0.14019 3.14236 0.04081
57.7997 0.00304 International_Tables_Vol_C
loop_
_geom_angle_atom_site_label_1
_geom_angle_atom_site_label_2
_geom_angle_atom_site_label_3
_geom_angle
_geom_angle_site_symmetry_1
_geom_angle_site_symmetry_3
_geom_angle_publ_flag
Se2 Se1 N1 95.00800 1_555 1_555 n
Se1 Se2 C2 87.55930 1_555 1_555 n
N1 C1 C2 125.15670 1_555 1_555 n
N1 C1 N2 117.83340 1_555 1_555 n
C2 C1 N2 117.00570 1_555 1_555 n
Cl1 C3 C2 119.29230 1_555 1_555 n
Cl1 C3 C2 119.30420 1_555 8_555 n
C2 C3 C2 121.37350 1_555 8_555 n
Se1 N1 C1 115.25650 1_555 1_555 n
Se2 C2 C1 116.97200 1_555 1_555 n
Se2 C2 C3 122.69980 1_555 1_555 n
C1 C2 C3 120.30690 1_555 1_555 n
C1 N2 C1 122.9987 1_555 8_555 n
C1 N2 C4 118.42710 1_555 1_555 n
C1 N2 C4 118.41840 8_555 1_555 n
H5A C5 H5B 109.2872 1_555 1_555 n
H5A C5 H5B 109.2910 1_555 8_555 n
H5A C5 C4 109.8178 1_555 1_555 n
H5B C5 H5B 108.6215 1_555 8_555 n
H5B C5 C4 109.8983 1_555 1_555 n
H5B C5 C4 109.9022 8_555 1_555 n
N2 C4 C5 113.7579 1_555 1_555 n
N2 C4 H4 109.0798 1_555 1_555 n
N2 C4 H4 109.0910 1_555 8_555 n
C5 C4 H4 108.2103 1_555 1_555 n
C5 C4 H4 108.2138 1_555 8_555 n
H4 C4 H4 108.3575 1_555 8_555 n
loop_
_geom_bond_atom_site_label_1
_geom_bond_atom_site_label_2
_geom_bond_distance
_geom_bond_site_symmetry_2
_geom_bond_publ_flag
Se1 Se2 2.36327 1_555 n
Se1 N1 1.819830 1_555 n
Se2 C2 1.870680 1_555 n
Cl1 C3 1.730360 1_555 n
C1 N1 1.304520 1_555 n
C1 C2 1.447430 1_555 n
C1 N2 1.404980 1_555 n
C3 C2 1.385290 1_555 n
N2 C4 1.461290 1_555 n
C5 H5A 0.959780 1_555 n
C5 H5B 0.959210 1_555 n
C5 H5B 0.959030 8_555 n
C5 C4 1.548960 1_555 n
C4 H4 0.963970 1_555 n
