#------------------------------------------------------------------------------
#$Date: 2016-03-21 18:12:35 +0200 (Mon, 21 Mar 2016) $
#$Revision: 178805 $
#$URL: svn://www.crystallography.net/cod/cif/4/10/59/4105972.cif $
#------------------------------------------------------------------------------
#
# This file is available in the Crystallography Open Database (COD),
# http://www.crystallography.net/
#
# All data on this site have been placed in the public domain by the
# contributors.
#
data_4105972
loop_
_publ_author_name
'Alicea A. Leitch'
'Kristina Lekin'
'Stephen M. Winter'
'Laura E. Downie'
'Hideki Tsuruda'
'John S. Tse'
'Masaki Mito'
'Serge Desgreniers'
'Paul A. Dube'
'Sijia Zhang'
'Qingqing Liu'
'Changqing Jin'
'Yasuo Ohishi'
'Richard T. Oakley'
_publ_contact_author_address
; Department of Chemistry
University of Waterloo
Waterloo, ON N2L 3G1 Canada
;
_publ_contact_author_email       oakley@uwaterloo.ca
_publ_contact_author_fax         519-746-0435
_publ_contact_author_name        Oakley
_publ_contact_author_phone       519-888-4582
_publ_section_title
;
 From Magnets to Metals: The Response of Tetragonal Bisdiselenazolyl
 Radicals to Pressure
;
_journal_name_full               'Journal of the American Chemical Society'
_journal_page_first              6051
_journal_page_last               6060
_journal_paper_doi               10.1021/ja200391j
_journal_volume                  133
_journal_year                    2011
_chemical_formula_moiety         'C7 H5 Cl N3 Se4'
_chemical_formula_sum            'C7 H5 Cl N3 Se4'
_chemical_formula_weight         482.43
_chemical_name_common            ClBPSSEt
_chemical_name_systematic        ' ?'
_space_group_IT_number           113
_symmetry_cell_setting           tetragonal
_symmetry_space_group_name_Hall  'P -4 2ab'
_symmetry_space_group_name_H-M   'P -4 21 m'
_cell_angle_alpha                90.0
_cell_angle_beta                 90.0
_cell_angle_gamma                90.0
_cell_formula_units_Z            4
_cell_length_a                   15.63059(27)
_cell_length_b                   15.63059(27)
_cell_length_c                   3.57744(8)
_cell_measurement_temperature    293(2)
_cell_volume                     874.02(3)
_computing_data_reduction        'synchrotron powder'
_computing_structure_refinement  GSAS
_diffrn_ambient_temperature      293(2)
_diffrn_radiation_polarisn_ratio 0.95
_diffrn_radiation_probe          x-ray
_diffrn_radiation_type           synchrotron
_diffrn_radiation_wavelength     0.51446
_diffrn_source                   synchrotron
_diffrn_source_type              'SPring-8 BL10XU'
_exptl_absorpt_correction_T_max  1.00000
_exptl_absorpt_correction_T_min  1.00000
_exptl_absorpt_process_details
;   GSAS Absorption/surface roughness correction: function number 0
 No correction is applied.
;
_exptl_crystal_colour            black
_exptl_crystal_density_diffrn    3.666
_pd_calc_method                  'Rietveld Refinement'
_pd_meas_2theta_range_inc        0.01
_pd_meas_2theta_range_max        32.86
_pd_meas_2theta_range_min        1.0
_pd_phase_name                   'clbpsset 6.25 GPa'
_pd_proc_2theta_range_inc        0.01
_pd_proc_2theta_range_max        32.86
_pd_proc_2theta_range_min        1.0
_pd_proc_info_datetime           2011-01-11T11:49:59
_pd_proc_ls_background_function
;   GSAS Background function number 1 with  8 terms.
 Shifted Chebyshev function of 1st kind
      1:    42302.7     2:    25896.1     3:   -2527.08     4:   -1006.46    
      5:   -754.653     6:   -253.105     7:   -406.297     8:    178.708    
;
_pd_proc_ls_peak_cutoff          0.00100
_pd_proc_ls_profile_function
;
 CW Profile function number 2 with  18 terms
 Profile coefficients for Simpson's rule integration of pseudovoigt function
 C.J. Howard (1982). J. Appl. Cryst.,15,615-620.
 P. Thompson, D.E. Cox & J.B. Hastings (1987). J. Appl. Cryst.,20,79-83.
 Peak tails are ignored  where the intensity is below 0.0010 times the peak
   Aniso. broadening axis   0.0   0.0   1.0
;
_pd_proc_ls_prof_R_factor        0.0176
_pd_proc_ls_prof_wR_expected     0.0045
_pd_proc_ls_prof_wR_factor       0.0261
_refine_ls_goodness_of_fit_all   5.85
_refine_ls_matrix_type           full
_refine_ls_number_parameters     36
_refine_ls_number_restraints     0
_refine_ls_R_Fsqd_factor         0.11333
_refine_ls_shift/su_max          0.03
_refine_ls_shift/su_mean         0.01
_reflns_d_resolution_high        1.468
_reflns_d_resolution_low         7.815
_reflns_limit_h_max              11
_reflns_limit_h_min              0
_reflns_limit_k_max              8
_reflns_limit_k_min              0
_reflns_limit_l_max              2
_reflns_limit_l_min              0
_reflns_number_total             113
_cod_data_source_file            ja200391j_si_013.cif
_cod_data_source_block           ClBPSSEt_7.23GPa
_cod_original_cell_volume        874.023(30)
_cod_database_code               4105972
_cod_database_fobs_code          4105972
#BEGIN Tags that were not found in dictionaries:
_gsas_exptl_extinct_corr_t_min   1.00000
_gsas_exptl_extinct_corr_t_max   1.00000
#END Tags that were not found in dictionaries
loop_
_symmetry_equiv_pos_site_id
_symmetry_equiv_pos_as_xyz
1 +x,+y,+z
2 +y,-x,-z
3 -x,-y,+z
4 -y,+x,-z
5 -x+1/2,+y+1/2,-z
6 +y+1/2,+x+1/2,+z
7 +x+1/2,-y+1/2,-z
8 -y+1/2,-x+1/2,+z
loop_
_atom_site_type_symbol
_atom_site_label
_atom_site_fract_x
_atom_site_fract_y
_atom_site_fract_z
_atom_site_occupancy
_atom_site_thermal_displace_type
_atom_site_U_iso_or_equiv
_atom_site_symmetry_multiplicity
_atom_site_refinement_flags
Se Se1 0.09489 0.05653 -0.7471 1.0 Uiso 0.025 8 G
Se Se2 0.22868 0.01399 -0.98529 1.0 Uiso 0.025 8 G
Cl Cl1 0.42273 0.07727 -1.13006 1.0 Uiso 0.025 4 G
C C1 0.21112 0.17761 -0.65796 1.0 Uiso 0.025 8 G
C C3 0.35245 0.14754 -0.92141 1.0 Uiso 0.025 4 G
N N1 0.13122 0.16067 -0.59047 1.0 Uiso 0.025 8 G
C C2 0.27009 0.12106 -0.84488 1.0 Uiso 0.025 8 G
N N2 0.2427 0.2573 -0.54501 1.0 Uiso 0.025 4 G
C C5 0.1291 0.3709 -0.55757 1.0 Uiso 0.025 4 G
H H5A 0.09462 0.40538 -0.39631 1.0 Uiso 0.025 4 G
H H5B 0.09284 0.33695 -0.71318 1.0 Uiso 0.025 8 G
C C4 0.18759 0.3124 -0.32235 1.0 Uiso 0.025 4 G
H H4 0.15203 0.27753 -0.16532 1.0 Uiso 0.025 8 G
loop_
_atom_type_symbol
_atom_type_number_in_cell
_atom_type_scat_dispersion_real
_atom_type_scat_dispersion_imag
_atom_type_scat_Cromer_Mann_a1
_atom_type_scat_Cromer_Mann_a2
_atom_type_scat_Cromer_Mann_a3
_atom_type_scat_Cromer_Mann_a4
_atom_type_scat_Cromer_Mann_b1
_atom_type_scat_Cromer_Mann_b2
_atom_type_scat_Cromer_Mann_b3
_atom_type_scat_Cromer_Mann_b4
_atom_type_scat_Cromer_Mann_c
_atom_type_scat_source
Se 16.0 0.000 0.000 17.0006 2.40980 5.81960 0.27260 3.97310 15.2372 4.35430
43.8163 2.84090 International_Tables_Vol_C
Cl 4.0 0.000 0.000 11.4604 0.01040 7.19640 1.16620 6.25560 18.5194 1.64550
47.7784 -9.5574 International_Tables_Vol_C
C 28.0 0.000 0.000 2.31000 20.8439 1.02000 10.2075 1.58860 0.56870 0.86500
51.6512 0.21560 International_Tables_Vol_C
N 12.0 0.000 0.000 12.2126 0.00570 3.13220 9.89330 2.01250 28.9975 1.16630
0.58260 -11.529 International_Tables_Vol_C
H 20.0 0.000 0.000 0.49300 10.5109 0.32291 26.1257 0.14019 3.14236 0.04081
57.7997 0.00304 International_Tables_Vol_C
loop_
_geom_angle_atom_site_label_1
_geom_angle_atom_site_label_2
_geom_angle_atom_site_label_3
_geom_angle
_geom_angle_site_symmetry_1
_geom_angle_site_symmetry_3
_geom_angle_publ_flag
Se2 Se1 N1 95.00510 1_555 1_555 n
Se1 Se2 C2 87.55330 1_555 1_555 n
N1 C1 C2 125.15930 1_555 1_555 n
N1 C1 N2 117.82510 1_555 1_555 n
C2 C1 N2 117.01130 1_555 1_555 n
Cl1 C3 C2 119.30110 1_555 1_555 n
Cl1 C3 C2 119.30110 1_555 8_555 n
C2 C3 C2 121.36760 1_555 8_555 n
Se1 N1 C1 115.25610 1_555 1_555 n
Se2 C2 C1 116.97850 1_555 1_555 n
Se2 C2 C3 122.69020 1_555 1_555 n
C1 C2 C3 120.31030 1_555 1_555 n
C1 N2 C1 122.9919 1_555 8_555 n
C1 N2 C4 118.42640 1_555 1_555 n
C1 N2 C4 118.42640 8_555 1_555 n
H5A C5 H5B 109.2905 1_555 1_555 n
H5A C5 H5B 109.2905 1_555 8_555 n
H5A C5 C4 109.8223 1_555 1_555 n
H5B C5 H5B 108.6330 1_555 8_555 n
H5B C5 C4 109.8909 1_555 1_555 n
H5B C5 C4 109.8909 8_555 1_555 n
H5B H5A H5B 59.7116 1_555 8_555 n
H5A H5B H5B 60.1442 1_555 8_555 n
N2 C4 C5 113.7625 1_555 1_555 n
N2 C4 H4 109.0798 1_555 1_555 n
N2 C4 H4 109.0798 1_555 8_555 n
C5 C4 H4 108.2098 1_555 1_555 n
C5 C4 H4 108.2098 1_555 8_555 n
H4 C4 H4 108.3692 1_555 8_555 n
loop_
_geom_bond_atom_site_label_1
_geom_bond_atom_site_label_2
_geom_bond_distance
_geom_bond_site_symmetry_2
_geom_bond_publ_flag
Se1 Se2 2.35402 1_555 n
Se1 N1 1.812750 1_555 n
Se2 C2 1.863350 1_555 n
Cl1 C3 1.723460 1_555 n
C1 N1 1.299270 1_555 n
C1 C2 1.441540 1_555 n
C1 N2 1.399450 1_555 n
C3 C2 1.379770 1_555 n
N2 C4 1.455420 1_555 n
C5 H5A 0.955890 1_555 n
C5 H5B 0.955360 1_555 n
C5 C4 1.542730 1_555 n
C4 H4 0.960080 1_555 n
