#------------------------------------------------------------------------------
#$Date: 2016-03-22 12:06:16 +0200 (Tue, 22 Mar 2016) $
#$Revision: 178934 $
#$URL: svn://www.crystallography.net/cod/cif/4/11/63/4116341.cif $
#------------------------------------------------------------------------------
#
# This file is available in the Crystallography Open Database (COD),
# http://www.crystallography.net/
#
# All data on this site have been placed in the public domain by the
# contributors.
#
data_4116341
loop_
_publ_author_name
'Larry R. Falvello'
'Michael A. Hitchman'
'Fernando Palacio'
'Isabel Pascual'
'Arthur J. Schultz'
'Horst Stratemeier'
'Milagros Tomás'
'Esteban P. Urriolabeitia'
'Dianna M. Young'
_publ_section_title
;
 Tunable Molecular Distortion in a Nickel Complex Coupled to a Reversible
 Phase Transition in the Crystalline State
;
_journal_name_full               'Journal of the American Chemical Society'
_journal_page_first              2808
_journal_page_last               2819
_journal_paper_doi               10.1021/ja983247t
_journal_volume                  121
_journal_year                    1999
_chemical_formula_sum            'C6 H16 N10 Ni O6'
_chemical_formula_weight         383.00
_chemical_name_systematic
; 
 ? 
;
_space_group_IT_number           69
_symmetry_cell_setting           orthorhombic
_symmetry_space_group_name_Hall  '-F 2 2'
_symmetry_space_group_name_H-M   'F m m m'
_atom_sites_solution_hydrogens   geom
_atom_sites_solution_primary     direct
_atom_sites_solution_secondary   difmap
_audit_creation_method           SHELXL-97
_cell_angle_alpha                90.00
_cell_angle_beta                 90.00
_cell_angle_gamma                90.00
_cell_formula_units_Z            4
_cell_length_a                   12.0455(12)
_cell_length_b                   7.2710(12)
_cell_length_c                   16.0707(15)
_cell_measurement_reflns_used    25
_cell_measurement_temperature    298(1)
_cell_measurement_theta_max      15.7
_cell_measurement_theta_min      12.1
_cell_volume                     1407.5(3)
_computing_cell_refinement       CAD4/PC
_computing_data_collection       CAD4/PC
_computing_data_reduction        'XCAD4B (Harms, 1996)'
_computing_structure_refinement  'SHELXL-97 (Sheldrick, 1997)'
_computing_structure_solution    'SHELXS-97 (Sheldrick, 1990)'
_diffrn_ambient_temperature      298(1)
_diffrn_measured_fraction_theta_full 0.000
_diffrn_measured_fraction_theta_max 0.253
_diffrn_measurement_device_type  'Nonius CAD-4'
_diffrn_measurement_method       'omega scans'
_diffrn_radiation_monochromator  graphite
_diffrn_radiation_source         'fine-focus sealed tube'
_diffrn_radiation_type           MoK\a
_diffrn_radiation_wavelength     0.71073
_diffrn_reflns_av_R_equivalents  0.0000
_diffrn_reflns_av_sigmaI/netI    0.0354
_diffrn_reflns_limit_h_max       14
_diffrn_reflns_limit_h_min       0
_diffrn_reflns_limit_k_max       8
_diffrn_reflns_limit_k_min       0
_diffrn_reflns_limit_l_max       0
_diffrn_reflns_limit_l_min       -19
_diffrn_reflns_number            370
_diffrn_reflns_theta_full        0.50
_diffrn_reflns_theta_max         24.92
_diffrn_reflns_theta_min         2.53
_exptl_absorpt_coefficient_mu    1.432
_exptl_absorpt_correction_type   psi-scans
_exptl_crystal_colour            violet
_exptl_crystal_density_diffrn    1.807
_exptl_crystal_F_000             792
_refine_diff_density_max         0.474
_refine_diff_density_min         -0.308
_refine_diff_density_rms         0.080
_refine_ls_extinction_method     none
_refine_ls_goodness_of_fit_ref   1.076
_refine_ls_hydrogen_treatment    mixed
_refine_ls_matrix_type           full
_refine_ls_number_parameters     49
_refine_ls_number_reflns         370
_refine_ls_number_restraints     0
_refine_ls_restrained_S_all      1.076
_refine_ls_R_factor_all          0.0549
_refine_ls_R_factor_gt           0.0398
_refine_ls_shift/su_max          0.002
_refine_ls_shift/su_mean         0.000
_refine_ls_structure_factor_coef Fsqd
_refine_ls_weighting_details
'w=1/[σ²(Fo²)+(0.0600P)²+0.9045P] where P=(Fo²+2Fc²)/3'
_refine_ls_weighting_scheme      calc
_refine_ls_wR_factor_gt          0.1010
_refine_ls_wR_factor_ref         0.1057
_reflns_number_gt                321
_reflns_number_total             370
_reflns_threshold_expression     >2sigma(I)
_cod_data_source_file            ja983247t_1.cif
_cod_data_source_block           1a
_cod_depositor_comments
;
The following automatic conversions were performed:

'_refine_ls_weighting_scheme' value 'calc
w=1/[\s^2^(Fo^2^)+(0.0600P)^2^+0.9045P] where P=(Fo^2^+2Fc^2^)/3' was
changed to 'calc'. New tag '_refine_ls_weighting_details' was
created. The value of the new tag was set to
'w=1/[\s^2^(Fo^2^)+(0.0600P)^2^+0.9045P] where P=(Fo^2^+2Fc^2^)/3'.

Automatic conversion script
Id: cif_fix_values 3143 2015-03-26 13:38:13Z robertas 
;
_cod_database_code               4116341
loop_
_symmetry_equiv_pos_as_xyz
'x, y, z'
'-x, -y, z'
'x, -y, -z'
'-x, y, -z'
'x, y+1/2, z+1/2'
'-x, -y+1/2, z+1/2'
'x, -y+1/2, -z+1/2'
'-x, y+1/2, -z+1/2'
'x+1/2, y, z+1/2'
'-x+1/2, -y, z+1/2'
'x+1/2, -y, -z+1/2'
'-x+1/2, y, -z+1/2'
'x+1/2, y+1/2, z'
'-x+1/2, -y+1/2, z'
'x+1/2, -y+1/2, -z'
'-x+1/2, y+1/2, -z'
'-x, -y, -z'
'x, y, -z'
'-x, y, z'
'x, -y, z'
'-x, -y+1/2, -z+1/2'
'x, y+1/2, -z+1/2'
'-x, y+1/2, z+1/2'
'x, -y+1/2, z+1/2'
'-x+1/2, -y, -z+1/2'
'x+1/2, y, -z+1/2'
'-x+1/2, y, z+1/2'
'x+1/2, -y, z+1/2'
'-x+1/2, -y+1/2, -z'
'x+1/2, y+1/2, -z'
'-x+1/2, y+1/2, z'
'x+1/2, -y+1/2, z'
loop_
_atom_site_label
_atom_site_type_symbol
_atom_site_fract_x
_atom_site_fract_y
_atom_site_fract_z
_atom_site_U_iso_or_equiv
_atom_site_adp_type
_atom_site_occupancy
_atom_site_calc_flag
_atom_site_refinement_flags
Ni1 Ni 0.0000 0.0000 0.0000 0.0377(5) Uani 1 d S
N2 N 0.1189(4) 0.2053(8) 0.0000 0.0459(12) Uani 1 d S
H20 H 0.088(7) 0.329(13) 0.0000 0.116(19) Uiso 1 d S
H21 H 0.157(4) 0.185(9) -0.033(3) 0.116(19) Uiso 1 d .
N1 N 0.0000 0.0000 -0.1428(3) 0.0387(15) Uani 1 d S
C2 C -0.0972(4) 0.0000 -0.1857(3) 0.0372(11) Uani 1 d S
O2 O -0.1890(2) 0.0000 -0.15162(19) 0.0524(11) Uani 1 d S
N3 N -0.0944(3) 0.0000 -0.2711(2) 0.0358(11) Uani 1 d S
H3 H -0.154(5) 0.0000 -0.293(4) 0.046(16) Uiso 1 d S
C4 C 0.0000 0.0000 -0.3179(4) 0.0337(15) Uani 1 d S
O4 O 0.0000 0.0000 -0.3934(3) 0.0473(14) Uani 1 d S
loop_
_atom_site_aniso_label
_atom_site_aniso_U_11
_atom_site_aniso_U_22
_atom_site_aniso_U_33
_atom_site_aniso_U_23
_atom_site_aniso_U_13
_atom_site_aniso_U_12
Ni1 0.0136(6) 0.0737(10) 0.0257(7) 0.000 0.000 0.000
N2 0.027(2) 0.077(4) 0.034(2) 0.000 0.000 -0.004(2)
N1 0.017(3) 0.080(4) 0.019(3) 0.000 0.000 0.000
C2 0.025(2) 0.066(3) 0.021(2) 0.000 -0.0015(18) 0.000
O2 0.0162(16) 0.117(3) 0.0243(19) 0.000 -0.0001(13) 0.000
N3 0.018(2) 0.070(3) 0.019(2) 0.000 -0.0024(15) 0.000
C4 0.029(3) 0.053(4) 0.019(4) 0.000 0.000 0.000
O4 0.033(3) 0.092(4) 0.017(2) 0.000 0.000 0.000
loop_
_atom_type_symbol
_atom_type_description
_atom_type_scat_dispersion_real
_atom_type_scat_dispersion_imag
_atom_type_scat_source
C C 0.0033 0.0016 'International Tables Vol C Tables 4.2.6.8 and 6.1.1.4'
H H 0.0000 0.0000 'International Tables Vol C Tables 4.2.6.8 and 6.1.1.4'
N N 0.0061 0.0033 'International Tables Vol C Tables 4.2.6.8 and 6.1.1.4'
O O 0.0106 0.0060 'International Tables Vol C Tables 4.2.6.8 and 6.1.1.4'
Ni Ni 0.3393 1.1124 'International Tables Vol C Tables 4.2.6.8 and 6.1.1.4'
loop_
_geom_angle_atom_site_label_1
_geom_angle_atom_site_label_2
_geom_angle_atom_site_label_3
_geom_angle
_geom_angle_site_symmetry_1
_geom_angle_site_symmetry_3
N2 Ni1 N2 180.0 . 17
N2 Ni1 N2 87.6(3) . 19
N2 Ni1 N1 90.0 . .
N1 Ni1 N1 180.0 . 17
Ni1 N2 H20 114(5) . .
Ni1 N2 H21 107(5) . .
H20 N2 H21 116(6) . .
C2 N1 C2 119.0(5) . 2
C2 N1 Ni1 120.5(3) . .
O2 C2 N1 123.2(4) . .
O2 C2 N3 117.7(4) . .
N1 C2 N3 119.1(4) . .
C4 N3 C2 124.9(4) . .
C4 N3 H3 121(4) . .
C2 N3 H3 115(4) . .
O4 C4 N3 123.5(3) . .
N3 C4 N3 113.0(5) 2 .
loop_
_geom_bond_atom_site_label_1
_geom_bond_atom_site_label_2
_geom_bond_distance
Ni1 N2 2.068(5)
Ni1 N1 2.295(5)
N2 H20 0.97(9)
N2 H21 0.72(6)
N1 C2 1.358(5)
C2 O2 1.234(6)
C2 N3 1.373(6)
N3 C4 1.363(5)
N3 H3 0.80(6)
C4 O4 1.213(8)
