#------------------------------------------------------------------------------
#$Date: 2016-02-16 22:30:59 +0200 (Tue, 16 Feb 2016) $
#$Revision: 176467 $
#$URL: svn://www.crystallography.net/cod/cif/4/11/64/4116482.cif $
#------------------------------------------------------------------------------
#
# This file is available in the Crystallography Open Database (COD),
# http://www.crystallography.net/
#
# All data on this site have been placed in the public domain by the
# contributors.
#
data_4116482
loop_
_publ_author_name
'James L. Foley'
'Lian Li'
'Daniel J. Sandman'
'Michael J. Vela'
'Bruce M. Foxman'
'Rick Albro'
'Craig J. Eckhardt'
_publ_section_title
;
 Side Group Interactions in a Polydiacetylene Single Crystal
;
_journal_name_full               'Journal of the American Chemical Society'
_journal_page_first              7262
_journal_page_last               7263
_journal_paper_doi               10.1021/ja990436i
_journal_volume                  121
_journal_year                    1999
_chemical_compound_source
;
?
;
_chemical_formula_moiety         ' C15 H12 N3 '
_chemical_formula_sum            'C15 H12 N3'
_chemical_formula_weight         234.28
_chemical_name_systematic
;
?
;
_space_group_IT_number           2
_symmetry_cell_setting           triclinic
_symmetry_space_group_name_Hall  '-P 1'
_symmetry_space_group_name_H-M   'P -1'
_atom_sites_solution_hydrogens   geom
_atom_sites_solution_primary     direct
_audit_creation_date             99-02-02
_audit_creation_method           CRYSTALS_ver_07-07-97
_cell_angle_alpha                83.41(8)
_cell_angle_beta                 84.08(7)
_cell_angle_gamma                83.24(8)
_cell_formula_units_Z            1
_cell_length_a                   4.930(3)
_cell_length_b                   10.839(13)
_cell_length_c                   12.33(1)
_cell_measurement_reflns_used    25
_cell_measurement_temperature    294
_cell_measurement_theta_max      45
_cell_measurement_theta_min      43
_cell_volume                     647.3(10)
_computing_cell_refinement       'CAD4-EXPRESS (Straver, 1992)'
_computing_data_collection       'CAD4-EXPRESS (Straver, 1992)'
_computing_data_reduction
;
MolEN (Fair, C. K., 1990)
;
_computing_molecular_graphics
;
 CAMERON (Watkin, Prout & Pearce,  1996)
;
_computing_publication_material
;
CRYSTALS Issue 10 (Watkin, Prout, Carruthers & Betteridge, 1996)
;
_computing_structure_refinement
;
CRYSTALS Issue 10 (Watkin, Prout, Carruthers & Betteridge, 1996)
;
_computing_structure_solution    'SIR92 (Giacovazzo et al, 1992)'
_diffrn_ambient_temperature      294
_diffrn_measured_fraction_theta_max 0.989
_diffrn_measurement_device_type  '  Enraf-nonius CAD4 '
_diffrn_measurement_method       ω
_diffrn_radiation_monochromator  graphite
_diffrn_radiation_type           'Cu K\a'
_diffrn_radiation_wavelength     1.54178
_diffrn_reflns_av_R_equivalents  0.04
_diffrn_reflns_limit_h_max       0
_diffrn_reflns_limit_h_min       -4
_diffrn_reflns_limit_k_max       10
_diffrn_reflns_limit_k_min       -10
_diffrn_reflns_limit_l_max       12
_diffrn_reflns_limit_l_min       -12
_diffrn_reflns_number            1508
_diffrn_reflns_theta_max         49.84
_diffrn_reflns_theta_min         4.28
_diffrn_standards_decay_%        0.00
_diffrn_standards_interval_count 0
_diffrn_standards_interval_time  7200s
_diffrn_standards_number         3
_exptl_absorpt_coefficient_mu    0.55
_exptl_absorpt_correction_T_max  0.71
_exptl_absorpt_correction_T_min  0.65
_exptl_absorpt_correction_type   psi-scan
_exptl_absorpt_process_details   'ψ scan,(North et al, 1968)'
_exptl_crystal_colour            ' violet '
_exptl_crystal_density_diffrn    1.20
_exptl_crystal_description       ' plate '
_exptl_crystal_F_000             246.63
_exptl_crystal_size_max          0.13
_exptl_crystal_size_mid          0.29
_exptl_crystal_size_min          0.63
_refine_diff_density_max         0.00
_refine_diff_density_min         0.00
_refine_ls_extinction_coef       6.611
_refine_ls_extinction_method
'Larson 1970 Crystallographic Computing eq 22'
_refine_ls_goodness_of_fit_obs   1.1783
_refine_ls_hydrogen_treatment    noref
_refine_ls_matrix_type           full
_refine_ls_number_parameters     210
_refine_ls_number_reflns         778
_refine_ls_R_factor_obs          0.0847
_refine_ls_shift/su_max          0.000553
_refine_ls_structure_factor_coef F
_refine_ls_weighting_details
;
 Chebychev polynomial with   3 parameters (Carruthers & Watkin, 1979)
 5.75 3.05 3.94
;
_refine_ls_weighting_scheme      calc
_refine_ls_wR_factor_obs         0.1056
_reflns_limit_h_max              4
_reflns_limit_h_min              0
_reflns_limit_k_max              10
_reflns_limit_k_min              -10
_reflns_limit_l_max              12
_reflns_limit_l_min              -11
_reflns_number_observed          778
_reflns_number_total             1306
_reflns_observed_criterion       >1.96\s(I)
_cod_data_source_file            ja990436i_3.cif
_cod_data_source_block           CRYSTALS_cif
_cod_depositor_comments
;
The following automatic conversions were performed:

'_symmetry_cell_setting' value 'triclinic ' changed to 'triclinic'
according to the built-in table from CIF Core dictionary named
'cif_core.dic' version 2.4.1 from 2010-06-29.

Automatic conversion script
Id: cif_fix_values 1715 2011-07-08 13:25:40Z adriana 
;
_cod_original_cell_volume        647.3
_cod_original_sg_symbol_H-M      'P -1 '
_cod_original_formula_sum        ' C15 H12 N3 '
_cod_database_code               4116482
loop_
_symmetry_equiv_pos_as_xyz
x,y,z
-x,-y,-z
loop_
_atom_site_aniso_label
_atom_site_aniso_U_11
_atom_site_aniso_U_22
_atom_site_aniso_U_33
_atom_site_aniso_U_23
_atom_site_aniso_U_13
_atom_site_aniso_U_12
C1 0.029(4) 0.147(6) 0.138(6) -0.023(5) 0.011(4) -0.008(4)
C3 0.062(5) 0.116(6) 0.202(9) -0.041(6) 0.017(5) -0.015(4)
C4 0.066(5) 0.159(9) 0.256(11) 0.032(8) 0.029(6) 0.025(5)
C5 0.136(8) 0.139(9) 0.268(13) 0.059(8) 0.033(8) 0.038(7)
C6 0.053(4) 0.111(6) 0.143(7) 0.014(5) 0.027(4) 0.008(4)
C7 0.056(4) 0.109(6) 0.119(5) 0.007(5) 0.026(4) -0.009(4)
C8 0.075(4) 0.094(5) 0.091(5) -0.003(4) 0.008(4) 0.007(4)
C9 0.049(4) 0.092(5) 0.104(5) 0.005(4) 0.020(4) -0.001(3)
C10 0.069(4) 0.134(6) 0.117(6) 0.028(5) 0.023(4) 0.019(4)
C11 0.064(4) 0.131(6) 0.154(7) 0.038(5) 0.021(5) 0.019(4)
C12 0.058(4) 0.107(5) 0.107(5) 0.011(4) 0.016(3) 0.000(4)
C13 0.058(4) 0.102(5) 0.107(5) 0.001(4) 0.009(4) 0.006(4)
C14 0.065(4) 0.116(6) 0.125(6) -0.001(4) 0.004(4) 0.008(4)
C15 0.097(5) 0.111(6) 0.113(6) 0.010(5) 0.006(5) 0.023(4)
N1 0.060(4) 0.141(6) 0.199(7) 0.038(5) 0.048(4) 0.027(4)
N2 0.075(4) 0.148(6) 0.156(6) -0.002(4) 0.022(4) 0.024(4)
N3 0.205(9) 0.193(9) 0.121(6) 0.043(6) 0.026(6) 0.058(7)
loop_
_atom_site_label
_atom_site_fract_x
_atom_site_fract_y
_atom_site_fract_z
_atom_site_U_iso_or_equiv
_atom_site_occupancy
_atom_site_thermal_displace_type
C1 0.100(1) 0.5202(7) 0.0161(6) 0.1052 1.0000 Uani
C2 0.2401 0.5837 0.0666 0.114(6) 0.608(19) Uiso
C3 0.4049(14) 0.6463(7) 0.1114(8) 0.1261 1.0000 Uani
C4 0.4105(16) 0.5565(11) 0.303(1) 0.1702 1.0000 Uani
C5 0.259(2) 0.4430(11) 0.321(1) 0.1952 1.0000 Uani
C6 0.0674(13) 0.7305(7) 0.2512(7) 0.1087 1.0000 Uani
C7 -0.0579(13) 0.8141(7) 0.1715(6) 0.0985 1.0000 Uani
C8 -0.2823(13) 0.8971(6) 0.1994(5) 0.0896 1.0000 Uani
C9 -0.3921(11) 0.9011(6) 0.3076(6) 0.0853 1.0000 Uani
C10 -0.2668(14) 0.8174(8) 0.3864(6) 0.1145 1.0000 Uani
C11 -0.0429(14) 0.7348(7) 0.3601(7) 0.1252 1.0000 Uani
C12 -0.6307(12) 0.9807(7) 0.3429(5) 0.0945 1.0000 Uani
C13 -0.7801(12) 1.0747(7) 0.2893(6) 0.0926 1.0000 Uani
C14 -1.0112(14) 1.1409(7) 0.3464(6) 0.1050 1.0000 Uani
C15 -0.7356(15) 1.1157(7) 0.1757(7) 0.1124 1.0000 Uani
C21 0.392(3) 0.5301(12) 0.0230(11) 0.062(6) 0.392(19) Uiso
N1 0.2883 0.6492 0.2233 0.1446 1.0000 Uani
N2 -1.1936 1.1951 0.3910 0.1328 1.0000 Uani
N3 -0.7055 1.1497 0.0868 0.1869 1.0000 Uani
H31 0.4079 0.7285 0.0753 0.1469 1.0000 Uiso
H32 0.5859 0.6048 0.1084 0.1469 1.0000 Uiso
H51 0.3420 0.3834 0.3732 0.2236 1.0000 Uiso
H52 0.0731 0.4659 0.3466 0.2236 1.0000 Uiso
H53 0.2638 0.4076 0.2534 0.2236 1.0000 Uiso
H41 0.4051 0.5913 0.3707 0.1803 1.0000 Uiso
H42 0.5957 0.5330 0.2775 0.1803 1.0000 Uiso
H71 0.0126 0.8138 0.0968 0.1168 1.0000 Uiso
H81 -0.3633 0.9526 0.1434 0.1121 1.0000 Uiso
H101 -0.3387 0.8174 0.4609 0.1336 1.0000 Uiso
H111 0.0381 0.6800 0.4165 0.1418 1.0000 Uiso
H121 -0.6939 0.9635 0.4180 0.1132 1.0000 Uiso
loop_
_atom_type_symbol
_atom_type_scat_dispersion_real
_atom_type_scat_dispersion_imag
_atom_type_scat_Cromer_Mann_a1
_atom_type_scat_Cromer_Mann_b1
_atom_type_scat_Cromer_Mann_a2
_atom_type_scat_Cromer_Mann_b2
_atom_type_scat_Cromer_Mann_a3
_atom_type_scat_Cromer_Mann_b3
_atom_type_scat_Cromer_Mann_a4
_atom_type_scat_Cromer_Mann_b4
_atom_type_scat_Cromer_Mann_c
_atom_type_scat_source
'N   ' 0.0290 0.0180 12.2126 0.0057 3.1322 9.8933 2.0125 28.9975 1.1663 0.5826
-11.5290 International_Tables_Vol_IV_Table_2.2B
'C   ' 0.0170 0.0090 2.3100 20.8439 1.0200 10.2075 1.5886 0.5687 0.8650 51.6512
0.2156 International_Tables_Vol_IV_Table_2.2B
'H   ' 0.0000 0.0000 0.4930 10.5109 0.3229 26.1257 0.1402 3.1424 0.0408 57.7997
0.0030 International_Tables_Vol_IV_Table_2.2B
loop_
_geom_angle_atom_site_label_1
_geom_angle_site_symmetry_1
_geom_angle_atom_site_label_2
_geom_angle_atom_site_label_3
_geom_angle_site_symmetry_3
_geom_angle
_geom_angle_publ_flag
C1 2_565 C1 C2 . 160.5(8) yes
C1 2_565 C1 C21 . 155.8(9) yes
C2 . C1 C21 . 43.6(5) yes
C1 . C2 C3 . 174.3(4) yes
C1 . C2 C21 . 77.8(8) yes
C3 . C2 C21 . 96.8(8) yes
C2 . C3 N1 . 104.2(5) yes
C5 . C4 N1 . 110.9(9) yes
C7 . C6 C11 . 117.3(6) yes
C7 . C6 N1 . 121.0(7) yes
C11 . C6 N1 . 121.7(7) yes
C6 . C7 C8 . 121.2(6) yes
C7 . C8 C9 . 121.4(6) yes
C8 . C9 C10 . 117.0(6) yes
C8 . C9 C12 . 124.9(7) yes
C10 . C9 C12 . 118.0(6) yes
C9 . C10 C11 . 122.2(7) yes
C6 . C11 C10 . 120.8(7) yes
C9 . C12 C13 . 131.6(6) yes
C12 . C13 C14 . 119.9(6) yes
C12 . C13 C15 . 125.3(6) yes
C14 . C13 C15 . 114.8(6) yes
C13 . C14 N2 . 179.0(7) yes
C13 . C15 N3 . 178.5(7) yes
C1 . C21 C2 . 58.5(7) yes
C1 . C21 C21 2_665 130.3(16) yes
C2 . C21 C21 2_665 171.0(19) yes
C3 . N1 C4 . 116.2(5) yes
C3 . N1 C6 . 121.7(5) yes
C4 . N1 C6 . 122.0(5) yes
loop_
_geom_bond_atom_site_label_1
_geom_bond_atom_site_label_2
_geom_bond_site_symmetry_2
_geom_bond_distance
_geom_bond_publ_flag
C1 C1 2_565 1.244(12) yes
C1 C2 . 1.279(6) yes
C1 C21 . 1.466(13) yes
C2 C3 . 1.317(8) yes
C2 C21 . 1.035(13) yes
C3 N1 . 1.442(9) yes
C4 C5 . 1.498(15) yes
C4 N1 . 1.446(11) yes
C6 C7 . 1.399(9) yes
C6 C11 . 1.40(1) yes
C6 N1 . 1.359(7) yes
C7 C8 . 1.381(9) yes
C8 C9 . 1.391(8) yes
C9 C10 . 1.392(9) yes
C9 C12 . 1.435(9) yes
C10 C11 . 1.373(9) yes
C12 C13 . 1.337(8) yes
C13 C14 . 1.438(9) yes
C13 C15 . 1.42(1) yes
C14 N2 . 1.142(7) yes
C15 N3 . 1.117(8) yes
C21 C21 2_665 1.30(3) yes
