#------------------------------------------------------------------------------
#$Date: 2016-03-22 12:46:55 +0200 (Tue, 22 Mar 2016) $
#$Revision: 178963 $
#$URL: svn://www.crystallography.net/cod/cif/4/11/92/4119237.cif $
#------------------------------------------------------------------------------
#
# This file is available in the Crystallography Open Database (COD),
# http://www.crystallography.net/
#
# All data on this site have been placed in the public domain by the
# contributors.
#
data_4119237
loop_
_publ_author_name
'Kevin J. Gagnon'
'Christine M. Beavers'
'Abraham Clearfield'
_publ_contact_author_address
;Department of Chemistry
 Texas A&M University
 College Station, TX 77840
;
_publ_contact_author_email       kgagnon@mail.chem.tamu.edu
_publ_contact_author_name        'Kevin Gagnon'
_publ_section_title
;
 MOFs Under Pressure: The Reversible Compression of a Single Crystal
;
_journal_name_full               'Journal of the American Chemical Society'
_journal_page_first              1252
_journal_page_last               1255
_journal_paper_doi               10.1021/ja311613p
_journal_volume                  135
_journal_year                    2013
_chemical_formula_sum            'C4 H14 O8 P2 Zn'
_chemical_formula_weight         317.46
_chemical_name_systematic
; 
 ? 
;
_space_group_IT_number           15
_symmetry_cell_setting           monoclinic
_symmetry_space_group_name_Hall  '-C 2yc'
_symmetry_space_group_name_H-M   'C 1 2/c 1'
_atom_sites_solution_hydrogens   geom
_atom_sites_solution_primary     direct
_atom_sites_solution_secondary   difmap
_audit_creation_method           SHELXL-97
_cell_angle_alpha                90.00
_cell_angle_beta                 119.697(6)
_cell_angle_gamma                90.00
_cell_formula_units_Z            4
_cell_length_a                   17.685(2)
_cell_length_b                   8.147(2)
_cell_length_c                   7.7557(6)
_cell_measurement_reflns_used    1977
_cell_measurement_temperature    296(2)
_cell_measurement_theta_max      25.3725
_cell_measurement_theta_min      3.738
_cell_volume                     970.7(3)
_computing_cell_refinement       'Bruker SAINT v7.60a'
_computing_data_collection       'Bruker APEX 2'
_computing_data_reduction        'Bruker SAINT v7.60a'
_computing_molecular_graphics    'Bruker SHELXTL'
_computing_publication_material  'Bruker SHELXTL & local programs'
_computing_structure_refinement  'Bruker SHELXTL'
_computing_structure_solution    'Bruker SHELXTL'
_diffrn_ambient_temperature      296(2)
_diffrn_detector_area_resol_mean 8.3
_diffrn_measured_fraction_theta_full 0.527
_diffrn_measured_fraction_theta_max 0.527
_diffrn_measurement_device_type  'Bruker APEX II CCD diffractometer'
_diffrn_measurement_method       'ω and φ scans'
_diffrn_radiation_monochromator  'silicon 111'
_diffrn_radiation_source         'Advanced Light Source station 11.3.1'
_diffrn_radiation_type           synchrotron
_diffrn_radiation_wavelength     0.60480
_diffrn_reflns_av_R_equivalents  0.0537
_diffrn_reflns_av_sigmaI/netI    0.0255
_diffrn_reflns_limit_h_max       24
_diffrn_reflns_limit_h_min       -24
_diffrn_reflns_limit_k_max       6
_diffrn_reflns_limit_k_min       -5
_diffrn_reflns_limit_l_max       10
_diffrn_reflns_limit_l_min       -10
_diffrn_reflns_number            10263
_diffrn_reflns_theta_full        24.83
_diffrn_reflns_theta_max         24.83
_diffrn_reflns_theta_min         3.74
_exptl_absorpt_coefficient_mu    1.848
_exptl_absorpt_correction_T_max  0.9297
_exptl_absorpt_correction_T_min  0.7321
_exptl_absorpt_correction_type   multi-scan
_exptl_absorpt_process_details   'SADABS 2008/1 Bruker AXS Madison WI USA'
_exptl_crystal_colour            colorless
_exptl_crystal_density_diffrn    2.172
_exptl_crystal_description       blade
_exptl_crystal_F_000             648
_exptl_crystal_size_max          0.18
_exptl_crystal_size_mid          0.06
_exptl_crystal_size_min          0.04
_refine_diff_density_max         0.633
_refine_diff_density_min         -0.470
_refine_diff_density_rms         0.129
_refine_ls_extinction_method     none
_refine_ls_goodness_of_fit_ref   1.215
_refine_ls_hydrogen_treatment    constr
_refine_ls_matrix_type           full
_refine_ls_number_parameters     64
_refine_ls_number_reflns         721
_refine_ls_number_restraints     2
_refine_ls_restrained_S_all      1.213
_refine_ls_R_factor_all          0.0453
_refine_ls_R_factor_gt           0.0345
_refine_ls_shift/su_max          0.000
_refine_ls_shift/su_mean         0.000
_refine_ls_structure_factor_coef Fsqd
_refine_ls_weighting_details
'calc w=1/[σ²(Fo²)+(0.0452P)²+5.9255P] where P=(Fo²+2Fc²)/3'
_refine_ls_weighting_scheme      calc
_refine_ls_wR_factor_gt          0.0867
_refine_ls_wR_factor_ref         0.1131
_reflns_number_gt                638
_reflns_number_total             721
_reflns_threshold_expression     I>2σ(I)
_cod_data_source_file            ja311613p_si_002_4.cif
_cod_data_source_block           2_81GPa
_cod_original_cell_volume        970.6(3)
_cod_original_sg_symbol_H-M      'C 2/c'
_cod_database_code               4119237
loop_
_symmetry_equiv_pos_as_xyz
'x, y, z'
'-x, y, -z+1/2'
'x+1/2, y+1/2, z'
'-x+1/2, y+1/2, -z+1/2'
'-x, -y, -z'
'x, -y, z-1/2'
'-x+1/2, -y+1/2, -z'
'x+1/2, -y+1/2, z-1/2'
loop_
_atom_site_label
_atom_site_type_symbol
_atom_site_fract_x
_atom_site_fract_y
_atom_site_fract_z
_atom_site_U_iso_or_equiv
_atom_site_adp_type
_atom_site_occupancy
_atom_site_symmetry_multiplicity
_atom_site_calc_flag
_atom_site_refinement_flags
Zn1 Zn 0.5000 0.54884(18) 0.7500 0.0267(5) Uani 1 2 d S
P1 P 0.38739(7) 0.3078(3) 0.81909(16) 0.0301(8) Uani 1 1 d .
O1 O 0.3960(2) 0.4271(9) 0.6837(5) 0.037(2) Uani 1 1 d .
O1W O 0.4143(3) -0.1000(12) 0.9447(6) 0.066(3) Uani 1 1 d D
H1W H 0.3928 -0.0808 1.0193 0.099 Uiso 1 1 d RD
H2W H 0.4591 -0.1515 0.9605 0.099 Uiso 1 1 d RD
O2 O 0.46619(19) 0.3051(8) 1.0268(5) 0.0273(7) Uiso 1 1 d .
O3 O 0.3783(3) 0.1339(10) 0.7290(5) 0.032(2) Uani 1 1 d .
H3 H 0.3921 0.0648 0.8164 0.049 Uiso 1 1 calc R
C1 C 0.2917(3) 0.3399(12) 0.8315(7) 0.035(3) Uani 1 1 d .
H1A H 0.2887 0.4541 0.8629 0.042 Uiso 1 1 calc R
H1B H 0.2415 0.3169 0.7028 0.042 Uiso 1 1 calc R
C2 C 0.2885(3) 0.2315(13) 0.9872(8) 0.046(3) Uani 1 1 d .
H2A H 0.2860 0.1174 0.9490 0.055 Uiso 1 1 calc R
H2B H 0.3415 0.2469 1.1132 0.055 Uiso 1 1 calc R
loop_
_atom_site_aniso_label
_atom_site_aniso_U_11
_atom_site_aniso_U_22
_atom_site_aniso_U_33
_atom_site_aniso_U_23
_atom_site_aniso_U_13
_atom_site_aniso_U_12
Zn1 0.0252(4) 0.0350(16) 0.0241(3) 0.000 0.0153(3) 0.000
P1 0.0249(5) 0.044(2) 0.0250(5) -0.0008(7) 0.0151(4) -0.0031(6)
O1 0.0309(16) 0.049(8) 0.0332(16) 0.000(2) 0.0178(13) 0.0002(19)
O1W 0.045(2) 0.115(10) 0.049(2) 0.013(3) 0.0324(19) 0.019(3)
O3 0.057(2) 0.012(8) 0.0335(17) -0.004(2) 0.0268(16) -0.004(2)
C1 0.026(2) 0.050(10) 0.033(2) 0.001(3) 0.0171(17) 0.003(2)
C2 0.032(2) 0.072(11) 0.041(2) 0.001(4) 0.025(2) 0.004(3)
loop_
_atom_type_symbol
_atom_type_description
_atom_type_scat_dispersion_real
_atom_type_scat_dispersion_imag
_atom_type_scat_source
C C -0.0020 0.0011
'WCROMER Program in WinGX L.Kissel & R.H.Pratt Acta Cryst A46 170 1990'
H H 0.0000 0.0000
'WCROMER Program in WinGX L.Kissel & R.H.Pratt Acta Cryst A46 170 1990'
O O -0.0041 0.0043
'WCROMER Program in WinGX L.Kissel & R.H.Pratt Acta Cryst A46 170 1990'
P P 0.0660 0.0684
'WCROMER Program in WinGX L.Kissel & R.H.Pratt Acta Cryst A46 170 1990'
Zn Zn 0.3061 1.0799
'WCROMER Program in WinGX L.Kissel & R.H.Pratt Acta Cryst A46 170 1990'
loop_
_geom_angle_atom_site_label_1
_geom_angle_atom_site_label_2
_geom_angle_atom_site_label_3
_geom_angle
_geom_angle_site_symmetry_1
_geom_angle_site_symmetry_3
O1 Zn1 O1 117.9(4) 2_656 .
O1 Zn1 O2 104.32(17) 2_656 5_667
O1 Zn1 O2 112.80(16) . 5_667
O1 Zn1 O2 112.80(16) 2_656 6_565
O1 Zn1 O2 104.32(17) . 6_565
O2 Zn1 O2 104.1(3) 5_667 6_565
O1 P1 O2 113.3(3) . .
O1 P1 O3 107.6(3) . .
O2 P1 O3 107.4(3) . .
O1 P1 C1 112.2(3) . .
O2 P1 C1 110.2(2) . .
O3 P1 C1 105.8(4) . .
P1 O1 Zn1 124.4(2) . .
H1W O1W H2W 133.9 . .
P1 O2 Zn1 130.8(3) . 5_667
P1 O3 H3 109.5 . .
C2 C1 P1 111.9(5) . .
C2 C1 H1A 109.2 . .
P1 C1 H1A 109.2 . .
C2 C1 H1B 109.2 . .
P1 C1 H1B 109.2 . .
H1A C1 H1B 107.9 . .
C2 C2 C1 112.4(9) 7_557 .
C2 C2 H2A 109.1 7_557 .
C1 C2 H2A 109.1 . .
C2 C2 H2B 109.1 7_557 .
C1 C2 H2B 109.1 . .
H2A C2 H2B 107.8 . .
loop_
_geom_bond_atom_site_label_1
_geom_bond_atom_site_label_2
_geom_bond_distance
_geom_bond_site_symmetry_2
Zn1 O1 1.921(5) 2_656
Zn1 O1 1.921(5) .
Zn1 O2 1.935(5) 5_667
Zn1 O2 1.935(5) 6_565
P1 O1 1.493(6) .
P1 O2 1.521(3) .
P1 O3 1.552(8) .
P1 C1 1.761(5) .
O1W H1W 0.8499 .
O1W H2W 0.8500 .
O2 Zn1 1.935(5) 5_667
O3 H3 0.8200 .
C1 C2 1.520(10) .
C1 H1A 0.9700 .
C1 H1B 0.9700 .
C2 C2 1.501(9) 7_557
C2 H2A 0.9700 .
C2 H2B 0.9700 .
loop_
_geom_hbond_atom_site_label_D
_geom_hbond_atom_site_label_H
_geom_hbond_atom_site_label_A
_geom_hbond_distance_DH
_geom_hbond_distance_HA
_geom_hbond_distance_DA
_geom_hbond_angle_DHA
_geom_hbond_site_symmetry_A
O3 H3 O1W 0.82 1.60 2.404(10) 166.3 .
O1W H1W O3 0.85 1.82 2.596(5) 150.9 6_556
O1W H2W O2 0.85 1.79 2.616(8) 164.7 5_657
