#------------------------------------------------------------------------------
#$Date: 2016-03-23 01:50:15 +0200 (Wed, 23 Mar 2016) $
#$Revision: 179157 $
#$URL: svn://www.crystallography.net/cod/cif/4/31/18/4311834.cif $
#------------------------------------------------------------------------------
#
# This file is available in the Crystallography Open Database (COD),
# http://www.crystallography.net/
#
# All data on this site have been placed in the public domain by the
# contributors.
#
data_4311834
loop_
_publ_author_name
'Carla Slebodnick'
'Jing Zhao'
'Ross Angel'
'Brian E. Hanson'
'Yang Song'
'Zhenxian Liu'
'Russell J. Hemley'
_publ_contact_author_address
;
Department Of Chemistry, Virginia Tech, Blacksburg, VA 24061
;
_publ_contact_author_email       hanson@vt.edu
_publ_contact_author_fax         '540 231-3255'
_publ_contact_author_name        'Brian E. Hanson'
_publ_contact_author_phone       '540 231 7206'
_publ_section_title
;
 High Pressure Study of Ru3(CO)12 by X-ray Diffraction, Raman, and
 Infrared Spectroscopy
;
_journal_name_full               'Inorganic Chemistry'
_journal_page_first              5245
_journal_page_last               5252
_journal_paper_doi               10.1021/ic049617y
_journal_volume                  43
_journal_year                    2004
_chemical_formula_moiety         'C12 O12 Ru3'
_chemical_formula_sum            'C12 O12 Ru3'
_chemical_formula_weight         639.33
_chemical_name_common            'triruthenium dodecacarbonyl'
_chemical_name_systematic        'triruthenium dodecacarbonyl'
_space_group_IT_number           14
_symmetry_cell_setting           monoclinic
_symmetry_Int_Tables_number      14
_symmetry_space_group_name_Hall  '-P 2yn'
_symmetry_space_group_name_H-M   'P 1 21/n 1'
_atom_sites_solution_hydrogens   geom
_atom_sites_solution_primary     direct
_atom_sites_solution_secondary   difmap
_audit_creation_method           SHELXL-97
_cell_angle_alpha                90.00
_cell_angle_beta                 100.240(10)
_cell_angle_gamma                90.00
_cell_formula_units_Z            4
_cell_length_a                   7.3718(10)
_cell_length_b                   13.515(2)
_cell_length_c                   13.036(2)
_cell_measurement_pressure       8140000
_cell_measurement_reflns_used    901
_cell_measurement_temperature    293(2)
_cell_measurement_theta_max      22.54
_cell_measurement_theta_min      3.01
_cell_volume                     1278.1(3)
_computing_cell_refinement       'Crysalis (Oxford Diffraction)'
_computing_data_collection       'Crysalis (Oxford Diffraction)'
_computing_data_reduction
;
 WinIntergrStp 3.3 (Angel, J. Appl. Cryst. 2003)
;
_computing_molecular_graphics    'Bruker SHELXTL'
_computing_publication_material
;
 Bruker SHELXTL (Sheldrick, 2001) and PLATON (Spek, A. L., J Appl. 
 Cryst., 2003)
;
_computing_structure_refinement  'SHELXL-97 (Sheldrick, 1997)'
_computing_structure_solution
;
 coordinates obtained from CCDC (Allan, Acta Cryst B., 2002 and Bruno et al. 
 Acta Cryst. B, 2002) from the 
 structure by Churchill, et al. (Inorg Chem, 1977).
;
_diffrn_ambient_pressure         8140000
_diffrn_ambient_temperature      293(2)
_diffrn_detector_type            'point detector'
_diffrn_measured_fraction_theta_full 0.329
_diffrn_measured_fraction_theta_max 0.329
_diffrn_measurement_device_type  'Oxford Diffraction Xcalibur 1'
_diffrn_measurement_method       'constant precision omega scans at phi=0'
_diffrn_radiation_monochromator  graphite
_diffrn_radiation_probe          x-ray
_diffrn_radiation_source         'fine-focus sealed tube'
_diffrn_radiation_type           MoK\a
_diffrn_reflns_av_R_equivalents  0.1077
_diffrn_reflns_av_sigmaI/netI    0.1041
_diffrn_reflns_limit_h_max       7
_diffrn_reflns_limit_h_min       -7
_diffrn_reflns_limit_k_max       0
_diffrn_reflns_limit_k_min       -14
_diffrn_reflns_limit_l_max       6
_diffrn_reflns_limit_l_min       -6
_diffrn_reflns_number            901
_diffrn_reflns_theta_full        22.54
_diffrn_reflns_theta_max         22.54
_diffrn_reflns_theta_min         3.01
_diffrn_standards_decay_%        0
_diffrn_standards_interval_count 200
_diffrn_standards_number         3
_exptl_absorpt_coefficient_mu    3.583
_exptl_absorpt_correction_T_max  0.912
_exptl_absorpt_correction_T_min  0.771
_exptl_absorpt_correction_type   gaussian
_exptl_absorpt_process_details
;
 Correction for absorption affects of the diamond anvil cell
 and the sample were made using ABSORB 5.3.  Reference: 
 Absorb (Angel, J. Appl. Cryst. 2004)
;
_exptl_crystal_colour            yellow
_exptl_crystal_density_diffrn    3.322
_exptl_crystal_density_method    'not measured'
_exptl_crystal_description       plate
_exptl_crystal_F_000             1200
_exptl_crystal_size_max          0.22
_exptl_crystal_size_mid          0.19
_exptl_crystal_size_min          0.030
_refine_diff_density_max         0.724
_refine_diff_density_min         -0.798
_refine_diff_density_rms         0.175
_refine_ls_extinction_method     none
_refine_ls_goodness_of_fit_ref   1.306
_refine_ls_hydrogen_treatment    none
_refine_ls_matrix_type           full
_refine_ls_number_parameters     113
_refine_ls_number_reflns         552
_refine_ls_number_restraints     24
_refine_ls_restrained_S_all      1.276
_refine_ls_R_factor_all          0.0723
_refine_ls_R_factor_gt           0.0622
_refine_ls_shift/su_max          0.000
_refine_ls_shift/su_mean         0.000
_refine_ls_structure_factor_coef Fsqd
_refine_ls_weighting_details
'calc w=1/[σ²(Fo²)+(0.0001P)²+42.6469P] where P=(Fo²+2Fc²)/3'
_refine_ls_weighting_scheme      calc
_refine_ls_wR_factor_gt          0.1394
_refine_ls_wR_factor_ref         0.1445
_reflns_number_gt                506
_reflns_number_total             552
_reflns_threshold_expression     >2sigma(I)
_cod_data_source_file            ic049617ysi20040322_044432_1.cif
_cod_data_source_block           81kbar
_cod_depositor_comments
;
The following automatic conversions were performed:
'_exptl_absorpt_correction_type' value 'Gaussian' changed to 'gaussian'
according to '/home/saulius/struct/CIF-dictionaries/cif_core.dic'
dictionary named 'cif_core.dic' version 2.4.1 from 2010-06-29.

Automatic conversion script
Id: cif_fix_enum 1527 2010-12-29 10:47:43Z saulius 
;
_cod_original_sg_symbol_H-M      'P 21/n'
_cod_database_code               4311834
loop_
_symmetry_equiv_pos_as_xyz
'x, y, z'
'-x+1/2, y+1/2, -z+1/2'
'-x, -y, -z'
'x-1/2, -y-1/2, z-1/2'
loop_
_atom_site_label
_atom_site_type_symbol
_atom_site_fract_x
_atom_site_fract_y
_atom_site_fract_z
_atom_site_U_iso_or_equiv
_atom_site_adp_type
_atom_site_occupancy
_atom_site_symmetry_multiplicity
_atom_site_calc_flag
_atom_site_refinement_flags
_atom_site_disorder_assembly
_atom_site_disorder_group
Ru1 Ru 0.4294(4) -0.02732(15) 0.2163(5) 0.0114(8) Uiso 1 1 d D . .
Ru2 Ru 0.4347(4) 0.17785(15) 0.2043(4) 0.0113(7) Uiso 1 1 d D . .
Ru3 Ru 0.7040(3) 0.07796(15) 0.3399(4) 0.0107(7) Uiso 1 1 d D . .
C11 C 0.587(5) -0.033(2) 0.116(4) 0.021(8) Uiso 1 1 d D . .
C12 C 0.276(5) -0.016(2) 0.318(4) 0.023(9) Uiso 1 1 d D . .
C13 C 0.526(5) -0.150(2) 0.268(5) 0.028(9) Uiso 1 1 d D . .
C14 C 0.216(3) -0.0566(17) 0.120(3) 0.010(7) Uiso 1 1 d D . .
C21 C 0.584(4) 0.1721(17) 0.099(3) 0.005(6) Uiso 1 1 d D . .
C22 C 0.276(4) 0.1834(19) 0.305(3) 0.013(7) Uiso 1 1 d D . .
C23 C 0.227(3) 0.1933(18) 0.098(3) 0.011(7) Uiso 1 1 d D . .
C24 C 0.529(4) 0.3022(18) 0.251(5) 0.023(9) Uiso 1 1 d D . .
C31 C 0.860(4) 0.0744(19) 0.239(3) 0.010(7) Uiso 1 1 d D . .
C32 C 0.542(4) 0.0952(15) 0.436(3) 0.004(7) Uiso 1 1 d D . .
C33 C 0.829(4) 0.1916(19) 0.394(5) 0.022(9) Uiso 1 1 d D . .
C34 C 0.826(3) -0.0324(16) 0.405(4) 0.007(7) Uiso 1 1 d D . .
O11 O 0.674(3) -0.0370(14) 0.050(3) 0.024(6) Uiso 1 1 d D . .
O12 O 0.185(3) -0.0211(13) 0.381(3) 0.019(5) Uiso 1 1 d D . .
O13 O 0.581(3) -0.2197(12) 0.308(4) 0.014(5) Uiso 1 1 d D . .
O14 O 0.088(3) -0.0714(13) 0.060(3) 0.019(5) Uiso 1 1 d D . .
O21 O 0.690(3) 0.1786(13) 0.045(3) 0.020(5) Uiso 1 1 d D . .
O22 O 0.200(4) 0.1976(16) 0.374(4) 0.038(7) Uiso 1 1 d D . .
O23 O 0.105(3) 0.2111(13) 0.034(3) 0.023(6) Uiso 1 1 d D . .
O24 O 0.591(3) 0.3787(13) 0.275(3) 0.018(5) Uiso 1 1 d D . .
O31 O 0.968(3) 0.0775(14) 0.180(3) 0.015(5) Uiso 1 1 d D . .
O32 O 0.473(3) 0.1084(12) 0.513(3) 0.017(5) Uiso 1 1 d D . .
O33 O 0.889(3) 0.2683(14) 0.420(4) 0.031(6) Uiso 1 1 d D . .
O34 O 0.892(3) -0.1025(13) 0.447(4) 0.022(6) Uiso 1 1 d D . .
loop_
_atom_type_symbol
_atom_type_description
_atom_type_scat_dispersion_real
_atom_type_scat_dispersion_imag
_atom_type_scat_source
C C 0.0033 0.0016 'International Tables Vol C Tables 4.2.6.8 and 6.1.1.4'
O O 0.0106 0.0060 'International Tables Vol C Tables 4.2.6.8 and 6.1.1.4'
Ru Ru -1.2594 0.8363 'International Tables Vol C Tables 4.2.6.8 and 6.1.1.4'
loop_
_geom_angle_atom_site_label_1
_geom_angle_atom_site_label_2
_geom_angle_atom_site_label_3
_geom_angle
_geom_angle_site_symmetry_1
_geom_angle_site_symmetry_3
_geom_angle_publ_flag
C13 Ru1 C14 105.8(18) . . ?
C13 Ru1 C12 93(2) . . ?
C14 Ru1 C12 87(2) . . ?
C13 Ru1 C11 88(2) . . ?
C14 Ru1 C11 94(2) . . ?
C12 Ru1 C11 177.5(13) . . ?
C13 Ru1 Ru3 93.2(16) . . ?
C14 Ru1 Ru3 161.0(7) . . ?
C12 Ru1 Ru3 91.0(13) . . ?
C11 Ru1 Ru3 87.1(14) . . ?
C13 Ru1 Ru2 153.1(16) . . ?
C14 Ru1 Ru2 101.1(8) . . ?
C12 Ru1 Ru2 88.5(9) . . ?
C11 Ru1 Ru2 89.1(9) . . ?
Ru3 Ru1 Ru2 59.95(12) . . ?
C24 Ru2 C23 110.2(18) . . ?
C24 Ru2 C22 88.9(18) . . ?
C23 Ru2 C22 89.0(18) . . ?
C24 Ru2 C21 92.3(18) . . ?
C23 Ru2 C21 88.3(17) . . ?
C22 Ru2 C21 177.3(18) . . ?
C24 Ru2 Ru3 92.8(16) . . ?
C23 Ru2 Ru3 157.1(8) . . ?
C22 Ru2 Ru3 92.3(13) . . ?
C21 Ru2 Ru3 90.0(12) . . ?
C24 Ru2 Ru1 152.1(17) . . ?
C23 Ru2 Ru1 97.6(8) . . ?
C22 Ru2 Ru1 89.1(8) . . ?
C21 Ru2 Ru1 90.9(7) . . ?
Ru3 Ru2 Ru1 59.53(13) . . ?
C33 Ru3 C34 108.8(18) . . ?
C33 Ru3 C32 88.5(17) . . ?
C34 Ru3 C32 96.1(16) . . ?
C33 Ru3 C31 88.1(18) . . ?
C34 Ru3 C31 89.6(17) . . ?
C32 Ru3 C31 174.0(12) . . ?
C33 Ru3 Ru1 155.6(14) . . ?
C34 Ru3 Ru1 95.6(11) . . ?
C32 Ru3 Ru1 88.2(11) . . ?
C31 Ru3 Ru1 93.0(12) . . ?
C33 Ru3 Ru2 95.1(15) . . ?
C34 Ru3 Ru2 156.1(11) . . ?
C32 Ru3 Ru2 84.2(12) . . ?
C31 Ru3 Ru2 91.2(12) . . ?
Ru1 Ru3 Ru2 60.51(12) . . ?
O11 C11 Ru1 176(4) . . ?
O12 C12 Ru1 172(3) . . ?
O13 C13 Ru1 173(5) . . ?
O14 C14 Ru1 178(3) . . ?
O21 C21 Ru2 170(3) . . ?
O22 C22 Ru2 169(3) . . ?
O23 C23 Ru2 174(2) . . ?
O24 C24 Ru2 177(5) . . ?
O31 C31 Ru3 174(3) . . ?
O32 C32 Ru3 166(3) . . ?
O33 C33 Ru3 172(4) . . ?
O34 C34 Ru3 176(3) . . ?
loop_
_geom_bond_atom_site_label_1
_geom_bond_atom_site_label_2
_geom_bond_distance
_geom_bond_site_symmetry_2
_geom_bond_publ_flag
Ru1 C13 1.88(2) . ?
Ru1 C14 1.88(3) . ?
Ru1 C12 1.89(3) . ?
Ru1 C11 1.90(3) . ?
Ru1 Ru3 2.751(5) . ?
Ru1 Ru2 2.778(3) . ?
Ru2 C24 1.88(2) . ?
Ru2 C23 1.89(3) . ?
Ru2 C22 1.90(3) . ?
Ru2 C21 1.91(3) . ?
Ru2 Ru3 2.762(6) . ?
Ru3 C33 1.86(2) . ?
Ru3 C34 1.87(2) . ?
Ru3 C32 1.89(3) . ?
Ru3 C31 1.90(3) . ?
C11 O11 1.16(4) . ?
C12 O12 1.16(4) . ?
C13 O13 1.12(4) . ?
C14 O14 1.13(4) . ?
C21 O21 1.14(4) . ?
C22 O22 1.16(5) . ?
C23 O23 1.14(4) . ?
C24 O24 1.15(3) . ?
C31 O31 1.20(4) . ?
C32 O32 1.21(4) . ?
C33 O33 1.16(3) . ?
C34 O34 1.16(3) . ?
