#------------------------------------------------------------------------------
#$Date: 2016-03-23 01:50:15 +0200 (Wed, 23 Mar 2016) $
#$Revision: 179157 $
#$URL: svn://www.crystallography.net/cod/cif/4/31/18/4311836.cif $
#------------------------------------------------------------------------------
#
# This file is available in the Crystallography Open Database (COD),
# http://www.crystallography.net/
#
# All data on this site have been placed in the public domain by the
# contributors.
#
data_4311836
loop_
_publ_author_name
'Carla Slebodnick'
'Jing Zhao'
'Ross Angel'
'Brian E. Hanson'
'Yang Song'
'Zhenxian Liu'
'Russell J. Hemley'
_publ_contact_author_address
;
Department Of Chemistry, Virginia Tech, Blacksburg, VA 24061
;
_publ_contact_author_email       hanson@vt.edu
_publ_contact_author_fax         '540 231-3255'
_publ_contact_author_name        'Brian E. Hanson'
_publ_contact_author_phone       '540 231 7206'
_publ_section_title
;
 High Pressure Study of Ru3(CO)12 by X-ray Diffraction, Raman, and
 Infrared Spectroscopy
;
_journal_name_full               'Inorganic Chemistry'
_journal_page_first              5245
_journal_page_last               5252
_journal_paper_doi               10.1021/ic049617y
_journal_volume                  43
_journal_year                    2004
_chemical_formula_moiety         'C12 O12 Ru3'
_chemical_formula_sum            'C12 O12 Ru3'
_chemical_formula_weight         639.33
_chemical_name_common            'triruthenium dodecacarbonyl'
_chemical_name_systematic        'triruthenium dodecacarbonyl'
_space_group_IT_number           14
_symmetry_cell_setting           monoclinic
_symmetry_Int_Tables_number      14
_symmetry_space_group_name_Hall  '-P 2yn'
_symmetry_space_group_name_H-M   'P 1 21/n 1'
_atom_sites_solution_hydrogens   geom
_atom_sites_solution_primary     direct
_atom_sites_solution_secondary   difmap
_audit_creation_method           SHELXL-97
_cell_angle_alpha                90.00
_cell_angle_beta                 100.616(10)
_cell_angle_gamma                90.00
_cell_formula_units_Z            4
_cell_length_a                   8.0847(10)
_cell_length_b                   14.798(2)
_cell_length_c                   14.559(2)
_cell_measurement_pressure       100
_cell_measurement_reflns_used    1080
_cell_measurement_temperature    293(2)
_cell_measurement_theta_max      22.50
_cell_measurement_theta_min      2.69
_cell_volume                     1712.0(4)
_computing_cell_refinement       'Crysalis (Oxford Diffraction)'
_computing_data_collection       'Crysalis (Oxford Diffraction)'
_computing_data_reduction
;
 WinIntergrStp 3.3 (Angel, J. Appl. Cryst. 2003)
;
_computing_molecular_graphics    'Bruker SHELXTL'
_computing_publication_material
;
 Bruker SHELXTL (Sheldrick, 2001) and PLATON (Spek, A. L., J Appl. 
 Cryst., 2003)
;
_computing_structure_refinement  'SHELXL-97 (Sheldrick, 1997)'
_computing_structure_solution
;
 coordinates obtained from CCDC (Allan, Acta Cryst B., 2002 and Bruno et al. 
 Acta Cryst. B, 2002) from the structure by 
 Churchill, et al. (Inorg Chem, 1977).
;
_diffrn_ambient_pressure         '0.00 GPa (1 atm pressure)'
_diffrn_ambient_temperature      293(2)
_diffrn_detector_type            'point detector'
_diffrn_measured_fraction_theta_full 0.280
_diffrn_measured_fraction_theta_max 0.280
_diffrn_measurement_device_type  'Oxford Diffraction Xcalibur 1'
_diffrn_measurement_method       'constant precision omega scans at phi=0'
_diffrn_radiation_monochromator  graphite
_diffrn_radiation_probe          x-ray
_diffrn_radiation_source         'fine-focus sealed tube'
_diffrn_radiation_type           MoK\a
_diffrn_radiation_wavelength     0.71073
_diffrn_reflns_av_R_equivalents  0.0745
_diffrn_reflns_av_sigmaI/netI    0.0788
_diffrn_reflns_limit_h_max       8
_diffrn_reflns_limit_h_min       -8
_diffrn_reflns_limit_k_max       0
_diffrn_reflns_limit_k_min       -15
_diffrn_reflns_limit_l_max       8
_diffrn_reflns_limit_l_min       -8
_diffrn_reflns_number            1080
_diffrn_reflns_theta_full        22.50
_diffrn_reflns_theta_max         22.50
_diffrn_reflns_theta_min         2.69
_diffrn_standards_decay_%        0
_diffrn_standards_interval_count 200
_diffrn_standards_number         3
_exptl_absorpt_coefficient_mu    2.675
_exptl_absorpt_correction_T_max  0.922
_exptl_absorpt_correction_T_min  0.770
_exptl_absorpt_correction_type   gaussian
_exptl_absorpt_process_details
;
 Correction for absorption affects of the diamond anvil cell
 and the sample were made using ABSORB 5.3.  Reference: 
   Absorb (Angel, J. Appl. Cryst. 2004)
;
_exptl_crystal_colour            yellow
_exptl_crystal_density_diffrn    2.480
_exptl_crystal_density_method    'not measured'
_exptl_crystal_description       plate
_exptl_crystal_F_000             1200
_exptl_crystal_size_max          0.22
_exptl_crystal_size_mid          0.19
_exptl_crystal_size_min          0.030
_refine_diff_density_max         0.423
_refine_diff_density_min         -0.534
_refine_diff_density_rms         0.118
_refine_ls_extinction_coef       none
_refine_ls_extinction_method     none
_refine_ls_goodness_of_fit_ref   1.251
_refine_ls_hydrogen_treatment    none
_refine_ls_matrix_type           full
_refine_ls_number_parameters     113
_refine_ls_number_reflns         627
_refine_ls_number_restraints     24
_refine_ls_restrained_S_all      1.226
_refine_ls_R_factor_all          0.0506
_refine_ls_R_factor_gt           0.0503
_refine_ls_shift/su_max          0.000
_refine_ls_shift/su_mean         0.000
_refine_ls_structure_factor_coef Fsqd
_refine_ls_weighting_details
'calc w=1/[σ²(Fo²)+(0.0000P)²+42.3368P] where P=(Fo²+2Fc²)/3'
_refine_ls_weighting_scheme      calc
_refine_ls_wR_factor_gt          0.1340
_refine_ls_wR_factor_ref         0.1341
_reflns_number_gt                623
_reflns_number_total             627
_reflns_threshold_expression     >2sigma(I)
_cod_data_source_file            ic049617ysi20040322_044432_3.cif
_cod_data_source_block           00kbar
_cod_depositor_comments
;
The following automatic conversions were performed:
'_exptl_absorpt_correction_type' value 'Gaussian' changed to 'gaussian'
according to '/home/saulius/struct/CIF-dictionaries/cif_core.dic'
dictionary named 'cif_core.dic' version 2.4.1 from 2010-06-29.

Automatic conversion script
Id: cif_fix_enum 1527 2010-12-29 10:47:43Z saulius 
;
_cod_original_cell_volume        1712.1(4)
_cod_original_sg_symbol_H-M      'P 21/n'
_cod_database_code               4311836
loop_
_symmetry_equiv_pos_as_xyz
'x, y, z'
'-x+1/2, y+1/2, -z+1/2'
'-x, -y, -z'
'x-1/2, -y-1/2, z-1/2'
loop_
_atom_site_label
_atom_site_type_symbol
_atom_site_fract_x
_atom_site_fract_y
_atom_site_fract_z
_atom_site_U_iso_or_equiv
_atom_site_adp_type
_atom_site_occupancy
_atom_site_symmetry_multiplicity
_atom_site_calc_flag
_atom_site_refinement_flags
_atom_site_disorder_assembly
_atom_site_disorder_group
Ru1 Ru 0.4419(4) -0.02307(13) 0.2230(4) 0.0283(7) Uiso 1 1 d D . .
Ru2 Ru 0.4420(4) 0.16851(13) 0.2067(4) 0.0292(7) Uiso 1 1 d D . .
Ru3 Ru 0.6943(3) 0.08057(13) 0.3384(4) 0.0273(7) Uiso 1 1 d D . .
C11 C 0.581(4) -0.0302(17) 0.131(3) 0.038(7) Uiso 1 1 d D . .
C12 C 0.310(5) -0.0120(18) 0.319(3) 0.047(9) Uiso 1 1 d D . .
C13 C 0.519(4) -0.1378(16) 0.270(4) 0.035(7) Uiso 1 1 d D . .
C14 C 0.249(3) -0.0503(19) 0.133(3) 0.044(9) Uiso 1 1 d D . .
C21 C 0.587(4) 0.1596(16) 0.117(3) 0.035(7) Uiso 1 1 d D . .
C22 C 0.299(4) 0.1757(18) 0.296(4) 0.044(8) Uiso 1 1 d D . .
C23 C 0.254(3) 0.183(2) 0.109(3) 0.048(9) Uiso 1 1 d D . .
C24 C 0.513(4) 0.2888(15) 0.237(4) 0.039(8) Uiso 1 1 d D . .
C31 C 0.835(4) 0.0686(15) 0.248(3) 0.029(7) Uiso 1 1 d D . .
C32 C 0.549(4) 0.0958(15) 0.427(3) 0.031(7) Uiso 1 1 d D . .
C33 C 0.820(4) 0.1811(17) 0.392(4) 0.044(8) Uiso 1 1 d D . .
C34 C 0.807(3) -0.0195(15) 0.405(3) 0.029(7) Uiso 1 1 d D . .
O11 O 0.657(3) -0.0409(13) 0.073(3) 0.052(6) Uiso 1 1 d D . .
O12 O 0.215(3) -0.0168(13) 0.367(3) 0.059(7) Uiso 1 1 d D . .
O13 O 0.566(3) -0.2059(12) 0.297(3) 0.051(6) Uiso 1 1 d D . .
O14 O 0.134(3) -0.0644(16) 0.074(3) 0.083(9) Uiso 1 1 d D . .
O21 O 0.672(4) 0.1633(14) 0.063(4) 0.065(7) Uiso 1 1 d D . .
O22 O 0.210(3) 0.1868(13) 0.350(3) 0.061(6) Uiso 1 1 d D . .
O23 O 0.138(3) 0.1926(17) 0.051(3) 0.084(9) Uiso 1 1 d D . .
O24 O 0.566(3) 0.3591(13) 0.258(4) 0.062(7) Uiso 1 1 d D . .
O31 O 0.933(3) 0.0679(12) 0.200(3) 0.053(6) Uiso 1 1 d D . .
O32 O 0.485(3) 0.1069(12) 0.486(3) 0.049(6) Uiso 1 1 d D . .
O33 O 0.896(3) 0.2414(12) 0.429(3) 0.053(6) Uiso 1 1 d D . .
O34 O 0.873(3) -0.0793(12) 0.444(3) 0.049(6) Uiso 1 1 d D . .
loop_
_atom_type_symbol
_atom_type_description
_atom_type_scat_dispersion_real
_atom_type_scat_dispersion_imag
_atom_type_scat_source
C C 0.0033 0.0016 'International Tables Vol C Tables 4.2.6.8 and 6.1.1.4'
O O 0.0106 0.0060 'International Tables Vol C Tables 4.2.6.8 and 6.1.1.4'
Ru Ru -1.2594 0.8363 'International Tables Vol C Tables 4.2.6.8 and 6.1.1.4'
loop_
_geom_angle_atom_site_label_1
_geom_angle_atom_site_label_2
_geom_angle_atom_site_label_3
_geom_angle
_geom_angle_site_symmetry_1
_geom_angle_site_symmetry_3
_geom_angle_publ_flag
C14 Ru1 C13 103.6(17) . . ?
C14 Ru1 C11 91.2(18) . . ?
C13 Ru1 C11 90.2(15) . . ?
C14 Ru1 C12 91.3(19) . . ?
C13 Ru1 C12 90.4(16) . . ?
C11 Ru1 C12 177.2(16) . . ?
C14 Ru1 Ru3 159.7(9) . . ?
C13 Ru1 Ru3 96.7(15) . . ?
C11 Ru1 Ru3 89.6(13) . . ?
C12 Ru1 Ru3 87.7(13) . . ?
C14 Ru1 Ru2 99.7(9) . . ?
C13 Ru1 Ru2 156.7(15) . . ?
C11 Ru1 Ru2 89.3(8) . . ?
C12 Ru1 Ru2 89.1(8) . . ?
Ru3 Ru1 Ru2 60.02(13) . . ?
C23 Ru2 C22 90.0(19) . . ?
C23 Ru2 C24 103.6(19) . . ?
C22 Ru2 C24 89.1(15) . . ?
C23 Ru2 C21 90.2(19) . . ?
C22 Ru2 C21 179.2(11) . . ?
C24 Ru2 C21 91.6(15) . . ?
C23 Ru2 Ru3 159.4(9) . . ?
C22 Ru2 Ru3 90.9(15) . . ?
C24 Ru2 Ru3 97.0(16) . . ?
C21 Ru2 Ru3 88.6(14) . . ?
C23 Ru2 Ru1 99.5(9) . . ?
C22 Ru2 Ru1 89.4(8) . . ?
C24 Ru2 Ru1 156.8(17) . . ?
C21 Ru2 Ru1 89.9(7) . . ?
Ru3 Ru2 Ru1 59.95(14) . . ?
C33 Ru3 C31 90.6(16) . . ?
C33 Ru3 C32 89.1(16) . . ?
C31 Ru3 C32 178.0(15) . . ?
C33 Ru3 C34 103.3(19) . . ?
C31 Ru3 C34 89.4(15) . . ?
C32 Ru3 C34 92.6(15) . . ?
C33 Ru3 Ru1 160.5(15) . . ?
C31 Ru3 Ru1 89.8(12) . . ?
C32 Ru3 Ru1 89.8(12) . . ?
C34 Ru3 Ru1 96.2(11) . . ?
C33 Ru3 Ru2 100.5(15) . . ?
C31 Ru3 Ru2 91.3(13) . . ?
C32 Ru3 Ru2 86.8(14) . . ?
C34 Ru3 Ru2 156.2(11) . . ?
Ru1 Ru3 Ru2 60.04(13) . . ?
O11 C11 Ru1 174(3) . . ?
O12 C12 Ru1 168(4) . . ?
O13 C13 Ru1 180(3) . . ?
O14 C14 Ru1 176(4) . . ?
O21 C21 Ru2 173(2) . . ?
O22 C22 Ru2 175(3) . . ?
O23 C23 Ru2 179(4) . . ?
O24 C24 Ru2 176(4) . . ?
O31 C31 Ru3 172(3) . . ?
O32 C32 Ru3 170(4) . . ?
O33 C33 Ru3 176(5) . . ?
O34 C34 Ru3 179(4) . . ?
loop_
_geom_bond_atom_site_label_1
_geom_bond_atom_site_label_2
_geom_bond_distance
_geom_bond_site_symmetry_2
_geom_bond_publ_flag
Ru1 C14 1.89(3) . ?
Ru1 C13 1.89(2) . ?
Ru1 C11 1.91(3) . ?
Ru1 C12 1.92(3) . ?
Ru1 Ru3 2.842(6) . ?
Ru1 Ru2 2.845(3) . ?
Ru2 C23 1.89(3) . ?
Ru2 C22 1.90(3) . ?
Ru2 C24 1.90(2) . ?
Ru2 C21 1.91(3) . ?
Ru2 Ru3 2.844(6) . ?
Ru3 C33 1.89(3) . ?
Ru3 C31 1.90(2) . ?
Ru3 C32 1.91(3) . ?
Ru3 C34 1.91(3) . ?
C11 O11 1.14(4) . ?
C12 O12 1.13(3) . ?
C13 O13 1.12(3) . ?
C14 O14 1.16(5) . ?
C21 O21 1.13(4) . ?
C22 O22 1.16(4) . ?
C23 O23 1.15(4) . ?
C24 O24 1.14(3) . ?
C31 O31 1.16(3) . ?
C32 O32 1.10(4) . ?
C33 O33 1.16(4) . ?
C34 O34 1.13(3) . ?
