#------------------------------------------------------------------------------
#$Date: 2016-03-23 01:50:15 +0200 (Wed, 23 Mar 2016) $
#$Revision: 179157 $
#$URL: svn://www.crystallography.net/cod/cif/4/31/18/4311837.cif $
#------------------------------------------------------------------------------
#
# This file is available in the Crystallography Open Database (COD),
# http://www.crystallography.net/
#
# All data on this site have been placed in the public domain by the
# contributors.
#
data_4311837
loop_
_publ_author_name
'Carla Slebodnick'
'Jing Zhao'
'Ross Angel'
'Brian E. Hanson'
'Yang Song'
'Zhenxian Liu'
'Russell J. Hemley'
_publ_contact_author_address
;
Department Of Chemistry, Virginia Tech, Blacksburg, VA 24061
;
_publ_contact_author_email       hanson@vt.edu
_publ_contact_author_fax         '540 231-3255'
_publ_contact_author_name        'Brian E. Hanson'
_publ_contact_author_phone       '540 231 7206'
_publ_section_title
;
 High Pressure Study of Ru3(CO)12 by X-ray Diffraction, Raman, and
 Infrared Spectroscopy
;
_journal_name_full               'Inorganic Chemistry'
_journal_page_first              5245
_journal_page_last               5252
_journal_paper_doi               10.1021/ic049617y
_journal_volume                  43
_journal_year                    2004
_chemical_formula_moiety         'C12 O12 Ru3'
_chemical_formula_sum            'C12 O12 Ru3'
_chemical_formula_weight         639.33
_chemical_name_common            'triruthenium dodecacarbonyl'
_chemical_name_systematic        'triruthenium dodecacarbonyl'
_space_group_IT_number           14
_symmetry_cell_setting           monoclinic
_symmetry_Int_Tables_number      14
_symmetry_space_group_name_Hall  '-P 2yn'
_symmetry_space_group_name_H-M   'P 1 21/n 1'
_atom_sites_solution_hydrogens   geom
_atom_sites_solution_primary     direct
_atom_sites_solution_secondary   difmap
_audit_creation_method           SHELXL-97
_cell_angle_alpha                90.00
_cell_angle_beta                 100.473(10)
_cell_angle_gamma                90.00
_cell_formula_units_Z            4
_cell_length_a                   7.8785(10)
_cell_length_b                   14.354(2)
_cell_length_c                   14.138(2)
_cell_measurement_pressure       960000
_cell_measurement_reflns_used    790
_cell_measurement_temperature    293(2)
_cell_measurement_theta_max      22.56
_cell_measurement_theta_min      2.77
_cell_volume                     1572.2(4)
_computing_cell_refinement       'Crysalis (Oxford Diffraction)'
_computing_data_collection       'Crysalis (Oxford Diffraction)'
_computing_data_reduction
;
 WinIntergrStp 3.3 (Angel, J. Appl. Cryst. 2003)
;
_computing_molecular_graphics    'Bruker SHELXTL'
_computing_publication_material
;
 Bruker SHELXTL (Sheldrick, 2001) and PLATON (Spek, A. L., J Appl. 
 Cryst., 2003)
;
_computing_structure_refinement  'SHELXL-97 (Sheldrick, 1997)'
_computing_structure_solution
;
 coordinates obtained from CCDC (Allan, Acta Cryst B., 2002 and Bruno et al. 
 Acta Cryst. B, 2002) from the structure by 
 Churchill, et al. (Inorg Chem, 1977).
;
_diffrn_ambient_pressure         960000
_diffrn_ambient_temperature      293(2)
_diffrn_detector_type            'point detector'
_diffrn_measured_fraction_theta_full 0.273
_diffrn_measured_fraction_theta_max 0.273
_diffrn_measurement_device_type  'Oxford Diffraction Xcalibur 1'
_diffrn_measurement_method       'constant precision omega scans at phi=0'
_diffrn_radiation_monochromator  graphite
_diffrn_radiation_probe          x-ray
_diffrn_radiation_source         'fine-focus sealed tube'
_diffrn_radiation_type           MoK\a
_diffrn_radiation_wavelength     0.71073
_diffrn_reflns_av_R_equivalents  0.0729
_diffrn_reflns_av_sigmaI/netI    0.0645
_diffrn_reflns_limit_h_max       8
_diffrn_reflns_limit_h_min       -8
_diffrn_reflns_limit_k_max       0
_diffrn_reflns_limit_k_min       -15
_diffrn_reflns_limit_l_max       8
_diffrn_reflns_limit_l_min       -8
_diffrn_reflns_number            790
_diffrn_reflns_theta_full        22.56
_diffrn_reflns_theta_max         22.56
_diffrn_reflns_theta_min         2.77
_diffrn_standards_decay_%        0
_diffrn_standards_interval_count 200
_diffrn_standards_number         3
_exptl_absorpt_coefficient_mu    2.913
_exptl_absorpt_correction_T_max  0.917
_exptl_absorpt_correction_T_min  0.781
_exptl_absorpt_correction_type   gaussian
_exptl_absorpt_process_details
;
 Correction for absorption affects of the diamond anvil cell
 and the sample were made using ABSORB 5.3.  Reference: 
  Absorb (Angel, J. Appl. Cryst. 2004)
;
_exptl_crystal_colour            yellow
_exptl_crystal_density_diffrn    2.701
_exptl_crystal_density_method    'not measured'
_exptl_crystal_description       plate
_exptl_crystal_F_000             1200
_exptl_crystal_size_max          0.22
_exptl_crystal_size_mid          0.19
_exptl_crystal_size_min          0.030
_refine_diff_density_max         0.524
_refine_diff_density_min         -0.576
_refine_diff_density_rms         0.135
_refine_ls_extinction_method     none
_refine_ls_goodness_of_fit_ref   1.344
_refine_ls_hydrogen_treatment    none
_refine_ls_matrix_type           full
_refine_ls_number_parameters     113
_refine_ls_number_reflns         568
_refine_ls_number_restraints     24
_refine_ls_restrained_S_all      1.313
_refine_ls_R_factor_all          0.0513
_refine_ls_R_factor_gt           0.0498
_refine_ls_shift/su_max          0.000
_refine_ls_shift/su_mean         0.000
_refine_ls_structure_factor_coef Fsqd
_refine_ls_weighting_details
'calc w=1/[σ²(Fo²)+(0.0000P)²+63.3579P] where P=(Fo²+2Fc²)/3'
_refine_ls_weighting_scheme      calc
_refine_ls_wR_factor_gt          0.1270
_refine_ls_wR_factor_ref         0.1271
_reflns_number_gt                565
_reflns_number_total             568
_reflns_threshold_expression     >2sigma(I)
_cod_data_source_file            ic049617ysi20040322_044432_4.cif
_cod_data_source_block           9kbar
_cod_depositor_comments
;
The following automatic conversions were performed:
'_exptl_absorpt_correction_type' value 'Gaussian' changed to 'gaussian'
according to '/home/saulius/struct/CIF-dictionaries/cif_core.dic'
dictionary named 'cif_core.dic' version 2.4.1 from 2010-06-29.

Automatic conversion script
Id: cif_fix_enum 1527 2010-12-29 10:47:43Z saulius 
;
_cod_original_sg_symbol_H-M      'P 21/n'
_cod_database_code               4311837
loop_
_symmetry_equiv_pos_as_xyz
'x, y, z'
'-x+1/2, y+1/2, -z+1/2'
'-x, -y, -z'
'x-1/2, -y-1/2, z-1/2'
loop_
_atom_site_label
_atom_site_type_symbol
_atom_site_fract_x
_atom_site_fract_y
_atom_site_fract_z
_atom_site_U_iso_or_equiv
_atom_site_adp_type
_atom_site_occupancy
_atom_site_symmetry_multiplicity
_atom_site_calc_flag
_atom_site_refinement_flags
_atom_site_disorder_assembly
_atom_site_disorder_group
Ru1 Ru 0.4386(4) -0.02467(14) 0.2207(5) 0.0170(7) Uiso 1 1 d D . .
Ru2 Ru 0.4396(4) 0.17232(15) 0.2063(5) 0.0182(7) Uiso 1 1 d D . .
Ru3 Ru 0.6973(3) 0.08049(14) 0.3395(4) 0.0172(7) Uiso 1 1 d D . .
C11 C 0.588(4) -0.032(2) 0.125(3) 0.031(8) Uiso 1 1 d D . .
C12 C 0.301(5) -0.011(2) 0.323(3) 0.034(9) Uiso 1 1 d D . .
C13 C 0.520(4) -0.1432(18) 0.268(5) 0.030(8) Uiso 1 1 d D . .
C14 C 0.238(3) -0.049(2) 0.129(3) 0.040(10) Uiso 1 1 d D . .
C21 C 0.594(4) 0.1648(18) 0.112(3) 0.021(7) Uiso 1 1 d D . .
C22 C 0.298(4) 0.1773(18) 0.307(3) 0.021(7) Uiso 1 1 d D . .
C23 C 0.243(3) 0.188(2) 0.108(3) 0.037(10) Uiso 1 1 d D . .
C24 C 0.513(4) 0.2953(16) 0.237(5) 0.028(8) Uiso 1 1 d D . .
C31 C 0.841(3) 0.0707(17) 0.240(3) 0.012(6) Uiso 1 1 d D . .
C32 C 0.550(4) 0.0941(17) 0.436(3) 0.024(8) Uiso 1 1 d D . .
C33 C 0.823(4) 0.1866(17) 0.392(4) 0.025(8) Uiso 1 1 d D . .
C34 C 0.810(4) -0.0242(17) 0.403(4) 0.023(8) Uiso 1 1 d D . .
O11 O 0.667(3) -0.0424(14) 0.066(3) 0.042(6) Uiso 1 1 d D . .
O12 O 0.204(3) -0.0176(14) 0.373(3) 0.044(7) Uiso 1 1 d D . .
O13 O 0.571(3) -0.2116(14) 0.299(4) 0.037(6) Uiso 1 1 d D . .
O14 O 0.118(3) -0.0672(17) 0.068(3) 0.056(8) Uiso 1 1 d D . .
O21 O 0.675(3) 0.1698(14) 0.054(3) 0.041(6) Uiso 1 1 d D . .
O22 O 0.208(4) 0.1892(14) 0.361(4) 0.045(7) Uiso 1 1 d D . .
O23 O 0.126(3) 0.1966(15) 0.042(3) 0.046(7) Uiso 1 1 d D . .
O24 O 0.573(3) 0.3670(14) 0.266(4) 0.043(6) Uiso 1 1 d D . .
O31 O 0.942(3) 0.0695(13) 0.192(3) 0.028(5) Uiso 1 1 d D . .
O32 O 0.479(3) 0.1093(13) 0.497(3) 0.032(6) Uiso 1 1 d D . .
O33 O 0.895(3) 0.2506(14) 0.425(4) 0.044(7) Uiso 1 1 d D . .
O34 O 0.880(3) -0.0860(14) 0.446(3) 0.037(6) Uiso 1 1 d D . .
loop_
_atom_type_symbol
_atom_type_description
_atom_type_scat_dispersion_real
_atom_type_scat_dispersion_imag
_atom_type_scat_source
C C 0.0033 0.0016 'International Tables Vol C Tables 4.2.6.8 and 6.1.1.4'
O O 0.0106 0.0060 'International Tables Vol C Tables 4.2.6.8 and 6.1.1.4'
Ru Ru -1.2594 0.8363 'International Tables Vol C Tables 4.2.6.8 and 6.1.1.4'
loop_
_geom_angle_atom_site_label_1
_geom_angle_atom_site_label_2
_geom_angle_atom_site_label_3
_geom_angle
_geom_angle_site_symmetry_1
_geom_angle_site_symmetry_3
_geom_angle_publ_flag
C14 Ru1 C13 105.2(18) . . ?
C14 Ru1 C11 92(2) . . ?
C13 Ru1 C11 89.3(17) . . ?
C14 Ru1 C12 91.3(19) . . ?
C13 Ru1 C12 91.7(19) . . ?
C11 Ru1 C12 175.7(16) . . ?
C14 Ru1 Ru3 158.6(10) . . ?
C13 Ru1 Ru3 96.1(16) . . ?
C11 Ru1 Ru3 89.1(13) . . ?
C12 Ru1 Ru3 86.6(12) . . ?
C14 Ru1 Ru2 98.6(11) . . ?
C13 Ru1 Ru2 156.1(16) . . ?
C11 Ru1 Ru2 89.9(8) . . ?
C12 Ru1 Ru2 87.5(9) . . ?
Ru3 Ru1 Ru2 60.02(14) . . ?
C24 Ru2 C23 103(2) . . ?
C24 Ru2 C21 90.6(17) . . ?
C23 Ru2 C21 91.9(19) . . ?
C24 Ru2 C22 89.2(17) . . ?
C23 Ru2 C22 91.7(17) . . ?
C21 Ru2 C22 176.3(18) . . ?
C24 Ru2 Ru3 97.5(18) . . ?
C23 Ru2 Ru3 159.0(10) . . ?
C21 Ru2 Ru3 88.1(13) . . ?
C22 Ru2 Ru3 88.2(12) . . ?
C24 Ru2 Ru1 157.4(18) . . ?
C23 Ru2 Ru1 99.2(10) . . ?
C21 Ru2 Ru1 90.1(8) . . ?
C22 Ru2 Ru1 88.7(8) . . ?
Ru3 Ru2 Ru1 59.89(15) . . ?
C34 Ru3 C33 107(2) . . ?
C34 Ru3 C31 89.8(16) . . ?
C33 Ru3 C31 90.5(16) . . ?
C34 Ru3 C32 92.2(16) . . ?
C33 Ru3 C32 88.8(16) . . ?
C31 Ru3 C32 178.1(13) . . ?
C34 Ru3 Ru1 94.8(13) . . ?
C33 Ru3 Ru1 158.5(15) . . ?
C31 Ru3 Ru1 89.1(10) . . ?
C32 Ru3 Ru1 90.9(12) . . ?
C34 Ru3 Ru2 154.9(13) . . ?
C33 Ru3 Ru2 98.4(15) . . ?
C31 Ru3 Ru2 89.8(11) . . ?
C32 Ru3 Ru2 88.5(13) . . ?
Ru1 Ru3 Ru2 60.09(12) . . ?
O11 C11 Ru1 175(3) . . ?
O12 C12 Ru1 166(3) . . ?
O13 C13 Ru1 178(5) . . ?
O14 C14 Ru1 176(4) . . ?
O21 C21 Ru2 172(3) . . ?
O22 C22 Ru2 172(3) . . ?
O23 C23 Ru2 176(4) . . ?
O24 C24 Ru2 171(5) . . ?
O31 C31 Ru3 171(4) . . ?
O32 C32 Ru3 172(3) . . ?
O33 C33 Ru3 178(4) . . ?
O34 C34 Ru3 177(4) . . ?
loop_
_geom_bond_atom_site_label_1
_geom_bond_atom_site_label_2
_geom_bond_distance
_geom_bond_site_symmetry_2
_geom_bond_publ_flag
Ru1 C14 1.89(3) . ?
Ru1 C13 1.90(2) . ?
Ru1 C11 1.95(3) . ?
Ru1 C12 1.97(3) . ?
Ru1 Ru3 2.829(6) . ?
Ru1 Ru2 2.835(3) . ?
Ru2 C24 1.88(2) . ?
Ru2 C23 1.89(3) . ?
Ru2 C21 1.96(3) . ?
Ru2 C22 1.96(3) . ?
Ru2 Ru3 2.833(6) . ?
Ru3 C34 1.89(3) . ?
Ru3 C33 1.89(3) . ?
Ru3 C31 1.96(2) . ?
Ru3 C32 1.96(3) . ?
C11 O11 1.13(4) . ?
C12 O12 1.14(3) . ?
C13 O13 1.12(3) . ?
C14 O14 1.18(5) . ?
C21 O21 1.13(4) . ?
C22 O22 1.15(4) . ?
C23 O23 1.19(5) . ?
C24 O24 1.17(4) . ?
C31 O31 1.14(3) . ?
C32 O32 1.12(4) . ?
C33 O33 1.14(4) . ?
C34 O34 1.15(4) . ?
