#------------------------------------------------------------------------------
#$Date: 2016-03-23 01:50:15 +0200 (Wed, 23 Mar 2016) $
#$Revision: 179157 $
#$URL: svn://www.crystallography.net/cod/cif/4/31/18/4311839.cif $
#------------------------------------------------------------------------------
#
# This file is available in the Crystallography Open Database (COD),
# http://www.crystallography.net/
#
# All data on this site have been placed in the public domain by the
# contributors.
#
data_4311839
loop_
_publ_author_name
'Carla Slebodnick'
'Jing Zhao'
'Ross Angel'
'Brian E. Hanson'
'Yang Song'
'Zhenxian Liu'
'Russell J. Hemley'
_publ_contact_author_address
;
Department Of Chemistry, Virginia Tech, Blacksburg, VA 24061
;
_publ_contact_author_email       hanson@vt.edu
_publ_contact_author_fax         '540 231-3255'
_publ_contact_author_name        'Brian E. Hanson'
_publ_contact_author_phone       '540 231 7206'
_publ_section_title
;
 High Pressure Study of Ru3(CO)12 by X-ray Diffraction, Raman, and
 Infrared Spectroscopy
;
_journal_name_full               'Inorganic Chemistry'
_journal_page_first              5245
_journal_page_last               5252
_journal_paper_doi               10.1021/ic049617y
_journal_volume                  43
_journal_year                    2004
_chemical_formula_moiety         'C12 O12 Ru3'
_chemical_formula_sum            'C12 O12 Ru3'
_chemical_formula_weight         639.33
_chemical_name_common            'triruthenium dodecacarbonyl'
_chemical_name_systematic        'triruthenium dodecacarbonyl'
_space_group_IT_number           14
_symmetry_cell_setting           monoclinic
_symmetry_Int_Tables_number      14
_symmetry_space_group_name_Hall  '-P 2yn'
_symmetry_space_group_name_H-M   'P 1 21/n 1'
_atom_sites_solution_hydrogens   geom
_atom_sites_solution_primary     direct
_atom_sites_solution_secondary   difmap
_audit_creation_method           SHELXL-97
_cell_angle_alpha                90.00
_cell_angle_beta                 100.336(10)
_cell_angle_gamma                90.00
_cell_formula_units_Z            4
_cell_length_a                   7.5883(10)
_cell_length_b                   13.896(2)
_cell_length_c                   13.541(2)
_cell_measurement_pressure       3430000
_cell_measurement_reflns_used    705
_cell_measurement_temperature    293(2)
_cell_measurement_theta_max      22.54
_cell_measurement_theta_min      2.88
_cell_volume                     1404.7(3)
_computing_cell_refinement       'Crysalis (Oxford Diffraction)'
_computing_data_collection       'Crysalis (Oxford Diffraction)'
_computing_data_reduction
;
 WinIntergrStp 3.3 (Angel, J. Appl. Cryst. 2003)
;
_computing_molecular_graphics    'Bruker SHELXTL'
_computing_publication_material
;
 Bruker SHELXTL (Sheldrick, 2001) and PLATON (Spek, A. L., J Appl. 
 Cryst., 2003)
;
_computing_structure_refinement  'SHELXL-97 (Sheldrick, 1997)'
_computing_structure_solution
;
 coordinates obtained from CCDC (Allan, Acta Cryst B., 2002 and Bruno et al. 
 Acta Cryst. B, 2002) from the structure by 
 Churchill, et al. (Inorg Chem, 1977).
;
_diffrn_ambient_pressure         3430000
_diffrn_ambient_temperature      293(2)
_diffrn_detector_type            'point detector'
_diffrn_measured_fraction_theta_full 0.248
_diffrn_measured_fraction_theta_max 0.248
_diffrn_measurement_device_type  'Oxford Diffraction Xcalibur 1'
_diffrn_measurement_method       'constant precision omega scans at phi=0'
_diffrn_radiation_monochromator  graphite
_diffrn_radiation_probe          x-ray
_diffrn_radiation_source         'fine-focus sealed tube'
_diffrn_radiation_type           MoK\a
_diffrn_reflns_av_R_equivalents  0.0340
_diffrn_reflns_av_sigmaI/netI    0.0440
_diffrn_reflns_limit_h_max       8
_diffrn_reflns_limit_h_min       -8
_diffrn_reflns_limit_k_max       0
_diffrn_reflns_limit_k_min       -14
_diffrn_reflns_limit_l_max       7
_diffrn_reflns_limit_l_min       -8
_diffrn_reflns_number            705
_diffrn_reflns_theta_full        22.54
_diffrn_reflns_theta_max         22.54
_diffrn_reflns_theta_min         2.88
_diffrn_standards_decay_%        0
_diffrn_standards_interval_count 200
_diffrn_standards_number         3
_exptl_absorpt_coefficient_mu    3.260
_exptl_absorpt_correction_T_max  0.903
_exptl_absorpt_correction_T_min  0.753
_exptl_absorpt_correction_type   gaussian
_exptl_absorpt_process_details
;
 Correction for absorption affects of the diamond anvil cell
 and the sample were made using ABSORB 5.3.  Reference: 
  Absorb (Angel, J. Appl. Cryst. 2004)
;
_exptl_crystal_colour            yellow
_exptl_crystal_density_diffrn    3.023
_exptl_crystal_density_method    'not measured'
_exptl_crystal_description       plate
_exptl_crystal_F_000             1200
_exptl_crystal_size_max          0.22
_exptl_crystal_size_mid          0.19
_exptl_crystal_size_min          0.030
_refine_diff_density_max         0.499
_refine_diff_density_min         -0.594
_refine_diff_density_rms         0.120
_refine_ls_extinction_method     none
_refine_ls_goodness_of_fit_ref   1.318
_refine_ls_hydrogen_treatment    none
_refine_ls_matrix_type           full
_refine_ls_number_parameters     113
_refine_ls_number_reflns         456
_refine_ls_number_restraints     24
_refine_ls_restrained_S_all      1.280
_refine_ls_R_factor_all          0.0469
_refine_ls_R_factor_gt           0.0459
_refine_ls_shift/su_max          0.000
_refine_ls_shift/su_mean         0.000
_refine_ls_structure_factor_coef Fsqd
_refine_ls_weighting_details
'calc w=1/[σ²(Fo²)+(0.0000P)²+60.0580P] where P=(Fo²+2Fc²)/3'
_refine_ls_weighting_scheme      calc
_refine_ls_wR_factor_gt          0.1117
_refine_ls_wR_factor_ref         0.1121
_reflns_number_gt                453
_reflns_number_total             456
_reflns_threshold_expression     >2sigma(I)
_cod_data_source_file            ic049617ysi20040322_044432_6.cif
_cod_data_source_block           34kbar
_cod_depositor_comments
;
The following automatic conversions were performed:
'_exptl_absorpt_correction_type' value 'Gaussian' changed to 'gaussian'
according to '/home/saulius/struct/CIF-dictionaries/cif_core.dic'
dictionary named 'cif_core.dic' version 2.4.1 from 2010-06-29.

Automatic conversion script
Id: cif_fix_enum 1527 2010-12-29 10:47:43Z saulius 
;
_cod_original_cell_volume        1404.6(3)
_cod_original_sg_symbol_H-M      'P 21/n'
_cod_database_code               4311839
loop_
_symmetry_equiv_pos_as_xyz
'x, y, z'
'-x+1/2, y+1/2, -z+1/2'
'-x, -y, -z'
'x-1/2, -y-1/2, z-1/2'
loop_
_atom_site_label
_atom_site_type_symbol
_atom_site_fract_x
_atom_site_fract_y
_atom_site_fract_z
_atom_site_U_iso_or_equiv
_atom_site_adp_type
_atom_site_occupancy
_atom_site_symmetry_multiplicity
_atom_site_calc_flag
_atom_site_refinement_flags
_atom_site_disorder_assembly
_atom_site_disorder_group
Ru1 Ru 0.4334(4) -0.02601(15) 0.2182(4) 0.0120(7) Uiso 1 1 d D . .
Ru2 Ru 0.4373(4) 0.17613(16) 0.2057(4) 0.0131(7) Uiso 1 1 d D . .
Ru3 Ru 0.7010(3) 0.07938(17) 0.3402(4) 0.0130(7) Uiso 1 1 d D . .
C11 C 0.583(4) -0.0301(18) 0.118(3) 0.010(7) Uiso 1 1 d D . .
C12 C 0.289(4) -0.015(2) 0.320(3) 0.016(8) Uiso 1 1 d D . .
C13 C 0.522(3) -0.1477(16) 0.265(4) 0.010(7) Uiso 1 1 d D . .
C14 C 0.226(3) -0.0542(19) 0.123(3) 0.011(7) Uiso 1 1 d D . .
C21 C 0.602(4) 0.1699(19) 0.114(4) 0.013(8) Uiso 1 1 d D . .
C22 C 0.290(4) 0.182(2) 0.306(3) 0.021(8) Uiso 1 1 d D . .
C23 C 0.237(3) 0.193(2) 0.102(3) 0.027(10) Uiso 1 1 d D . .
C24 C 0.525(4) 0.2985(19) 0.249(5) 0.027(9) Uiso 1 1 d D . .
C31 C 0.854(4) 0.076(2) 0.242(3) 0.023(8) Uiso 1 1 d D . .
C32 C 0.542(4) 0.0940(19) 0.434(3) 0.015(8) Uiso 1 1 d D . .
C33 C 0.824(4) 0.1890(18) 0.398(4) 0.017(8) Uiso 1 1 d D . .
C34 C 0.816(3) -0.0317(18) 0.404(4) 0.014(8) Uiso 1 1 d D . .
O11 O 0.674(3) -0.0402(14) 0.060(3) 0.024(6) Uiso 1 1 d D . .
O12 O 0.197(3) -0.0194(15) 0.380(3) 0.026(6) Uiso 1 1 d D . .
O13 O 0.573(3) -0.2186(15) 0.302(4) 0.030(6) Uiso 1 1 d D . .
O14 O 0.099(3) -0.0702(17) 0.062(3) 0.037(6) Uiso 1 1 d D . .
O21 O 0.684(3) 0.1755(16) 0.049(3) 0.028(6) Uiso 1 1 d D . .
O22 O 0.196(4) 0.1946(17) 0.361(4) 0.036(7) Uiso 1 1 d D . .
O23 O 0.113(3) 0.2053(16) 0.040(3) 0.033(7) Uiso 1 1 d D . .
O24 O 0.581(3) 0.3713(15) 0.271(4) 0.030(6) Uiso 1 1 d D . .
O31 O 0.954(3) 0.0744(15) 0.186(3) 0.024(5) Uiso 1 1 d D . .
O32 O 0.473(3) 0.1076(13) 0.503(3) 0.018(6) Uiso 1 1 d D . .
O33 O 0.886(3) 0.2617(14) 0.421(4) 0.028(6) Uiso 1 1 d D . .
O34 O 0.888(3) -0.0964(14) 0.447(3) 0.025(6) Uiso 1 1 d D . .
loop_
_atom_type_symbol
_atom_type_description
_atom_type_scat_dispersion_real
_atom_type_scat_dispersion_imag
_atom_type_scat_source
C C 0.0033 0.0016 'International Tables Vol C Tables 4.2.6.8 and 6.1.1.4'
O O 0.0106 0.0060 'International Tables Vol C Tables 4.2.6.8 and 6.1.1.4'
Ru Ru -1.2594 0.8363 'International Tables Vol C Tables 4.2.6.8 and 6.1.1.4'
loop_
_geom_angle_atom_site_label_1
_geom_angle_atom_site_label_2
_geom_angle_atom_site_label_3
_geom_angle
_geom_angle_site_symmetry_1
_geom_angle_site_symmetry_3
_geom_angle_publ_flag
C13 Ru1 C14 104.1(16) . . ?
C13 Ru1 C12 92.4(17) . . ?
C14 Ru1 C12 89.7(17) . . ?
C13 Ru1 C11 89.4(16) . . ?
C14 Ru1 C11 92.3(16) . . ?
C12 Ru1 C11 176.9(13) . . ?
C13 Ru1 Ru3 95.6(14) . . ?
C14 Ru1 Ru3 160.3(8) . . ?
C12 Ru1 Ru3 88.9(11) . . ?
C11 Ru1 Ru3 88.4(11) . . ?
C13 Ru1 Ru2 155.3(13) . . ?
C14 Ru1 Ru2 100.6(8) . . ?
C12 Ru1 Ru2 88.9(9) . . ?
C11 Ru1 Ru2 88.4(8) . . ?
Ru3 Ru1 Ru2 59.81(14) . . ?
C24 Ru2 C23 108.2(19) . . ?
C24 Ru2 C22 87.5(18) . . ?
C23 Ru2 C22 91.5(18) . . ?
C24 Ru2 C21 90.6(17) . . ?
C23 Ru2 C21 93.4(19) . . ?
C22 Ru2 C21 175(2) . . ?
C24 Ru2 Ru3 93.3(17) . . ?
C23 Ru2 Ru3 158.5(10) . . ?
C22 Ru2 Ru3 89.9(13) . . ?
C21 Ru2 Ru3 85.7(13) . . ?
C24 Ru2 Ru1 152.8(18) . . ?
C23 Ru2 Ru1 98.8(10) . . ?
C22 Ru2 Ru1 89.1(9) . . ?
C21 Ru2 Ru1 90.5(8) . . ?
Ru3 Ru2 Ru1 59.70(14) . . ?
C33 Ru3 C34 108.2(18) . . ?
C33 Ru3 C32 87.8(15) . . ?
C34 Ru3 C32 94.3(16) . . ?
C33 Ru3 C31 89.6(17) . . ?
C34 Ru3 C31 90.5(16) . . ?
C32 Ru3 C31 175.1(14) . . ?
C33 Ru3 Ru1 157.7(14) . . ?
C34 Ru3 Ru1 94.0(13) . . ?
C32 Ru3 Ru1 88.4(12) . . ?
C31 Ru3 Ru1 92.5(13) . . ?
C33 Ru3 Ru2 97.3(14) . . ?
C34 Ru3 Ru2 154.5(13) . . ?
C32 Ru3 Ru2 85.4(13) . . ?
C31 Ru3 Ru2 90.8(13) . . ?
Ru1 Ru3 Ru2 60.49(13) . . ?
O11 C11 Ru1 175(2) . . ?
O12 C12 Ru1 172(2) . . ?
O13 C13 Ru1 173(5) . . ?
O14 C14 Ru1 178(3) . . ?
O21 C21 Ru2 169(4) . . ?
O22 C22 Ru2 172(3) . . ?
O23 C23 Ru2 178(4) . . ?
O24 C24 Ru2 176(5) . . ?
O31 C31 Ru3 177(4) . . ?
O32 C32 Ru3 168(4) . . ?
O33 C33 Ru3 170(5) . . ?
O34 C34 Ru3 177(4) . . ?
loop_
_geom_bond_atom_site_label_1
_geom_bond_atom_site_label_2
_geom_bond_distance
_geom_bond_site_symmetry_2
_geom_bond_publ_flag
Ru1 C13 1.88(2) . ?
Ru1 C14 1.89(3) . ?
Ru1 C12 1.92(3) . ?
Ru1 C11 1.92(2) . ?
Ru1 Ru3 2.792(6) . ?
Ru1 Ru2 2.814(3) . ?
Ru2 C24 1.88(2) . ?
Ru2 C23 1.89(3) . ?
Ru2 C22 1.91(3) . ?
Ru2 C21 1.92(2) . ?
Ru2 Ru3 2.795(6) . ?
Ru3 C33 1.88(2) . ?
Ru3 C34 1.90(2) . ?
Ru3 C32 1.92(2) . ?
Ru3 C31 1.92(3) . ?
C11 O11 1.14(3) . ?
C12 O12 1.16(4) . ?
C13 O13 1.14(4) . ?
C14 O14 1.17(4) . ?
C21 O21 1.17(4) . ?
C22 O22 1.12(4) . ?
C23 O23 1.15(4) . ?
C24 O24 1.12(3) . ?
C31 O31 1.16(3) . ?
C32 O32 1.16(4) . ?
C33 O33 1.13(3) . ?
C34 O34 1.15(3) . ?
