#------------------------------------------------------------------------------
#$Date: 2016-03-23 03:18:24 +0200 (Wed, 23 Mar 2016) $
#$Revision: 179240 $
#$URL: svn://www.crystallography.net/cod/cif/4/31/60/4316039.cif $
#------------------------------------------------------------------------------
#
# This file is available in the Crystallography Open Database (COD),
# http://www.crystallography.net/
#
# All data on this site have been placed in the public domain by the
# contributors.
#
data_4316039
loop_
_publ_author_name
'Laura M. Grande'
'Bruce C. Noll'
'Allen G. Oliver'
'W. Robert Scheidt'
_publ_section_title
;
 Dynamics of NO Motion in Solid-State [Co(tetraphenylporphinato)(NO)]
;
_journal_name_full               'Inorganic Chemistry'
_journal_page_first              6552
_journal_page_last               6557
_journal_paper_doi               10.1021/ic1003462
_journal_volume                  49
_journal_year                    2010
_chemical_formula_moiety         'C44 H28 Co N5 O'
_chemical_formula_sum            'C44 H28 Co N5 O'
_chemical_formula_weight         701.64
_chemical_melting_point          ?
_chemical_name_common            '[Co(TPP)(NO)]'
_space_group_IT_number           87
_symmetry_cell_setting           tetragonal
_symmetry_Int_Tables_number      87
_symmetry_space_group_name_Hall  '-I 4'
_symmetry_space_group_name_H-M   'I 4/m'
_atom_sites_solution_hydrogens   geom
_atom_sites_solution_primary     direct
_atom_sites_solution_secondary   difmap
_audit_creation_method           SHELXL-97
_cell_angle_alpha                90.00
_cell_angle_beta                 90.00
_cell_angle_gamma                90.00
_cell_formula_units_Z            2
_cell_length_a                   13.3518(3)
_cell_length_b                   13.3518(3)
_cell_length_c                   9.6444(3)
_cell_measurement_reflns_used    9976
_cell_measurement_temperature    200(2)
_cell_measurement_theta_max      30.8
_cell_measurement_theta_min      2.158
_cell_volume                     1719.31(8)
_computing_cell_refinement       'APEX2/SAINT (Bruker, 2007)'
_computing_data_collection       'APEX2 (Bruker, 2007)'
_computing_data_reduction        'SAINT/XPREP (Bruker, 2007; Sheldrick, 2008)'
_computing_molecular_graphics    'XP (Sheldrick, 2008)'
_computing_publication_material  'XCIF (Sheldrick, 2008)/enCIFer (CCDC, 2005)'
_computing_structure_refinement  'XL (Sheldrick, 2008)'
_computing_structure_solution    'XS (Sheldrick, 2008)'
_diffrn_ambient_temperature      200(2)
_diffrn_detector_area_resol_mean 8.33
_diffrn_measured_fraction_theta_full 0.996
_diffrn_measured_fraction_theta_max 0.996
_diffrn_measurement_device_type  'Bruker x8 Apex II CCD diffractometer'
_diffrn_measurement_method       'φ and ω scans'
_diffrn_radiation_monochromator  graphite
_diffrn_radiation_probe          x-ray
_diffrn_radiation_source         'fine-focus sealed tube'
_diffrn_radiation_type           MoK\a
_diffrn_radiation_wavelength     0.71073
_diffrn_reflns_av_R_equivalents  0.0319
_diffrn_reflns_av_sigmaI/netI    0.0105
_diffrn_reflns_limit_h_max       19
_diffrn_reflns_limit_h_min       -19
_diffrn_reflns_limit_k_max       19
_diffrn_reflns_limit_k_min       -18
_diffrn_reflns_limit_l_max       13
_diffrn_reflns_limit_l_min       -13
_diffrn_reflns_number            27315
_diffrn_reflns_theta_full        31.15
_diffrn_reflns_theta_max         31.15
_diffrn_reflns_theta_min         2.16
_diffrn_source_type              'Siemans KFFMO2K-90'
_exptl_absorpt_coefficient_mu    0.543
_exptl_absorpt_correction_T_max  0.9035
_exptl_absorpt_correction_T_min  0.8191
_exptl_absorpt_correction_type   multi-scan
_exptl_absorpt_process_details
'Sheldrick, G.M. (2008) SADABS v.2008/2. University of Göttingen.'
_exptl_crystal_colour            purple
_exptl_crystal_density_diffrn    1.355
_exptl_crystal_density_meas      ?
_exptl_crystal_density_method    'not measured'
_exptl_crystal_description       'square pyramid'
_exptl_crystal_F_000             724
_exptl_crystal_size_max          0.38
_exptl_crystal_size_mid          0.28
_exptl_crystal_size_min          0.19
_refine_diff_density_max         0.473
_refine_diff_density_min         -0.195
_refine_diff_density_rms         0.056
_refine_ls_extinction_method     none
_refine_ls_goodness_of_fit_ref   1.090
_refine_ls_hydrogen_treatment    constr
_refine_ls_matrix_type           full
_refine_ls_number_parameters     81
_refine_ls_number_reflns         1468
_refine_ls_number_restraints     0
_refine_ls_restrained_S_all      1.090
_refine_ls_R_factor_all          0.0446
_refine_ls_R_factor_gt           0.0384
_refine_ls_shift/su_max          0.000
_refine_ls_shift/su_mean         0.000
_refine_ls_structure_factor_coef Fsqd
_refine_ls_weighting_details
'calc w=1/[σ²(Fo²)+(0.0678P)²+0.6190P] where P=(Fo²+2Fc²)/3'
_refine_ls_weighting_scheme      calc
_refine_ls_wR_factor_gt          0.1058
_refine_ls_wR_factor_ref         0.1130
_reflns_number_gt                1311
_reflns_number_total             1468
_reflns_threshold_expression     >2sigma(I)
_cod_data_source_file            ic1003462_si_002_5.cif
_cod_data_source_block           lmg0132000ma200KCoTPPNO
_cod_depositor_comments
;
The following automatic conversions were performed:

'_chemical_melting_point' value 'not measured' was changed to '?' -
the value is undefined or not given.

Automatic conversion script
Id: cif_fix_values 1569 2011-02-09 13:29:24Z adriana 

The following automatic conversions were performed:

'_exptl_crystal_density_meas' value 'not measured' was changed to '?'
- the value is perceived as not measured.

Automatic conversion script
Id: cif_fix_values 3008 2015-01-20 13:52:24Z robertas 
;
_cod_database_code               4316039
loop_
_symmetry_equiv_pos_as_xyz
'x, y, z'
'-y, x, z'
'y, -x, z'
'-x, -y, z'
'x+1/2, y+1/2, z+1/2'
'-y+1/2, x+1/2, z+1/2'
'y+1/2, -x+1/2, z+1/2'
'-x+1/2, -y+1/2, z+1/2'
'-x, -y, -z'
'y, -x, -z'
'-y, x, -z'
'x, y, -z'
'-x+1/2, -y+1/2, -z+1/2'
'y+1/2, -x+1/2, -z+1/2'
'-y+1/2, x+1/2, -z+1/2'
'x+1/2, y+1/2, -z+1/2'
loop_
_atom_site_label
_atom_site_type_symbol
_atom_site_fract_x
_atom_site_fract_y
_atom_site_fract_z
_atom_site_U_iso_or_equiv
_atom_site_adp_type
_atom_site_occupancy
_atom_site_symmetry_multiplicity
_atom_site_calc_flag
_atom_site_refinement_flags
_atom_site_disorder_assembly
_atom_site_disorder_group
Co1 Co 0.0000 0.0000 0.0073 0.03212(16) Uani 0.50 4 d SP . .
N1 N 0.03572(11) 0.14274(11) 0.0000 0.0374(3) Uani 1 2 d S . .
N2 N 0.0000 0.0000 -0.1982(5) 0.0467(10) Uani 0.50 4 d SP . .
O1 O -0.0458(6) -0.0321(7) -0.2662(8) 0.0482(17) Uani 0.13 1 d P . .
C(A1 C -0.02799(13) 0.22338(13) 0.0000 0.0395(4) Uani 1 2 d S . .
C(B1 C 0.02736(15) 0.31557(14) 0.0000 0.0467(4) Uani 1 2 d S . .
H(B1 H 0.0003 0.3814 0.0000 0.056 Uiso 1 2 calc SR . .
C(B2 C 0.12498(15) 0.29078(14) 0.0000 0.0458(4) Uani 1 2 d S . .
H(B2 H 0.1800 0.3359 0.0000 0.055 Uiso 1 2 calc SR . .
C(A2 C 0.13038(13) 0.18380(13) 0.0000 0.0396(4) Uani 1 2 d S . .
C(M1 C 0.21939(13) 0.13147(13) 0.0000 0.0385(3) Uani 1 2 d S . .
C11 C 0.31562(13) 0.18857(13) 0.0000 0.0393(4) Uani 1 2 d S . .
C12 C 0.36048(13) 0.21479(16) -0.12159(19) 0.0621(4) Uani 1 1 d . . .
H12 H 0.3306 0.1962 -0.2072 0.074 Uiso 1 1 calc R . .
C13 C 0.44963(13) 0.26847(17) -0.1212(2) 0.0703(5) Uani 1 1 d . . .
H13 H 0.4803 0.2863 -0.2065 0.084 Uiso 1 1 calc R . .
C14 C 0.49312(14) 0.29552(16) 0.0000 0.0566(6) Uani 1 2 d S . .
H14 H 0.5535 0.3331 0.0000 0.068 Uiso 1 2 calc SR . .
loop_
_atom_site_aniso_label
_atom_site_aniso_U_11
_atom_site_aniso_U_22
_atom_site_aniso_U_33
_atom_site_aniso_U_23
_atom_site_aniso_U_13
_atom_site_aniso_U_12
Co1 0.02909(17) 0.02909(17) 0.0382(3) 0.000 0.000 0.000
N1 0.0321(6) 0.0318(6) 0.0482(8) 0.000 0.000 -0.0004(5)
N2 0.0499(15) 0.0499(15) 0.040(2) 0.000 0.000 0.000
O1 0.053(5) 0.053(5) 0.039(4) -0.005(3) -0.008(3) 0.006(3)
C(A1 0.0377(8) 0.0313(7) 0.0495(9) 0.000 0.000 0.0002(6)
C(B1 0.0410(9) 0.0311(7) 0.0679(12) 0.000 0.000 -0.0008(6)
C(B2 0.0376(8) 0.0330(8) 0.0667(12) 0.000 0.000 -0.0034(6)
C(A2 0.0351(8) 0.0329(7) 0.0509(9) 0.000 0.000 -0.0032(6)
C(M1 0.0327(7) 0.0364(8) 0.0464(9) 0.000 0.000 -0.0036(6)
C11 0.0308(7) 0.0352(7) 0.0519(10) 0.000 0.000 -0.0018(6)
C12 0.0510(8) 0.0797(11) 0.0555(9) 0.0044(8) 0.0009(7) -0.0219(8)
C13 0.0503(8) 0.0796(12) 0.0809(14) 0.0118(10) 0.0135(8) -0.0198(8)
C14 0.0305(8) 0.0407(9) 0.0987(18) 0.000 0.000 -0.0028(7)
loop_
_atom_type_symbol
_atom_type_description
_atom_type_scat_dispersion_real
_atom_type_scat_dispersion_imag
_atom_type_scat_source
C C 0.0033 0.0016 'International Tables Vol C Tables 4.2.6.8 and 6.1.1.4'
H H 0.0000 0.0000 'International Tables Vol C Tables 4.2.6.8 and 6.1.1.4'
N N 0.0061 0.0033 'International Tables Vol C Tables 4.2.6.8 and 6.1.1.4'
O O 0.0106 0.0060 'International Tables Vol C Tables 4.2.6.8 and 6.1.1.4'
Co Co 0.3494 0.9721 'International Tables Vol C Tables 4.2.6.8 and 6.1.1.4'
loop_
_geom_angle_atom_site_label_1
_geom_angle_atom_site_label_2
_geom_angle_atom_site_label_3
_geom_angle
_geom_angle_site_symmetry_1
_geom_angle_site_symmetry_3
_geom_angle_publ_flag
Co1 Co1 N2 180.0 9 9 ?
Co1 Co1 N1 87.953(2) 9 . ?
N2 Co1 N1 92.047(2) 9 . ?
Co1 Co1 N1 87.953(2) 9 9 ?
N2 Co1 N1 92.047(2) 9 9 ?
N1 Co1 N1 175.906(3) . 9 ?
Co1 Co1 N1 87.953(2) 9 2 ?
N2 Co1 N1 92.047(2) 9 2 ?
N1 Co1 N1 89.9 . 2 ?
N1 Co1 N1 89.9 9 2 ?
Co1 Co1 N1 87.953(2) 9 10 ?
N2 Co1 N1 92.047(2) 9 10 ?
N1 Co1 N1 89.9 . 10 ?
N1 Co1 N1 89.9 9 10 ?
N1 Co1 N1 175.906(4) 2 10 ?
Co1 Co1 N2 0.0 9 . ?
N2 Co1 N2 180.0 9 . ?
N1 Co1 N2 87.953(2) . . ?
N1 Co1 N2 87.953(2) 9 . ?
N1 Co1 N2 87.953(2) 2 . ?
N1 Co1 N2 87.953(2) 10 . ?
C(A1 N1 C(A2 104.86(14) . . ?
C(A1 N1 Co1 127.61(12) . 9 ?
C(A2 N1 Co1 127.48(12) . 9 ?
C(A1 N1 Co1 127.61(12) . . ?
C(A2 N1 Co1 127.48(12) . . ?
Co1 N1 Co1 4.093(3) 9 . ?
O1 N2 O1 64.2(6) 2 4 ?
O1 N2 O1 97.4(11) 2 3 ?
O1 N2 O1 64.2(6) 4 3 ?
O1 N2 O1 64.2(6) 2 . ?
O1 N2 O1 97.4(11) 4 . ?
O1 N2 O1 64.2(6) 3 . ?
O1 N2 Co1 131.3(5) 2 9 ?
O1 N2 Co1 131.3(5) 4 9 ?
O1 N2 Co1 131.3(5) 3 9 ?
O1 N2 Co1 131.3(5) . 9 ?
O1 N2 Co1 131.3(5) 2 . ?
O1 N2 Co1 131.3(5) 4 . ?
O1 N2 Co1 131.3(5) 3 . ?
O1 N2 Co1 131.3(5) . . ?
Co1 N2 Co1 0.0 9 . ?
N2 O1 O1 57.9(3) . 3 ?
N2 O1 O1 57.9(3) . 2 ?
O1 O1 O1 89.996(1) 3 2 ?
N2 O1 O1 41.3(5) . 4 ?
O1 O1 O1 44.998(1) 3 4 ?
O1 O1 O1 44.998(2) 2 4 ?
N1 C(A1 C(M1 126.11(15) . 2 ?
N1 C(A1 C(B1 110.71(16) . . ?
C(M1 C(A1 C(B1 123.19(16) 2 . ?
C(B2 C(B1 C(A1 106.73(16) . . ?
C(B2 C(B1 H(B1 126.6 . . ?
C(A1 C(B1 H(B1 126.6 . . ?
C(B1 C(B2 C(A2 107.14(16) . . ?
C(B1 C(B2 H(B2 126.4 . . ?
C(A2 C(B2 H(B2 126.4 . . ?
N1 C(A2 C(M1 126.10(16) . . ?
N1 C(A2 C(B2 110.57(16) . . ?
C(M1 C(A2 C(B2 123.34(17) . . ?
C(A2 C(M1 C(A1 122.66(16) . 10 ?
C(A2 C(M1 C11 118.87(16) . . ?
C(A1 C(M1 C11 118.48(15) 10 . ?
C12 C11 C12 118.78(19) . 12 ?
C12 C11 C(M1 120.61(9) . . ?
C12 C11 C(M1 120.61(9) 12 . ?
C11 C12 C13 120.43(18) . . ?
C11 C12 H12 119.8 . . ?
C13 C12 H12 119.8 . . ?
C14 C13 C12 120.50(18) . . ?
C14 C13 H13 119.7 . . ?
C12 C13 H13 119.7 . . ?
C13 C14 C13 119.3(2) . 12 ?
C13 C14 H14 120.3 . . ?
C13 C14 H14 120.3 12 . ?
loop_
_geom_bond_atom_site_label_1
_geom_bond_atom_site_label_2
_geom_bond_distance
_geom_bond_site_symmetry_2
_geom_bond_publ_flag
Co1 Co1 0.1404 9 ?
Co1 N2 1.842(5) 9 ?
Co1 N1 1.9658(15) . ?
Co1 N1 1.9658(15) 9 ?
Co1 N1 1.9658(15) 2 ?
Co1 N1 1.9658(15) 10 ?
Co1 N2 1.982(5) . ?
N1 C(A1 1.372(2) . ?
N1 C(A2 1.378(2) . ?
N1 Co1 1.9658(15) 9 ?
N2 O1 0.994(8) 2 ?
N2 O1 0.994(8) 4 ?
N2 O1 0.994(8) 3 ?
N2 O1 0.994(8) . ?
N2 Co1 1.842(5) 9 ?
O1 O1 1.056(12) 3 ?
O1 O1 1.056(12) 2 ?
O1 O1 1.493(17) 4 ?
C(A1 C(M1 1.383(3) 2 ?
C(A1 C(B1 1.436(2) . ?
C(B1 C(B2 1.345(3) . ?
C(B1 H(B1 0.9500 . ?
C(B2 C(A2 1.430(2) . ?
C(B2 H(B2 0.9500 . ?
C(A2 C(M1 1.379(2) . ?
C(M1 C(A1 1.383(3) 10 ?
C(M1 C11 1.494(2) . ?
C11 C12 1.3625(19) . ?
C11 C12 1.3625(19) 12 ?
C12 C13 1.389(2) . ?
C12 H12 0.9500 . ?
C13 C14 1.354(3) . ?
C13 H13 0.9500 . ?
C14 C13 1.354(3) 12 ?
C14 H14 0.9500 . ?
