#------------------------------------------------------------------------------
#$Date: 2016-02-16 22:30:59 +0200 (Tue, 16 Feb 2016) $
#$Revision: 176467 $
#$URL: svn://www.crystallography.net/cod/cif/4/32/00/4320066.cif $
#------------------------------------------------------------------------------
#
# This file is available in the Crystallography Open Database (COD),
# http://www.crystallography.net/
#
# All data on this site have been placed in the public domain by the
# contributors.
#
data_4320066
loop_
_publ_author_name
'Miguel A. Salvadó'
'Pilar Pertierra'
'Santiago García-Granda'
'Sergei A. Khainakov'
'José R. García'
'Anatoly I. Bortun'
'Abraham Clearfield'
_publ_contact_author_address
;
Dpto. Química Física y Analítica
Universidad de Oviedo
33006 - Oviedo
Spain
;
_publ_contact_author_email       mass@sauron.quimica.uniovi.es
_publ_contact_author_name        'Dr Miguel A. Salvadó'
_publ_section_title
;
 Novel Silicate Anion: Si8O2212-. Hydrothermal Synthesis and X-ray Powder
 Structure of Three New Niobium Silicates
;
_journal_name_full               'Inorganic Chemistry'
_journal_page_first              4368
_journal_page_last               4373
_journal_paper_doi               10.1021/ic0101174
_journal_volume                  40
_journal_year                    2001
_chemical_formula_moiety         'H2.33 Cs.66 Nb1 O12 Si4'
_chemical_formula_structural     'H.33 Cs.66 Nb(H2 O) Si4 O11'
_chemical_formula_sum            'Cs0.66 H2.33 Nb O12 Si4'
_chemical_formula_weight         487.31
_chemical_name_systematic
;
caesium niobium(V)tetrasilicate
;
_space_group_IT_number           11
_symmetry_cell_setting           monoclinic
_symmetry_space_group_name_Hall  '-P 2yb'
_symmetry_space_group_name_H-M   'P 1 21/m 1'
_cell_angle_alpha                90.0
_cell_angle_beta                 107.019(4)
_cell_angle_gamma                90.0
_cell_formula_units_Z            2
_cell_length_a                   7.3581(5)
_cell_length_b                   9.0354(9)
_cell_length_c                   9.6377(7)
_cell_measurement_temperature    295
_cell_volume                     612.69(9)
_computing_molecular_graphics    'EUCLID (Spek, 1982)'
_computing_structure_refinement  'FULLPROF (Rodriguez-Carvajal, 1990)'
_diffrn_measurement_device_type  Bragg-Brentano
_diffrn_radiation_wavelength     1.5418
_exptl_crystal_density_diffrn    2.64
_exptl_crystal_density_method    'not measured'
_exptl_crystal_F_000             463
_pd_char_colour                  white
_pd_meas_2theta_range_inc        0.02
_pd_meas_2theta_range_max        110
_pd_meas_2theta_range_min        11
_pd_meas_number_of_points        4951
_pd_proc_ls_background_function  'fourth degree polynomial'
_pd_proc_ls_pref_orient_corr     ' ?'
_pd_proc_ls_prof_R_factor        0.0154
_pd_proc_ls_prof_wR_expected     0.0038
_pd_proc_ls_prof_wR_factor       0.0120
_refine_ls_extinction_method     none
_refine_ls_goodness_of_fit_all   3.17
_refine_ls_hydrogen_treatment    noref
_refine_ls_number_constraints    13
_refine_ls_number_parameters     51
_refine_ls_structure_factor_coef Inet
_cod_data_source_file            ic0101174_1.cif
_cod_data_source_block           ns91csdata
_cod_original_cell_volume        612.69
_cod_original_formula_sum        'H2.33 Cs.66 Nb1 O12 Si4'
_cod_database_code               4320066
loop_
_symmetry_equiv_pos_site_id
_symmetry_equiv_pos_as_xyz
1 x,y,z
2 -x,1/2+y,-z
3 -x,-y,-z
4 x,1/2-y,z
loop_
_atom_site_label
_atom_site_fract_x
_atom_site_fract_y
_atom_site_fract_z
_atom_site_U_iso_or_equiv
_atom_site_thermal_displace_type
_atom_site_occupancy
_atom_site_type_symbol
Nb .9112(6) .25 .0779(5) .057(2) Uiso 1 Nb
Si1 .571(1) .25 .585(1) .035(2) Uiso 1 Si
Si2 .549(1) .25 .256(1) .035(2) Uiso 1 Si
Si3 .7318(9) .5077(9) .8139(8) .035(2) Uiso 1 Si
O1 .242(2) .921(2) .037(1) .030(2) Uiso 1 O
O2 .720(3) .25 .187(2) .030(2) Uiso 1 O
O3 .052(3) .25 .891(2) .030(2) Uiso 1 O
O4 .912(2) .619(2) .815(2) .030(2) Uiso 1 O
O5 .345(2) .25 .562(2) .030(2) Uiso 1 O
O6 .650(3) .25 .431(1) .030(2) Uiso 1 O
O7 .683(2) .107(1) .680(1) .030(2) Uiso 1 O
O8 .545(2) .909(1) .803(2) .030(2) Uiso 1 O
Cs .0 .0 .5 .129(3) Uiso .66 Cs
loop_
_atom_type_symbol
_atom_type_description
_atom_type_scat_source
H H 'International Tables for Crystallography (Vol. C)'
O O 'International Tables for Crystallography (Vol. C)'
CS CS 'International Tables for Crystallography (Vol. C)'
NB NB 'International Tables for Crystallography (Vol. C)'
SI SI 'International Tables for Crystallography (Vol. C)'
loop_
_diffrn_radiation_type
CuK\a
loop_
_geom_angle_atom_site_label_1
_geom_angle_atom_site_label_2
_geom_angle_atom_site_label_3
_geom_angle
_geom_angle_publ_flag
O1 Nb O1 98.(1) yes
O1 Nb O4 169.(1) yes
O2 Nb O4 102.(2) yes
O5 Si1 O6 118.(2) yes
O6 Si1 O7 104.(1) yes
O2 Si2 O8 99.(2) yes
O1 Si3 O4 114.(1) yes
O4 Si3 O7 113.(2) yes
O1 Nb O2 86.(1) yes
O1 Nb O4 90.(1) yes
O3 Nb O4 92.(1) yes
O5 Si1 O7 114.(2) yes
O7 Si1 O7 103.(1) yes
O6 Si2 O8 113.(2) yes
O1 Si3 O7 110.(2) yes
O4 Si3 O8 113.(2) yes
O1 Nb O3 83.(1) yes
O2 Nb O3 163.(7) yes
O4 Nb O4 80.(1) yes
O1 Si2 O2 106.4(9) yes
O2 Si2 O6 105.(2) yes
O8 Si2 O8 124.(2) yes
O1 Si3 O8 100.(1) yes
O7 Si3 O8 106.(2) yes
loop_
_geom_bond_atom_site_label_1
_geom_bond_atom_site_label_2
_geom_bond_distance
_geom_bond_publ_flag
Nb O1 2.04(2) yes
Nb O2 1.99(2) yes
Nb O3 2.33(2) yes
Nb O4 1.84(1) yes
Si1 O5 1.62(2) yes
Si1 O6 1.75(2) yes
Si1 O7 1.65(1) yes
Si2 O2 1.59(2) yes
Si2 O6 1.63(2) yes
Si2 O8 1.62(1) yes
Si3 O1 1.60(1) yes
Si3 O4 1.66(2) yes
Si3 O7 1.61(1) yes
Si3 O8 1.55(1) yes
