#------------------------------------------------------------------------------
#$Date: 2016-02-16 22:30:59 +0200 (Tue, 16 Feb 2016) $
#$Revision: 176467 $
#$URL: svn://www.crystallography.net/cod/cif/4/32/53/4325306.cif $
#------------------------------------------------------------------------------
#
# This file is available in the Crystallography Open Database (COD),
# http://www.crystallography.net/
#
# All data on this site have been placed in the public domain by the
# contributors.
#
data_4325306
loop_
_publ_author_name
'Charles J. Simmons'
'Horst Stratemeier'
'Michael A. Hitchman'
'Dirk Reinen'
'Vanessa M. Masters'
'Mark J. Riley'
_publ_contact_author_address
;Dr. Charles J. Simmons
Chemistry Department
University of Hawaii at Hilo
200 W. Kawili Street
Hilo, Hawaii 96720
;
_publ_contact_author_email       ' simmonsc@hawaii.edu'
_publ_contact_author_fax         808-974-7693
_publ_contact_author_name        'Dr. Charles J. Simmons'
_publ_contact_author_phone       '808-974-7317 '
_publ_section_title
;
 Temperature Dependence of the Crystal Structure and g-Values of
 trans-Diaquabis(methoxyacetato)Copper(II): Evidence for a Thermal
 Equilibrium Between Complexes with tetragonally Elongated and Compressed
 Geometries
;
_journal_name_full               'Inorganic Chemistry'
_journal_page_first              4900
_journal_page_last               4916
_journal_paper_doi               10.1021/ic200554f
_journal_volume                  50
_journal_year                    2011
_chemical_formula_moiety         'C6 H14 Cu O8 '
_chemical_formula_sum            'C6 H14 Cu O8'
_chemical_formula_weight         277.72
_space_group_IT_number           14
_symmetry_cell_setting           monoclinic
_symmetry_Int_Tables_number      14
_symmetry_space_group_name_Hall  '-P 2yn'
_symmetry_space_group_name_H-M   'P 1 21/n 1'
_cell_angle_alpha                90
_cell_angle_beta                 95.7136(11)
_cell_angle_gamma                90
_cell_formula_units_Z            2
_cell_length_a                   6.89750(10)
_cell_length_b                   9.8576(2)
_cell_length_c                   7.19740(10)
_cell_measurement_reflns_used    4439
_cell_measurement_temperature    90
_cell_measurement_theta_max      35.60
_cell_measurement_theta_min      2.07
_cell_volume                     486.940(14)
_computing_cell_refinement       'HKL Scalepack'
_computing_data_collection       'KappaCCD Server Software'
_computing_data_reduction        'HKL Denzo and Scalepack'
_computing_publication_material  'teXsan for Windows v. 1.06 MSC'
_computing_structure_refinement  'teXsan for Windows v. 1.06 MSC'
_computing_structure_solution
;
SIR92 (Altomare, et. al. 1994)
;
_diffrn_ambient_temperature      90
_diffrn_measured_fraction_theta_full 0.998
_diffrn_measured_fraction_theta_max 0.998
_diffrn_measurement_device       'Nonius CCD camera'
_diffrn_measurement_method       'φ scans ω scans with κ offsets'
_diffrn_radiation_detector       'Nonius Kappa CCD'
_diffrn_radiation_monochromator  graphite
_diffrn_radiation_source         'fine-focus sealed X-ray tube'
_diffrn_radiation_type           'Mo K\a'
_diffrn_radiation_wavelength     0.7107
_diffrn_reflns_av_R_equivalents  0.00000
_diffrn_reflns_av_sigmaI/netI    0.035
_diffrn_reflns_limit_h_max       11
_diffrn_reflns_limit_h_min       -11
_diffrn_reflns_limit_k_max       16
_diffrn_reflns_limit_k_min       -15
_diffrn_reflns_limit_l_max       11
_diffrn_reflns_limit_l_min       -11
_diffrn_reflns_number            4439
_diffrn_reflns_theta_full        35.60
_diffrn_reflns_theta_max         35.60
_diffrn_reflns_theta_min         2.07
_diffrn_standards_decay_%        0.00
_diffrn_standards_interval_count 0
_diffrn_standards_number         0
_exptl_absorpt_coefficient_mu    2.266
_exptl_absorpt_correction_T_max  0.892
_exptl_absorpt_correction_T_min  0.701
_exptl_absorpt_correction_type   multi-scan
_exptl_absorpt_process_details   '(DENZO-SMN; Otwinowski & Minor, 1997)'
_exptl_crystal_colour            blue
_exptl_crystal_density_diffrn    1.894
_exptl_crystal_description       sphere
_exptl_crystal_F_000             286.00
_exptl_crystal_size_rad          0.30
_refine_diff_density_max         0.56
_refine_diff_density_min         -0.33
_refine_ls_extinction_coef       0.0000055(3)
_refine_ls_extinction_expression 'equ(3) Acta Cryst.(1968) A24, p213.'
_refine_ls_extinction_method     'Zachariasen (1967)'
_refine_ls_goodness_of_fit_all   1.992
_refine_ls_goodness_of_fit_ref   1.990
_refine_ls_hydrogen_treatment    refall
_refine_ls_matrix_type           full
_refine_ls_number_constraints    0
_refine_ls_number_parameters     99
_refine_ls_number_reflns         1838
_refine_ls_number_restraints     0
_refine_ls_R_factor_all          0.0183
_refine_ls_R_factor_gt           0.0180
_refine_ls_shift/su_max          0.0000
_refine_ls_shift/su_mean         0.0004
_refine_ls_structure_factor_coef F
_refine_ls_weighting_details     'w = 1/[σ²(Fo)]'
_refine_ls_weighting_scheme      sigma
_refine_ls_wR_factor_all         0.0220
_refine_ls_wR_factor_ref         0.0220
_reflns_number_gt                1838
_reflns_number_total             2353
_reflns_threshold_expression     I>4.00σ(I)
_cod_data_source_file            ic200554f_si_002_01.cif
_cod_data_source_block           '__Template_texray.inf1'
_cod_original_cell_volume        486.940(12)
_cod_original_sg_symbol_H-M      'P 21/n '
_cod_original_formula_sum        'C6 H14 Cu O8 '
_cod_database_code               4325306
loop_
_symmetry_equiv_pos_as_xyz
'   +x,   +y,   +z'
1/2-x,1/2+y,1/2-z
'   -x,   -y,   -z'
1/2+x,1/2-y,1/2+z
loop_
_atom_site_label
_atom_site_fract_x
_atom_site_fract_y
_atom_site_fract_z
_atom_site_U_iso_or_equiv
_atom_site_occupancy
_atom_site_refinement_flags
_atom_site_adp_type
_atom_site_calc_flag
Cu(1) 0.0000 0.0000 0.0000 0.00748(3) 1.000 S Uani d
O(1) 0.19570(6) 0.10808(5) -0.11193(6) 0.01054(10) 1.000 . Uani d
O(2) 0.48748(6) 0.20628(5) -0.08361(6) 0.01077(10) 1.000 . Uani d
O(3) 0.21805(7) 0.03577(5) 0.24039(6) 0.01159(11) 1.000 . Uani d
O(4) -0.13122(7) 0.17575(5) 0.07043(7) 0.01202(11) 1.000 . Uani d
C(1) 0.35173(9) 0.14361(6) -0.01686(8) 0.00870(13) 1.000 . Uani d
C(2) 0.38132(9) 0.10954(7) 0.19014(8) 0.00973(13) 1.000 . Uani d
C(3) 0.24525(11) -0.02582(8) 0.42096(9) 0.0125(2) 1.000 . Uani d
H(2A) 0.5025(11) 0.0535(9) 0.2147(10) 0.009(2) 1.000 . Uiso d
H(2B) 0.3922(11) 0.1994(9) 0.2535(11) 0.017(2) 1.000 . Uiso d
H(3A) 0.1284(11) -0.0684(8) 0.4328(10) 0.008(2) 1.000 . Uiso d
H(3B) 0.3543(11) -0.0894(9) 0.4300(10) 0.018(2) 1.000 . Uiso d
H(3C) 0.2662(13) 0.0402(10) 0.5091(12) 0.018(2) 1.000 . Uiso d
H(4B) -0.256(1) 0.1901(10) 0.0374(13) 0.023(2) 1.000 . Uiso d
H(4A) -0.1026(13) 0.2090(11) 0.171(2) 0.036(3) 1.000 . Uiso d
loop_
_atom_site_aniso_label
_atom_site_aniso_U_11
_atom_site_aniso_U_22
_atom_site_aniso_U_33
_atom_site_aniso_U_12
_atom_site_aniso_U_13
_atom_site_aniso_U_23
Cu(1) 0.00592(6) 0.00944(6) 0.00700(6) -0.00049(4) 0.00029(4) -0.00040(4)
O(1) 0.0089(2) 0.0138(2) 0.0088(2) -0.0016(2) 0.0002(2) 0.0003(2)
O(2) 0.0095(2) 0.0122(2) 0.0108(2) -0.0015(2) 0.0016(2) 0.0011(2)
O(3) 0.0094(2) 0.0171(2) 0.0080(2) -0.0032(2) -0.0006(2) 0.0039(2)
O(4) 0.0099(2) 0.0146(2) 0.0112(2) 0.0016(2) -0.0006(2) -0.0031(2)
C(1) 0.0094(3) 0.0074(3) 0.0094(3) 0.0020(2) 0.0013(2) -0.0008(2)
C(2) 0.0088(3) 0.0113(3) 0.0090(3) -0.0021(2) 0.0005(2) 0.0003(2)
C(3) 0.0144(3) 0.0144(3) 0.0085(3) -0.0014(3) 0.0005(2) 0.0025(2)
loop_
_atom_type_symbol
_atom_type_oxidation_number
_atom_type_number_in_cell
_atom_type_scat_dispersion_real
_atom_type_scat_dispersion_imag
_atom_type_scat_source
H 0 28 0.000 0.000
;International Tables for Crystallography
(1992, Vol. C, Table 6.1.1.2)
;
C 0 12 0.002 0.002
;International Tables for Crystallography
(1992, Vol. C, Table 6.1.1.2)
;
O 0 16 0.008 0.006
;International Tables for Crystallography
(1992, Vol. C, Table 6.1.1.2)
;
Cu 0 2 0.263 1.266
;International Tables for Crystallography
(1992, Vol. C, Tables 4.2.6.8 and 6.1.1.1)
;
loop_
_diffrn_standard_refln_index_h
_diffrn_standard_refln_index_k
_diffrn_standard_refln_index_l
0 0 0
loop_
_geom_angle_atom_site_label_1
_geom_angle_atom_site_label_2
_geom_angle_atom_site_label_3
_geom_angle
_geom_angle_site_symmetry_3
_geom_angle_publ_flag
? ? ? ? ? ?
O1 Cu1 O1 180.0(0) 3 no
O1 Cu1 O3 77.95(2) . no
O1 Cu1 O4 88.92(3) . no
O3 Cu1 O3 180.0(0) 3 no
O3 Cu1 O4 87.37(3) . no
O4 Cu1 O4 180.0(0) 3 no
Cu1 O1 C1 120.84(5) . no
Cu1 O3 C2 112.27(5) . no
Cu1 O3 C3 131.52(6) . no
C2 O3 C3 114.47(7) . no
Cu1 O4 H4A 119.8(10) . no
Cu1 O4 H4B 121.0(9) . no
H4A O4 H4B 108.9(12) . no
O1 C1 O2 123.72(8) . no
O1 C1 C2 119.49(7) . no
O2 C1 C2 116.79(7) . no
O3 C2 C1 109.31(7) . no
O3 C2 H2A 110.0(7) . no
O3 C2 H2B 111.4(6) . no
C1 C2 H2A 108.8(6) . no
C1 C2 H2B 104.4(6) . no
H2A C2 H2B 112.7(9) . no
O3 C3 H3A 103.9(7) . no
O3 C3 H3B 111.3(6) . no
O3 C3 H3C 109.1(9) . no
H3A C3 H3B 112.1(10) . no
H3A C3 H3C 110.0(10) . no
H3B C3 H3C 110.2(11) . no
loop_
_geom_bond_atom_site_label_1
_geom_bond_atom_site_label_2
_geom_bond_distance
_geom_bond_publ_flag
? ? ? ?
Cu1 O1 1.9552(6) yes
Cu1 O3 2.2049(6) yes
Cu1 O4 2.0418(7) yes
O1 C1 1.266(1) no
O2 C1 1.256(1) no
O3 C2 1.417(1) no
O3 C3 1.430(1) no
O4 H4A 0.80(2) no
O4 H4B 0.88(1) no
C1 C2 1.521(1) no
C2 H2A 1.00(1) no
C2 H2B 1.00(1) no
C3 H3A 0.92(1) no
C3 H3B 0.98(1) no
C3 H3C 0.91(1) no
