#------------------------------------------------------------------------------
#$Date: 2016-02-16 22:30:59 +0200 (Tue, 16 Feb 2016) $
#$Revision: 176467 $
#$URL: svn://www.crystallography.net/cod/cif/4/32/53/4325316.cif $
#------------------------------------------------------------------------------
#
# This file is available in the Crystallography Open Database (COD),
# http://www.crystallography.net/
#
# All data on this site have been placed in the public domain by the
# contributors.
#
data_4325316
loop_
_publ_author_name
'Charles J. Simmons'
'Horst Stratemeier'
'Michael A. Hitchman'
'Dirk Reinen'
'Vanessa M. Masters'
'Mark J. Riley'
_publ_contact_author_address
;Dr. Charles J. Simmons
Chemistry Department
University of Hawaii at Hilo
200 W. Kawili Street
Hilo, Hawaii 96720
;
_publ_contact_author_email       ' simmonsc@hawaii.edu'
_publ_contact_author_fax         808-974-7693
_publ_contact_author_name        'Dr. Charles J. Simmons'
_publ_contact_author_phone       '808-974-7317 '
_publ_section_title
;
 Temperature Dependence of the Crystal Structure and g-Values of
 trans-Diaquabis(methoxyacetato)Copper(II): Evidence for a Thermal
 Equilibrium Between Complexes with tetragonally Elongated and Compressed
 Geometries
;
_journal_name_full               'Inorganic Chemistry'
_journal_page_first              4900
_journal_page_last               4916
_journal_paper_doi               10.1021/ic200554f
_journal_volume                  50
_journal_year                    2011
_chemical_formula_moiety         'C6 H14 O8 Ni '
_chemical_formula_sum            'C6 H14 Ni O8'
_chemical_formula_weight         272.87
_space_group_IT_number           14
_symmetry_cell_setting           monoclinic
_symmetry_Int_Tables_number      14
_symmetry_space_group_name_Hall  '-P 2yn'
_symmetry_space_group_name_H-M   'P 1 21/n 1'
_cell_angle_alpha                90
_cell_angle_beta                 98.4904(10)
_cell_angle_gamma                90
_cell_formula_units_Z            2
_cell_length_a                   6.91770(10)
_cell_length_b                   9.8805(2)
_cell_length_c                   7.17810(10)
_cell_measurement_reflns_used    4604
_cell_measurement_temperature    100
_cell_measurement_theta_max      36.3
_cell_measurement_theta_min      2.1
_cell_volume                     485.249(14)
_computing_cell_refinement       'HKL Scalepack'
_computing_data_collection       'KappaCCD Server Software'
_computing_data_reduction        'Denzo and Scalepack'
_computing_publication_material  'teXsan for Windows v. 1.06 MSC'
_computing_structure_refinement  'teXsan for Windows v. 1.06 MSC'
_computing_structure_solution
;
SIR92 (Altomare, et. al. 1994)
;
_diffrn_ambient_temperature      100
_diffrn_measured_fraction_theta_full 0.995
_diffrn_measured_fraction_theta_max 0.995
_diffrn_measurement_device       Nonius_CCD_camera
_diffrn_measurement_method       'φ scans ω scans with κ offsets'
_diffrn_radiation_detector       'Nonius Kappa CCD'
_diffrn_radiation_monochromator  graphite
_diffrn_radiation_source         'fine-focus sealed X-ray tube'
_diffrn_radiation_type           'Mo K\a'
_diffrn_radiation_wavelength     0.7107
_diffrn_reflns_av_R_equivalents  0.01057
_diffrn_reflns_av_sigmaI/netI    0.030
_diffrn_reflns_limit_h_max       11
_diffrn_reflns_limit_h_min       -11
_diffrn_reflns_limit_k_max       15
_diffrn_reflns_limit_k_min       -16
_diffrn_reflns_limit_l_max       11
_diffrn_reflns_limit_l_min       -11
_diffrn_reflns_number            4604
_diffrn_reflns_theta_full        36.30
_diffrn_reflns_theta_max         36.30
_diffrn_reflns_theta_min         2.06
_diffrn_standards_decay_%        0.00
_diffrn_standards_interval_count 0
_diffrn_standards_number         0
_exptl_absorpt_coefficient_mu    2.023
_exptl_absorpt_correction_T_max  0.986
_exptl_absorpt_correction_T_min  0.823
_exptl_absorpt_correction_type   multi-scan
_exptl_absorpt_process_details   '(DENZO-SMN; Otwinowski & Minor, 1997)'
_exptl_crystal_colour            green
_exptl_crystal_density_diffrn    1.867
_exptl_crystal_description       sphere
_exptl_crystal_F_000             284.00
_exptl_crystal_size_max          0.30
_exptl_crystal_size_mid          0.30
_exptl_crystal_size_min          0.30
_exptl_crystal_size_rad          0.30
_refine_diff_density_max         0.48
_refine_diff_density_min         -0.39
_refine_ls_extinction_coef       0.0000046(2)
_refine_ls_extinction_expression 'equ(3) Acta Cryst.(1968) A24, p213.'
_refine_ls_extinction_method     'Zachariasen (1967)'
_refine_ls_goodness_of_fit_all   1.983
_refine_ls_goodness_of_fit_ref   1.980
_refine_ls_hydrogen_treatment    refall
_refine_ls_matrix_type           full
_refine_ls_number_constraints    0
_refine_ls_number_parameters     99
_refine_ls_number_reflns         1924
_refine_ls_number_restraints     0
_refine_ls_R_factor_all          0.0187
_refine_ls_R_factor_gt           0.0190
_refine_ls_shift/su_max          0.0100
_refine_ls_shift/su_mean         0.0005
_refine_ls_structure_factor_coef F
_refine_ls_weighting_details     'w = 1/[σ²(Fo)]'
_refine_ls_weighting_scheme      sigma
_refine_ls_wR_factor_all         0.0200
_refine_ls_wR_factor_ref         0.0200
_reflns_number_gt                1924
_reflns_number_total             2450
_reflns_threshold_expression     I>4.00σ(I)
_cod_data_source_file            ic200554f_si_002_11.cif
_cod_data_source_block           '__Template_texray.inf17'
_cod_original_cell_volume        485.249(12)
_cod_original_sg_symbol_H-M      'P 21/n '
_cod_original_formula_sum        'C6 H14 O8 Ni '
_cod_database_code               4325316
loop_
_symmetry_equiv_pos_as_xyz
'   +x,   +y,   +z'
1/2-x,1/2+y,1/2-z
'   -x,   -y,   -z'
1/2+x,1/2-y,1/2+z
loop_
_atom_site_label
_atom_site_fract_x
_atom_site_fract_y
_atom_site_fract_z
_atom_site_U_iso_or_equiv
_atom_site_occupancy
_atom_site_refinement_flags
_atom_site_adp_type
_atom_site_calc_flag
Ni(1) 0.0000 0.0000 0.0000 0.00765(3) 1.000 S Uani d
O(1) 0.18877(5) 0.11105(4) -0.12755(5) 0.01099(9) 1.000 . Uani d
O(2) 0.48197(5) 0.20934(4) -0.08749(5) 0.01158(9) 1.000 . Uani d
O(3) 0.21180(6) 0.03728(5) 0.22397(5) 0.01153(9) 1.000 . Uani d
O(4) -0.13349(6) 0.17819(4) 0.06278(6) 0.01223(10) 1.000 . Uani d
C(1) 0.34618(8) 0.14603(5) -0.02767(7) 0.00877(11) 1.000 . Uani d
C(2) 0.37843(8) 0.10948(6) 0.18102(7) 0.00982(11) 1.000 . Uani d
C(3) 0.23776(9) -0.02571(6) 0.40567(8) 0.01293(13) 1.000 . Uani d
H(2A) 0.4973(10) 0.0543(7) 0.2103(9) 0.011(2) 1.000 . Uiso d
H(2B) 0.3952(9) 0.1885(7) 0.2567(9) 0.011(2) 1.000 . Uiso d
H(3A) 0.1104(10) -0.0736(8) 0.4118(10) 0.018(2) 1.000 . Uiso d
H(3B) 0.3478(9) -0.0917(7) 0.4122(9) 0.017(2) 1.000 . Uiso d
H(3C) 0.2641(11) 0.0429(8) 0.5043(10) 0.018(2) 1.000 . Uiso d
H(4B) -0.2548(12) 0.1939(7) 0.0289(10) 0.021(2) 1.000 . Uiso d
H(4A) -0.1007(11) 0.2138(9) 0.1650(11) 0.030(2) 1.000 . Uiso d
loop_
_atom_site_aniso_label
_atom_site_aniso_U_11
_atom_site_aniso_U_22
_atom_site_aniso_U_33
_atom_site_aniso_U_12
_atom_site_aniso_U_13
_atom_site_aniso_U_23
Ni(1) 0.00613(5) 0.00974(6) 0.00686(5) -0.00043(3) 0.00025(3) -0.00027(3)
O(1) 0.0090(2) 0.0146(2) 0.0091(2) -0.0014(1) 0.00015(13) 0.0008(2)
O(2) 0.0094(2) 0.0136(2) 0.0116(2) -0.0020(1) 0.00131(13) 0.0020(2)
O(3) 0.0096(2) 0.0169(2) 0.0077(2) -0.0037(2) 0.00011(13) 0.0029(2)
O(4) 0.0098(2) 0.0144(2) 0.0119(2) 0.0021(2) -0.0003(1) -0.0031(2)
C(1) 0.0093(2) 0.0075(2) 0.0096(2) 0.0018(2) 0.0016(2) -0.0004(2)
C(2) 0.0087(2) 0.0112(3) 0.0093(2) -0.0020(2) 0.0004(2) 0.0005(2)
C(3) 0.0144(3) 0.0155(3) 0.0084(2) -0.0013(2) 0.0003(2) 0.0027(2)
loop_
_atom_type_symbol
_atom_type_oxidation_number
_atom_type_number_in_cell
_atom_type_scat_dispersion_real
_atom_type_scat_dispersion_imag
_atom_type_scat_source
H 0 28 0.000 0.000
;International Tables for Crystallography
(1992, Vol. C, Table 6.1.1.2)
;
C 0 12 0.002 0.002
;International Tables for Crystallography
(1992, Vol. C, Table 6.1.1.2)
;
O 0 16 0.008 0.006
;International Tables for Crystallography
(1992, Vol. C, Table 6.1.1.2)
;
Ni 0 2 0.285 1.113
;International Tables for Crystallography
(1992, Vol. C, Tables 4.2.6.8 and 6.1.1.1)
;
loop_
_diffrn_standard_refln_index_h
_diffrn_standard_refln_index_k
_diffrn_standard_refln_index_l
0 0 0
loop_
_geom_angle_atom_site_label_1
_geom_angle_atom_site_label_2
_geom_angle_atom_site_label_3
_geom_angle
_geom_angle_site_symmetry_3
_geom_angle_publ_flag
? ? ? ? ? ?
O1 Ni1 O1 180.0(0) 3 no
O1 Ni1 O3 79.78(2) . no
O1 Ni1 O4 88.61(2) . no
O3 Ni1 O3 180.0(0) 3 no
O3 Ni1 O4 88.08(2) . no
O4 Ni1 O4 180.0(0) 3 no
Ni1 O1 C1 116.87(5) . no
Ni1 O3 C2 115.37(4) . no
Ni1 O3 C3 128.12(5) . no
C2 O3 C3 114.65(6) . no
Ni1 O4 H4A 119.3(8) . no
Ni1 O4 H4B 123.0(7) . no
H4A O4 H4B 108.0(10) . no
O1 C1 O2 124.69(7) . no
O1 C1 C2 118.86(7) . no
O2 C1 C2 116.45(6) . no
O3 C2 C1 108.95(6) . no
O3 C2 H2A 110.7(6) . no
O3 C2 H2B 108.8(5) . no
C1 C2 H2A 109.7(6) . no
C1 C2 H2B 110.9(6) . no
H2A C2 H2B 107.8(8) . no
O3 C3 H3A 104.5(6) . no
O3 C3 H3B 108.6(6) . no
O3 C3 H3C 110.1(7) . no
H3A C3 H3B 110.9(8) . no
H3A C3 H3C 111.4(8) . no
H3B C3 H3C 111.1(8) . no
loop_
_geom_bond_atom_site_label_1
_geom_bond_atom_site_label_2
_geom_bond_distance
_geom_bond_publ_flag
? ? ? ?
Ni1 O1 2.0249(5) yes
Ni1 O3 2.0424(5) yes
Ni1 O4 2.0684(6) yes
O1 C1 1.2604(8) no
O2 C1 1.2559(9) no
O3 C2 1.4274(9) no
O3 C3 1.432(1) no
O4 H4A 0.82(1) no
O4 H4B 0.85(1) no
C1 C2 1.525(1) no
C2 H2A 0.98(1) no
C2 H2B 0.95(1) no
C3 H3A 1.01(1) no
C3 H3B 1.00(1) no
C3 H3C 0.98(1) no
loop_
_geom_contact_atom_site_label_1
_geom_contact_atom_site_label_2
_geom_contact_distance
_geom_contact_site_symmetry_2
_geom_contact_publ_flag
O2 H4B 1.894(12) 1_655 no
O2 H4A 1.939(11) 4_554 no
