#------------------------------------------------------------------------------
#$Date: 2016-02-16 22:30:59 +0200 (Tue, 16 Feb 2016) $
#$Revision: 176467 $
#$URL: svn://www.crystallography.net/cod/cif/4/32/53/4325324.cif $
#------------------------------------------------------------------------------
#
# This file is available in the Crystallography Open Database (COD),
# http://www.crystallography.net/
#
# All data on this site have been placed in the public domain by the
# contributors.
#
data_4325324
loop_
_publ_author_name
'Charles J. Simmons'
'Horst Stratemeier'
'Michael A. Hitchman'
'Dirk Reinen'
'Vanessa M. Masters'
'Mark J. Riley'
_publ_contact_author_address
;Dr. Charles J. Simmons
Chemistry Department
University of Hawaii at Hilo
200 W. Kawili Street
Hilo, Hawaii 96720
;
_publ_contact_author_email       ' simmonsc@hawaii.edu'
_publ_contact_author_fax         808-974-7693
_publ_contact_author_name        'Dr. Charles J. Simmons'
_publ_contact_author_phone       '808-974-7317 '
_publ_section_title
;
 Temperature Dependence of the Crystal Structure and g-Values of
 trans-Diaquabis(methoxyacetato)Copper(II): Evidence for a Thermal
 Equilibrium Between Complexes with tetragonally Elongated and Compressed
 Geometries
;
_journal_name_full               'Inorganic Chemistry'
_journal_page_first              4900
_journal_page_last               4916
_journal_paper_doi               10.1021/ic200554f
_journal_volume                  50
_journal_year                    2011
_chemical_formula_moiety         'C6 H14 O8 Ni '
_chemical_formula_sum            'C6 H14 Ni O8'
_chemical_formula_weight         272.87
_space_group_IT_number           14
_symmetry_cell_setting           monoclinic
_symmetry_Int_Tables_number      14
_symmetry_space_group_name_Hall  '-P 2yn'
_symmetry_space_group_name_H-M   'P 1 21/n 1'
_cell_angle_alpha                90
_cell_angle_beta                 98.2425(11)
_cell_angle_gamma                90
_cell_formula_units_Z            2
_cell_length_a                   6.93350(10)
_cell_length_b                   10.0299(2)
_cell_length_c                   7.19070(10)
_cell_measurement_reflns_used    4713
_cell_measurement_temperature    300
_cell_measurement_theta_max      36.30
_cell_measurement_theta_min      2.03
_cell_volume                     494.892(14)
_computing_cell_refinement       'HKL Scalepack'
_computing_data_collection       'KappaCCD Server Software'
_computing_data_reduction        'HKL Denzo and Scalepack'
_computing_publication_material  'teXsan for Windows v. 1.06 MSC'
_computing_structure_refinement  'teXsan for Windows v. 1.06 MSC'
_computing_structure_solution
;
SIR92 (Altomare, et. al. 1994)
;
_diffrn_ambient_temperature      300
_diffrn_measured_fraction_theta_full 0.995
_diffrn_measured_fraction_theta_max 0.995
_diffrn_measurement_device       'Nonius CCD camera'
_diffrn_measurement_method       'φ scans ω scans with κ offsets'
_diffrn_radiation_detector       'Nonius Kappa CCD'
_diffrn_radiation_monochromator  graphite
_diffrn_radiation_source         'fine-focus sealed X-ray tube'
_diffrn_radiation_type           'Mo K\a'
_diffrn_radiation_wavelength     0.7107
_diffrn_reflns_av_R_equivalents  0.01455
_diffrn_reflns_av_sigmaI/netI    0.041
_diffrn_reflns_limit_h_max       11
_diffrn_reflns_limit_h_min       -11
_diffrn_reflns_limit_k_max       16
_diffrn_reflns_limit_k_min       -16
_diffrn_reflns_limit_l_max       11
_diffrn_reflns_limit_l_min       -11
_diffrn_reflns_number            4713
_diffrn_reflns_theta_full        36.30
_diffrn_reflns_theta_max         36.30
_diffrn_reflns_theta_min         2.03
_diffrn_standards_decay_%        0.00
_diffrn_standards_interval_count 0
_diffrn_standards_number         0
_exptl_absorpt_coefficient_mu    1.984
_exptl_absorpt_correction_T_max  0.875
_exptl_absorpt_correction_T_min  0.728
_exptl_absorpt_correction_type   multi-scan
_exptl_absorpt_process_details   '(DENZO-SMN; Otwinowski & Minor, 1997)'
_exptl_crystal_colour            green
_exptl_crystal_density_diffrn    1.831
_exptl_crystal_description       sphere
_exptl_crystal_F_000             284.00
_exptl_crystal_size_max          0.30
_exptl_crystal_size_mid          0.30
_exptl_crystal_size_min          0.30
_exptl_crystal_size_rad          0.30
_refine_diff_density_max         0.38
_refine_diff_density_min         -0.34
_refine_ls_extinction_coef       0.0000048(3)
_refine_ls_extinction_expression 'equ(3) Acta Cryst.(1968) A24, p213.'
_refine_ls_extinction_method     'Zachariasen (1967)'
_refine_ls_goodness_of_fit_all   1.987
_refine_ls_goodness_of_fit_ref   1.990
_refine_ls_hydrogen_treatment    refall
_refine_ls_matrix_type           full
_refine_ls_number_constraints    0
_refine_ls_number_parameters     99
_refine_ls_number_reflns         1688
_refine_ls_number_restraints     0
_refine_ls_R_factor_all          0.0225
_refine_ls_R_factor_gt           0.0230
_refine_ls_shift/su_max          0.2400
_refine_ls_shift/su_mean         0.0251
_refine_ls_structure_factor_coef F
_refine_ls_weighting_details     'w = 1/[σ²(Fo)]'
_refine_ls_weighting_scheme      sigma
_refine_ls_wR_factor_all         0.0240
_refine_ls_wR_factor_ref         0.0240
_reflns_number_gt                1688
_reflns_number_total             2502
_reflns_threshold_expression     I>4.00σ(I)
_cod_data_source_file            ic200554f_si_002_19.cif
_cod_data_source_block           '_Template_texray.inf21'
_cod_original_cell_volume        494.892(13)
_cod_original_sg_symbol_H-M      'P 21/n '
_cod_original_formula_sum        'C6 H14 O8 Ni '
_cod_database_code               4325324
loop_
_symmetry_equiv_pos_as_xyz
'   +x,   +y,   +z'
1/2-x,1/2+y,1/2-z
'   -x,   -y,   -z'
1/2+x,1/2-y,1/2+z
loop_
_atom_site_label
_atom_site_fract_x
_atom_site_fract_y
_atom_site_fract_z
_atom_site_U_iso_or_equiv
_atom_site_occupancy
_atom_site_refinement_flags
_atom_site_adp_type
_atom_site_calc_flag
Ni(1) 0.0000 0.0000 0.0000 0.02045(4) 1.000 S Uani d
O(1) 0.18609(7) 0.11200(6) -0.12604(7) 0.0283(1) 1.000 . Uani d
O(2) 0.47790(7) 0.20829(6) -0.08787(8) 0.0289(1) 1.000 . Uani d
O(3) 0.21271(8) 0.03497(7) 0.22242(7) 0.0284(1) 1.000 . Uani d
O(4) -0.13643(9) 0.17406(7) 0.06637(9) 0.0328(2) 1.000 . Uani d
C(1) 0.34347(10) 0.14577(8) -0.02756(10) 0.0217(2) 1.000 . Uani d
C(2) 0.37482(11) 0.10887(9) 0.17960(10) 0.0241(2) 1.000 . Uani d
C(3) 0.2360(1) -0.02451(11) 0.40312(12) 0.0332(2) 1.000 . Uani d
H(2A) 0.4998(11) 0.0562(10) 0.2090(12) 0.025(2) 1.000 . Uiso d
H(2B) 0.3908(12) 0.1897(10) 0.2567(12) 0.040(3) 1.000 . Uiso d
H(3A) 0.1146(13) -0.0664(11) 0.4155(13) 0.042(3) 1.000 . Uiso d
H(3B) 0.3437(12) -0.0845(11) 0.4217(13) 0.040(3) 1.000 . Uiso d
H(3C) 0.269(2) 0.042(1) 0.493(2) 0.063(4) 1.000 . Uiso d
H(4B) -0.248(2) 0.1873(12) 0.028(1) 0.051(3) 1.000 . Uiso d
H(4A) -0.107(2) 0.2038(13) 0.177(2) 0.063(4) 1.000 . Uiso d
loop_
_atom_site_aniso_label
_atom_site_aniso_U_11
_atom_site_aniso_U_22
_atom_site_aniso_U_33
_atom_site_aniso_U_12
_atom_site_aniso_U_13
_atom_site_aniso_U_23
Ni(1) 0.01577(7) 0.02705(9) 0.01779(7) -0.00145(5) -0.00012(4) -0.00079(6)
O(1) 0.0214(2) 0.0413(4) 0.0210(2) -0.0059(2) -0.0007(2) 0.0038(3)
O(2) 0.0230(3) 0.0355(3) 0.0280(3) -0.0058(2) 0.0030(2) 0.0056(3)
O(3) 0.0222(3) 0.0429(3) 0.0186(2) -0.0092(2) -0.0021(2) 0.0057(3)
O(4) 0.0240(3) 0.0389(4) 0.0336(3) 0.0072(3) -0.0024(2) -0.0106(3)
C(1) 0.0215(3) 0.0219(4) 0.0213(3) 0.0017(3) 0.0019(3) -0.0004(3)
C(2) 0.0220(3) 0.0286(4) 0.0207(3) -0.0050(3) -0.0001(3) 0.0003(3)
C(3) 0.0349(5) 0.0419(6) 0.0216(4) -0.0067(4) -0.0001(3) 0.0081(4)
loop_
_atom_type_symbol
_atom_type_oxidation_number
_atom_type_number_in_cell
_atom_type_scat_dispersion_real
_atom_type_scat_dispersion_imag
_atom_type_scat_source
H 0 28 0.000 0.000
;International Tables for Crystallography
(1992, Vol. C, Table 6.1.1.2)
;
C 0 12 0.002 0.002
;International Tables for Crystallography
(1992, Vol. C, Table 6.1.1.2)
;
O 0 16 0.008 0.006
;International Tables for Crystallography
(1992, Vol. C, Table 6.1.1.2)
;
Ni 0 2 0.285 1.113
;International Tables for Crystallography
(1992, Vol. C, Tables 4.2.6.8 and 6.1.1.1)
;
loop_
_diffrn_standard_refln_index_h
_diffrn_standard_refln_index_k
_diffrn_standard_refln_index_l
0 0 0
loop_
_geom_angle_atom_site_label_1
_geom_angle_atom_site_label_2
_geom_angle_atom_site_label_3
_geom_angle
_geom_angle_site_symmetry_3
_geom_angle_publ_flag
? ? ? ? ? ?
O1 Ni1 O1 180.0(0) 3 no
O1 Ni1 O3 79.64(3) . no
O1 Ni1 O4 88.67(3) . no
O3 Ni1 O3 180.0(0) 3 no
O3 Ni1 O4 88.67(3) . no
O4 Ni1 O4 180.0(0) 3 no
Ni1 O1 C1 117.06(6) . no
Ni1 O3 C2 115.19(6) . no
Ni1 O3 C3 128.26(7) . no
C2 O3 C3 115.45(8) . no
Ni1 O4 H4A 117.2(11) . no
Ni1 O4 H4B 120.9(11) . no
H4A O4 H4B 111.2(14) . no
O1 C1 O2 124.64(9) . no
O1 C1 C2 118.44(9) . no
O2 C1 C2 116.91(8) . no
O3 C2 C1 109.51(8) . no
O3 C2 H2A 111.4(7) . no
O3 C2 H2B 109.8(7) . no
C1 C2 H2A 109.3(7) . no
C1 C2 H2B 110.0(7) . no
H2A C2 H2B 106.9(10) . no
O3 C3 H3A 106.5(8) . no
O3 C3 H3B 112.2(8) . no
O3 C3 H3C 108.4(11) . no
H3A C3 H3B 113.1(12) . no
H3A C3 H3C 112.4(13) . no
H3B C3 H3C 104.2(13) . no
loop_
_geom_bond_atom_site_label_1
_geom_bond_atom_site_label_2
_geom_bond_distance
_geom_bond_publ_flag
? ? ? ?
Ni1 O1 2.0207(8) yes
Ni1 O3 2.0444(7) yes
Ni1 O4 2.0736(9) yes
O1 C1 1.259(1) no
O2 C1 1.251(1) no
O3 C2 1.417(1) no
O3 C3 1.418(1) no
O4 H4A 0.84(2) no
O4 H4B 0.79(2) no
C1 C2 1.520(1) no
C2 H2A 1.01(1) no
C2 H2B 0.98(1) no
C3 H3A 0.96(1) no
C3 H3B 0.95(1) no
C3 H3C 0.93(2) no
loop_
_geom_contact_atom_site_label_1
_geom_contact_atom_site_label_2
_geom_contact_distance
_geom_contact_site_symmetry_2
_geom_contact_publ_flag
O2 H4A 1.93(2) 4_554 no
O2 H4B 1.97(2) 1_655 no
