#------------------------------------------------------------------------------
#$Date: 2016-02-16 22:30:59 +0200 (Tue, 16 Feb 2016) $
#$Revision: 176467 $
#$URL: svn://www.crystallography.net/cod/cif/4/32/53/4325327.cif $
#------------------------------------------------------------------------------
#
# This file is available in the Crystallography Open Database (COD),
# http://www.crystallography.net/
#
# All data on this site have been placed in the public domain by the
# contributors.
#
data_4325327
loop_
_publ_author_name
'Charles J. Simmons'
'Horst Stratemeier'
'Michael A. Hitchman'
'Dirk Reinen'
'Vanessa M. Masters'
'Mark J. Riley'
_publ_contact_author_address
;Dr. Charles J. Simmons
Chemistry Department
University of Hawaii at Hilo
200 W. Kawili Street
Hilo, Hawaii 96720
;
_publ_contact_author_email       ' simmonsc@hawaii.edu'
_publ_contact_author_fax         808-974-7693
_publ_contact_author_name        'Dr. Charles J. Simmons'
_publ_contact_author_phone       '808-974-7317 '
_publ_section_title
;
 Temperature Dependence of the Crystal Structure and g-Values of
 trans-Diaquabis(methoxyacetato)Copper(II): Evidence for a Thermal
 Equilibrium Between Complexes with tetragonally Elongated and Compressed
 Geometries
;
_journal_name_full               'Inorganic Chemistry'
_journal_page_first              4900
_journal_page_last               4916
_journal_paper_doi               10.1021/ic200554f
_journal_volume                  50
_journal_year                    2011
_chemical_formula_moiety         'C6 H14 Cu O8 '
_chemical_formula_sum            'C6 H14 Cu O8'
_chemical_formula_weight         277.72
_space_group_IT_number           14
_symmetry_cell_setting           monoclinic
_symmetry_Int_Tables_number      14
_symmetry_space_group_name_Hall  '-P 2yn'
_symmetry_space_group_name_H-M   'P 1 21/n 1'
_cell_angle_alpha                90
_cell_angle_beta                 96.674(1)
_cell_angle_gamma                90
_cell_formula_units_Z            2
_cell_length_a                   6.9599(2)
_cell_length_b                   10.1405(3)
_cell_length_c                   7.23210(10)
_cell_measurement_reflns_used    4622
_cell_measurement_temperature    298
_cell_measurement_theta_max      35.60
_cell_measurement_theta_min      2.01
_cell_volume                     506.96(2)
_computing_cell_refinement       'HKL Scalepack'
_computing_data_collection       'KappaCCD Server Software'
_computing_data_reduction        'HKL Denzo and Scalepack'
_computing_publication_material  'teXsan for Windows v. 1.06 MSC'
_computing_structure_refinement  'teXsan for Windows v. 1.06 MSC'
_computing_structure_solution
;
SIR92 (Altomare, et. al. 1994)
;
_diffrn_ambient_temperature      298
_diffrn_measured_fraction_theta_full 0.998
_diffrn_measured_fraction_theta_max 0.998
_diffrn_measurement_device       'Nonius CCD camera'
_diffrn_measurement_method       'φ ω scans with κ offsets'
_diffrn_radiation_detector       'Nonius Kappa CCD'
_diffrn_radiation_monochromator  graphite
_diffrn_radiation_source         'fine-focus sealed X-ray tube'
_diffrn_radiation_type           'Mo K\a'
_diffrn_radiation_wavelength     0.7107
_diffrn_reflns_av_R_equivalents  0.01248
_diffrn_reflns_av_sigmaI/netI    0.044
_diffrn_reflns_limit_h_max       11
_diffrn_reflns_limit_h_min       -11
_diffrn_reflns_limit_k_max       16
_diffrn_reflns_limit_k_min       -16
_diffrn_reflns_limit_l_max       11
_diffrn_reflns_limit_l_min       -11
_diffrn_reflns_number            4622
_diffrn_reflns_theta_full        35.60
_diffrn_reflns_theta_max         35.60
_diffrn_reflns_theta_min         2.01
_diffrn_standards_decay_%        0.00
_diffrn_standards_interval_count 0
_diffrn_standards_number         0
_exptl_absorpt_coefficient_mu    2.177
_exptl_absorpt_correction_T_max  0.892
_exptl_absorpt_correction_T_min  0.753
_exptl_absorpt_correction_type   multi-scan
_exptl_absorpt_process_details   '(DENZO-SMN; Otwinowski & Minor, 1997)'
_exptl_crystal_colour            blue
_exptl_crystal_density_diffrn    1.819
_exptl_crystal_description       sphere
_exptl_crystal_F_000             286.00
_exptl_crystal_size_max          0.30
_exptl_crystal_size_mid          0.30
_exptl_crystal_size_min          0.30
_exptl_crystal_size_rad          0.30
_refine_diff_density_max         0.39
_refine_diff_density_min         -0.22
_refine_ls_extinction_coef       0.0000062(2)
_refine_ls_extinction_expression 'equ(3) Acta Cryst.(1968) A24, p213.'
_refine_ls_extinction_method     'Zachariasen (1967)'
_refine_ls_goodness_of_fit_all   1.969
_refine_ls_goodness_of_fit_ref   1.970
_refine_ls_hydrogen_treatment    refall
_refine_ls_matrix_type           full
_refine_ls_number_constraints    0
_refine_ls_number_parameters     99
_refine_ls_number_reflns         1514
_refine_ls_number_restraints     0
_refine_ls_R_factor_all          0.0217
_refine_ls_R_factor_gt           0.0220
_refine_ls_shift/su_max          0.0800
_refine_ls_shift/su_mean         0.0115
_refine_ls_structure_factor_coef F
_refine_ls_weighting_details     'w = 1/[σ²(Fo)]'
_refine_ls_weighting_scheme      sigma
_refine_ls_wR_factor_all         0.0220
_refine_ls_wR_factor_ref         0.0220
_reflns_number_gt                1514
_reflns_number_total             2445
_reflns_threshold_expression     I>4.00σ(I)
_cod_data_source_file            ic200554f_si_002_22.cif
_cod_data_source_block           '_Template_texray.inf11'
_cod_original_sg_symbol_H-M      'P 21/n '
_cod_original_formula_sum        'C6 H14 Cu O8 '
_cod_database_code               4325327
loop_
_symmetry_equiv_pos_as_xyz
'   +x,   +y,   +z'
1/2-x,1/2+y,1/2-z
'   -x,   -y,   -z'
1/2+x,1/2-y,1/2+z
loop_
_atom_site_label
_atom_site_fract_x
_atom_site_fract_y
_atom_site_fract_z
_atom_site_U_iso_or_equiv
_atom_site_occupancy
_atom_site_refinement_flags
_atom_site_adp_type
_atom_site_calc_flag
Cu(1) 0.0000 0.0000 0.0000 0.02936(4) 1.000 S Uani d
O(1) 0.18475(8) 0.10605(7) -0.11344(7) 0.0370(2) 1.000 . Uani d
O(2) 0.47188(9) 0.20332(6) -0.08386(8) 0.0383(2) 1.000 . Uani d
O(3) 0.21166(9) 0.03351(7) 0.23493(8) 0.0392(2) 1.000 . Uani d
O(4) -0.14175(11) 0.17812(8) 0.06972(10) 0.0469(2) 1.000 . Uani d
C(1) 0.34017(11) 0.14146(8) -0.01826(10) 0.0294(2) 1.000 . Uani d
C(2) 0.37214(13) 0.10629(10) 0.18606(11) 0.0335(2) 1.000 . Uani d
C(3) 0.2383(2) -0.02736(12) 0.4125(1) 0.0460(3) 1.000 . Uani d
H(2A) 0.494(2) 0.0548(11) 0.2097(12) 0.041(3) 1.000 . Uiso d
H(2B) 0.390(1) 0.1864(10) 0.2579(13) 0.048(3) 1.000 . Uiso d
H(3C) 0.244(2) 0.0346(13) 0.510(2) 0.067(4) 1.000 . Uiso d
H(3A) 0.125(1) -0.0724(11) 0.4210(13) 0.046(3) 1.000 . Uiso d
H(3B) 0.345(2) -0.0926(12) 0.408(2) 0.069(4) 1.000 . Uiso d
H(4A) -0.122(2) 0.2167(12) 0.172(2) 0.064(4) 1.000 . Uiso d
H(4B) -0.256(2) 0.1910(12) 0.036(2) 0.056(3) 1.000 . Uiso d
loop_
_atom_site_aniso_label
_atom_site_aniso_U_11
_atom_site_aniso_U_22
_atom_site_aniso_U_33
_atom_site_aniso_U_12
_atom_site_aniso_U_13
_atom_site_aniso_U_23
Cu(1) 0.02158(8) 0.04155(10) 0.02413(7) -0.00374(6) -0.00085(5) -0.00069(6)
O(1) 0.0287(3) 0.0522(4) 0.0293(3) -0.0067(3) 0.0009(2) 0.0031(3)
O(2) 0.0332(3) 0.0456(4) 0.0363(3) -0.0096(3) 0.0049(2) 0.0024(3)
O(3) 0.0326(3) 0.0556(4) 0.0287(3) -0.0085(3) 0.0005(3) 0.0074(3)
O(4) 0.0342(4) 0.0622(5) 0.0424(4) 0.0038(4) -0.0031(3) -0.0109(4)
C(1) 0.0278(4) 0.0300(4) 0.0306(4) 0.0023(3) 0.0036(3) -0.0033(3)
C(2) 0.0311(4) 0.0383(5) 0.0304(4) -0.0053(4) 0.0013(3) -0.0009(4)
C(3) 0.0516(7) 0.0521(7) 0.0342(5) -0.0053(6) 0.0048(4) 0.0095(4)
loop_
_atom_type_symbol
_atom_type_oxidation_number
_atom_type_number_in_cell
_atom_type_scat_dispersion_real
_atom_type_scat_dispersion_imag
_atom_type_scat_source
H 0 28 0.000 0.000
;International Tables for Crystallography
(1992, Vol. C, Table 6.1.1.2)
;
O 0 16 0.008 0.006
;International Tables for Crystallography
(1992, Vol. C, Table 6.1.1.2)
;
C 0 12 0.002 0.002
;International Tables for Crystallography
(1992, Vol. C, Table 6.1.1.2)
;
Cu 0 2 0.263 1.266
;International Tables for Crystallography
(1992, Vol. C, Tables 4.2.6.8 and 6.1.1.1)
;
loop_
_diffrn_standard_refln_index_h
_diffrn_standard_refln_index_k
_diffrn_standard_refln_index_l
0 0 0
loop_
_geom_angle_atom_site_label_1
_geom_angle_atom_site_label_2
_geom_angle_atom_site_label_3
_geom_angle
_geom_angle_site_symmetry_3
_geom_angle_publ_flag
? ? ? ? ? ?
O1 Cu1 O1 180.0(0) 3 no
O1 Cu1 O3 79.52(3) . no
O1 Cu1 O4 88.75(4) . no
O3 Cu1 O3 180.0(0) 3 no
O3 Cu1 O4 88.43(4) . no
O4 Cu1 O4 180.0(0) 3 no
Cu1 O1 C1 119.77(7) . no
Cu1 O3 C2 111.96(7) . no
Cu1 O3 C3 130.92(9) . no
C2 O3 C3 115.4(1) . no
Cu1 O4 H4A 124.9(11) . no
Cu1 O4 H4B 121.5(12) . no
H4A O4 H4B 104.2(14) . no
O1 C1 O2 123.7(1) . no
O1 C1 C2 119.0(1) . no
O2 C1 C2 117.3(1) . no
O3 C2 C1 109.63(9) . no
O3 C2 H2A 111.4(8) . no
O3 C2 H2B 111.0(8) . no
C1 C2 H2A 108.5(8) . no
C1 C2 H2B 108.8(8) . no
H2A C2 H2B 107.4(11) . no
O3 C3 H3A 104.6(8) . no
O3 C3 H3B 106.4(9) . no
O3 C3 H3C 112.2(12) . no
H3A C3 H3B 108.7(13) . no
H3A C3 H3C 103.9(15) . no
H3B C3 H3C 120.1(14) . no
loop_
_geom_bond_atom_site_label_1
_geom_bond_atom_site_label_2
_geom_bond_distance
_geom_bond_publ_flag
? ? ? ?
Cu1 O1 1.9308(8) yes
Cu1 O3 2.1426(8) yes
Cu1 O4 2.146(1) yes
O1 C1 1.265(1) no
O2 C1 1.249(1) no
O3 C2 1.417(2) no
O3 C3 1.417(2) no
O4 H4A 0.83(2) no
O4 H4B 0.82(2) no
C1 C2 1.511(2) no
C2 H2A 0.99(2) no
C2 H2B 0.96(1) no
C3 H3A 0.92(1) no
C3 H3B 1.00(2) no
C3 H3C 0.94(2) no
loop_
_geom_contact_atom_site_label_1
_geom_contact_atom_site_label_2
_geom_contact_distance
_geom_contact_site_symmetry_2
_geom_contact_publ_flag
O2 H4A 1.99(2) 4_554 no
O2 H4B 1.99(2) 1_655 no
