#------------------------------------------------------------------------------
#$Date: 2016-03-23 16:19:00 +0200 (Wed, 23 Mar 2016) $
#$Revision: 179371 $
#$URL: svn://www.crystallography.net/cod/cif/4/32/68/4326862.cif $
#------------------------------------------------------------------------------
#
# This file is available in the Crystallography Open Database (COD),
# http://www.crystallography.net/
#
# All data on this site have been placed in the public domain by the
# contributors.
#
data_4326862
loop_
_publ_author_name
'Aurel Tăbăcaru'
'Claudio Pettinari'
'Norberto Masciocchi'
'Simona Galli'
'Fabio Marchetti'
'Mariglen Angjellari'
_publ_contact_author_address
;
    Dipartimento di Scienze Chimiche e Ambientali,
    Università degli Studi dell'Insubria,
    Via Valleggio 11, 22100 Como - Italy.
;
_publ_contact_author_email       simona.galli@uninsubria.it
_publ_contact_author_fax         +39-031-2386630
_publ_contact_author_name        'Dr. Simona Galli'
_publ_contact_author_phone       +39-031-2386627
_publ_section_title
;
 Pro-porous Coordination Polymers of the
 1,4-Bis((3,5-dimethyl-1H-pyrazol-4-yl)-methyl)benzene Ligand with Late
 Transition Metals
;
_journal_name_full               'Inorganic Chemistry'
_journal_page_first              11506
_journal_page_last               11513
_journal_paper_doi               10.1021/ic2013705
_journal_volume                  50
_journal_year                    2011
_chemical_compound_source        synthesis
_chemical_formula_moiety         'Zn (C18 H20 N4)'
_chemical_formula_structural     'Zn (C18 H20 N4)'
_chemical_formula_sum            'C18 H20 N4 Zn'
_chemical_formula_weight         357.8
_space_group_crystal_system      orthorhombic
_space_group_IT_number           56
_symmetry_space_group_name_Hall  '-P 2ab 2ac'
_symmetry_space_group_name_H-M   'P c c n'
_cell_angle_alpha                90
_cell_angle_beta                 90
_cell_angle_gamma                90
_cell_formula_units_Z            4
_cell_length_a                   25.4057(17)
_cell_length_b                   8.82517(51)
_cell_length_c                   7.27564(58)
_cell_measurement_temperature    298
_cell_volume                     1631.27(19)
_computing_cell_refinement
;
 TOPAS-R v. 3.0, Bruker AXS, 2005, Karlsruhe, Germany
;
_computing_structure_refinement
;
 TOPAS-R v. 3.0, Bruker AXS, 2005, Karlsruhe, Germany
;
_computing_structure_solution
;
 TOPAS-R v. 3.0, Bruker AXS, 2005, Karlsruhe, Germany
;
_diffrn_ambient_temperature      298
_diffrn_detector_type            'Bruker AXS Lynxeye linear PSD'
_diffrn_measurement_device_type  'Bruker AXS D8 Advance'
_diffrn_radiation_monochromator  'Nickel filter'
_diffrn_source_target            Cu
_diffrn_source_type              'sealed X-ray tube'
_exptl_crystal_F_000             744
_pd_char_colour                  white
_pd_char_particle_morphology     plate-like
_pd_instr_location               ' ?'
_pd_meas_2theta_range_inc        0.02
_pd_meas_2theta_range_max        105
_pd_meas_2theta_range_min        5
_pd_meas_number_of_points        5001
_pd_meas_scan_method             step
_pd_proc_2theta_range_inc        0.02
_pd_proc_2theta_range_max        105
_pd_proc_2theta_range_min        5
_pd_proc_ls_background_function  'Chebychev polynomial'
_pd_proc_ls_profile_function     'fundamental parameters approach'
_pd_proc_ls_prof_R_factor        0.067
_pd_proc_ls_prof_wR_expected     0.014
_pd_proc_ls_prof_wR_factor       0.093
_pd_spec_mounting                ' packed powder pellet'
_pd_spec_mount_mode              reflection
_pd_spec_shape                   flat_sheet
_pd_spec_size_axial              15
_pd_spec_size_equat              20
_pd_spec_size_thick              0.1
_refine_ls_extinction_method     none
_refine_ls_matrix_type           fullcycle
_refine_ls_number_parameters     49
_refine_ls_number_restraints     0
_refine_ls_shift/su_max          .01
_refine_ls_structure_factor_coef Inet
_refine_ls_weighting_details     'w = 1/[Yi]'
_refine_ls_weighting_scheme      calc
_cod_data_source_file            ic2013705_si_002_2.cif
_cod_data_source_block           Compound_1
_cod_depositor_comments
;
The following automatic conversions were performed:

'_refine_ls_weighting_scheme' value '1/[Y~i~]' was changed to 'calc'.
New tag '_refine_ls_weighting_details' was created. The value of the
new tag was set to 'w = 1/[Y~i~]'.

Automatic conversion script
Id: cif_fix_values 3143 2015-03-26 13:38:13Z robertas 
;
_cod_database_code               4326862
loop_
_symmetry_equiv_pos_as_xyz
'-x, -y, -z'
'-x, y+1/2, -z+1/2'
'-x+1/2, -y+1/2, z'
'-x+1/2, y, z+1/2'
'x, -y+1/2, z+1/2'
'x, y, z'
'x+1/2, -y, -z+1/2'
'x+1/2, y+1/2, -z'
loop_
_atom_site_label
_atom_site_type_symbol
_atom_site_symmetry_multiplicity
_atom_site_fract_x
_atom_site_fract_y
_atom_site_fract_z
_atom_site_occupancy
_atom_site_B_iso_or_equiv
Zn Zn 4 0.75 0.75 0.43196(57) 1 0.83(12)
C1 C 8 0.4573377 0.5656147 0.4102578 1 2.83(12)
C2 C 8 0.4514195 0.4736572 0.563981 1 2.83(12)
H2 H 8 0.4174778 0.457929 0.6153432 1 2.83(12)
C3 C 8 0.5069999 0.5886276 0.3351069 1 2.83(12)
H3 H 8 0.5110447 0.6514762 0.2300443 1 2.83(12)
C4 C 8 0.4095026 0.6410073 0.3243371 1 2.83(12)
H41 H 8 0.3997978 0.7269802 0.3952308 1 2.83(12)
H42 H 8 0.4177183 0.672034 0.2026415 1 2.83(12)
C5 C 8 0.3639818 0.5293077 0.3195776 1 2.83(12)
C6 C 8 0.3265082 0.5123787 0.4514741 1 2.83(12)
N1 N 8 0.2929419 0.4013565 0.3960879 1 2.83(12)
N2 N 8 0.3096704 0.34967 0.2299607 1 2.83(12)
C7 C 8 0.3535754 0.4287482 0.1826748 1 2.83(12)
C8 C 8 0.3227934 0.6018358 0.629529 1 2.83(12)
H81 H 8 0.3512505 0.6714347 0.636461 1 2.83(12)
H82 H 8 0.2904507 0.6558044 0.6325482 1 2.83(12)
H83 H 8 0.3243541 0.5342582 0.7310203 1 2.83(12)
C9 C 8 0.3854236 0.4083253 0.007561454 1 2.83(12)
H91 H 8 0.4144795 0.4760806 0.00837006 1 2.83(12)
H92 H 8 0.3979234 0.3070308 0.0006630615 1 2.83(12)
H93 H 8 0.3638012 0.4290822 -0.09595006 1 2.83(12)
loop_
_atom_type_symbol
_atom_type_description
_atom_type_scat_source
C C 'International Tables for Crystallography (Vol. IV)'
H H 'International Tables for Crystallography (Vol. IV)'
N N 'International Tables for Crystallography (Vol. IV)'
Zn Zn 'International Tables for Crystallography (Vol. IV)'
loop_
_diffrn_radiation_type
_diffrn_radiation_wavelength
CuK\a~1~ 1.54056
CuK\a~2~ 1.54439
loop_
_pd_proc_wavelength
1.540562
1.544390
