#------------------------------------------------------------------------------
#$Date: 2016-03-24 02:30:31 +0200 (Thu, 24 Mar 2016) $
#$Revision: 179582 $
#$URL: svn://www.crystallography.net/cod/cif/4/50/47/4504780.cif $
#------------------------------------------------------------------------------
#
# This file is available in the Crystallography Open Database (COD),
# http://www.crystallography.net/
#
# All data on this site have been placed in the public domain by the
# contributors.
#
data_4504780
loop_
_publ_author_name
'Chowdhury, Masrur'
'Kariuki, Benson M.'
_publ_section_title
;
 Supramolecular Assembly in Cinnamate Structures:  The Influence of
 the Ammonium Ion and Halogen Interactions
;
_journal_issue                   3
_journal_name_full               'Crystal Growth & Design'
_journal_page_first              774
_journal_paper_doi               10.1021/cg050604k
_journal_volume                  6
_journal_year                    2006
_chemical_formula_moiety         'C9 H6 Cl O2, C9 H7 Cl O2,H4 N'
_chemical_formula_sum            'C18 H17 Cl2 N O4'
_chemical_formula_weight         382.23
_chemical_name_systematic
;
 ?
;
_space_group_IT_number           15
_symmetry_cell_setting           monoclinic
_symmetry_space_group_name_Hall  '-C 2yc'
_symmetry_space_group_name_H-M   'C 1 2/c 1'
_atom_sites_solution_hydrogens   geom
_atom_sites_solution_primary     direct
_atom_sites_solution_secondary   difmap
_audit_creation_method           SHELXL-97
_cell_angle_alpha                90.00
_cell_angle_beta                 94.379(4)
_cell_angle_gamma                90.00
_cell_formula_units_Z            4
_cell_length_a                   39.987(2)
_cell_length_b                   5.9313(3)
_cell_length_c                   7.5657(4)
_cell_measurement_reflns_used    1348
_cell_measurement_temperature    296(2)
_cell_measurement_theta_max      70.50
_cell_measurement_theta_min      4.44
_cell_volume                     1789.16(16)
_computing_cell_refinement       SAINTPLUS
_computing_data_collection       SMART
_computing_data_reduction        SAINTPLUS
_computing_publication_material  SHELXTL
_computing_structure_refinement  SHELXTL
_computing_structure_solution    SHELXTL
_diffrn_ambient_temperature      296(2)
_diffrn_measured_fraction_theta_full 0.928
_diffrn_measured_fraction_theta_max 0.928
_diffrn_measurement_device_type  'Bruker Smart 6000 CCD'
_diffrn_measurement_method       'CCD scans'
_diffrn_radiation_monochromator  graphite
_diffrn_radiation_source         'fine-focus sealed tube'
_diffrn_radiation_type           CuK\a
_diffrn_radiation_wavelength     1.54178
_diffrn_reflns_av_R_equivalents  0.0580
_diffrn_reflns_av_sigmaI/netI    0.0465
_diffrn_reflns_limit_h_max       45
_diffrn_reflns_limit_h_min       -46
_diffrn_reflns_limit_k_max       6
_diffrn_reflns_limit_k_min       -7
_diffrn_reflns_limit_l_max       9
_diffrn_reflns_limit_l_min       -9
_diffrn_reflns_number            5248
_diffrn_reflns_theta_full        70.50
_diffrn_reflns_theta_max         70.50
_diffrn_reflns_theta_min         4.44
_exptl_absorpt_coefficient_mu    3.465
_exptl_absorpt_correction_T_max  0.7690
_exptl_absorpt_correction_T_min  0.4229
_exptl_absorpt_correction_type   empirical
_exptl_absorpt_process_details   sadabs
_exptl_crystal_colour            colourless
_exptl_crystal_density_diffrn    1.419
_exptl_crystal_density_method    'not measured'
_exptl_crystal_description       plate
_exptl_crystal_F_000             792
_exptl_crystal_size_max          0.30
_exptl_crystal_size_mid          0.20
_exptl_crystal_size_min          0.08
_refine_diff_density_max         0.772
_refine_diff_density_min         -0.427
_refine_diff_density_rms         0.081
_refine_ls_extinction_method     none
_refine_ls_goodness_of_fit_ref   1.077
_refine_ls_hydrogen_treatment    mixed
_refine_ls_matrix_type           full
_refine_ls_number_parameters     122
_refine_ls_number_reflns         1592
_refine_ls_number_restraints     2
_refine_ls_restrained_S_all      1.077
_refine_ls_R_factor_all          0.0849
_refine_ls_R_factor_gt           0.0763
_refine_ls_shift/su_max          0.000
_refine_ls_shift/su_mean         0.000
_refine_ls_structure_factor_coef Fsqd
_refine_ls_weighting_details
'calc w=1/[σ²(Fo²)+(0.0762P)²+6.9122P] where P=(Fo²+2Fc²)/3'
_refine_ls_weighting_scheme      calc
_refine_ls_wR_factor_gt          0.1971
_refine_ls_wR_factor_ref         0.2054
_reflns_number_gt                1348
_reflns_number_total             1592
_reflns_threshold_expression     >2sigma(I)
_cod_data_source_file            cg050604ksi20051114_115359.cif
_cod_data_source_block           mc4
_cod_depositor_comments
;
The following automatic conversions were performed:

'_symmetry_cell_setting' value 'Monoclinic' changed to 'monoclinic'
according to /home/saulius/struct/CIF-dictionaries/cif_core.dic
dictionary named 'cif_core.dic' version 2.4.1 from 2010-06-29.

Automatic conversion script
Id: cif_fix_values 1715 2011-07-08 13:25:40Z adriana 
;
_cod_original_cell_volume        1789.14(16)
_cod_original_sg_symbol_H-M      C2/c
_cod_database_code               4504780
loop_
_symmetry_equiv_pos_as_xyz
'x, y, z'
'-x, y, -z+1/2'
'x+1/2, y+1/2, z'
'-x+1/2, y+1/2, -z+1/2'
'-x, -y, -z'
'x, -y, z-1/2'
'-x+1/2, -y+1/2, -z'
'x+1/2, -y+1/2, z-1/2'
loop_
_atom_site_label
_atom_site_type_symbol
_atom_site_fract_x
_atom_site_fract_y
_atom_site_fract_z
_atom_site_U_iso_or_equiv
_atom_site_adp_type
_atom_site_occupancy
_atom_site_symmetry_multiplicity
_atom_site_calc_flag
_atom_site_refinement_flags
C1 C 0.36929(10) 0.2053(8) 0.2336(5) 0.0557(11) Uani 1 1 d .
C2 C 0.34178(11) 0.0626(7) 0.2471(5) 0.0530(10) Uani 1 1 d .
H2 H 0.3446 -0.0769 0.3024 0.064 Uiso 1 1 calc R
C3 C 0.31047(10) 0.1293(7) 0.1782(5) 0.0479(9) Uani 1 1 d .
C4 C 0.30578(11) 0.3352(7) 0.0950(5) 0.0527(10) Uani 1 1 d .
H4 H 0.2846 0.3798 0.0490 0.063 Uiso 1 1 calc R
C5 C 0.33320(12) 0.4734(8) 0.0814(6) 0.0592(11) Uani 1 1 d .
H5 H 0.3303 0.6121 0.0249 0.071 Uiso 1 1 calc R
C6 C 0.36450(12) 0.4115(8) 0.1490(6) 0.0596(11) Uani 1 1 d .
H6 H 0.3826 0.5076 0.1383 0.071 Uiso 1 1 calc R
C7 C 0.40389(13) 0.1507(10) 0.3056(6) 0.0684(13) Uani 1 1 d .
H7 H 0.4194 0.2676 0.3124 0.082 Uiso 1 1 calc R
C8 C 0.41411(14) -0.0435(9) 0.3592(6) 0.0717(14) Uani 1 1 d .
H8 H 0.3984 -0.1594 0.3557 0.086 Uiso 1 1 calc R
C9 C 0.44972(13) -0.1011(11) 0.4279(7) 0.0712(14) Uani 1 1 d .
N1 N 0.5000 0.4639(13) 0.2500 0.0722(16) Uani 1 2 d SD
O1 O 0.47052(11) 0.0666(8) 0.4477(7) 0.1035(16) Uani 1 1 d .
H10 H 0.5147(15) 0.543(11) 0.191(9) 0.13(3) Uiso 1 1 d D
O2 O 0.45643(9) -0.2904(7) 0.4610(5) 0.0806(11) Uani 1 1 d .
Cl1 Cl 0.27629(3) -0.0497(2) 0.18998(16) 0.0698(5) Uani 1 1 d .
H1 H 0.5000 0.0000 0.5000 0.105 Uiso 1 2 d S
H9 H 0.4868(17) 0.373(10) 0.179(9) 0.14(3) Uiso 1 1 d D
loop_
_atom_site_aniso_label
_atom_site_aniso_U_11
_atom_site_aniso_U_22
_atom_site_aniso_U_33
_atom_site_aniso_U_23
_atom_site_aniso_U_13
_atom_site_aniso_U_12
C1 0.047(2) 0.078(3) 0.042(2) -0.008(2) 0.0052(17) 0.008(2)
C2 0.060(3) 0.057(2) 0.042(2) 0.0023(17) 0.0048(18) 0.017(2)
C3 0.049(2) 0.052(2) 0.0423(19) -0.0024(16) 0.0040(17) 0.0070(17)
C4 0.050(2) 0.060(2) 0.047(2) -0.0003(19) -0.0017(17) 0.0152(19)
C5 0.068(3) 0.059(3) 0.051(2) -0.001(2) 0.005(2) 0.007(2)
C6 0.060(3) 0.066(3) 0.053(2) -0.004(2) 0.009(2) -0.002(2)
C7 0.065(3) 0.082(3) 0.059(3) 0.004(2) 0.010(2) 0.011(3)
C8 0.078(3) 0.075(3) 0.063(3) 0.000(2) 0.012(2) -0.001(3)
C9 0.059(3) 0.098(4) 0.059(3) 0.017(3) 0.018(2) 0.009(3)
N1 0.084(5) 0.082(5) 0.051(3) 0.000 0.011(3) 0.000
O1 0.076(3) 0.099(3) 0.137(4) 0.054(3) 0.015(3) 0.033(2)
O2 0.068(2) 0.098(3) 0.076(2) 0.017(2) 0.0081(17) 0.025(2)
Cl1 0.0571(7) 0.0753(8) 0.0762(8) 0.0129(6) -0.0006(5) -0.0052(5)
loop_
_atom_type_symbol
_atom_type_description
_atom_type_scat_dispersion_real
_atom_type_scat_dispersion_imag
_atom_type_scat_source
C C 0.0181 0.0091 'International Tables Vol C Tables 4.2.6.8 and 6.1.1.4'
H H 0.0000 0.0000 'International Tables Vol C Tables 4.2.6.8 and 6.1.1.4'
N N 0.0311 0.0180 'International Tables Vol C Tables 4.2.6.8 and 6.1.1.4'
O O 0.0492 0.0322 'International Tables Vol C Tables 4.2.6.8 and 6.1.1.4'
Cl Cl 0.3639 0.7018 'International Tables Vol C Tables 4.2.6.8 and 6.1.1.4'
loop_
_geom_angle_atom_site_label_1
_geom_angle_atom_site_label_2
_geom_angle_atom_site_label_3
_geom_angle
C6 C1 C2 119.1(4)
C6 C1 C7 117.0(4)
C2 C1 C7 123.9(4)
C3 C2 C1 119.7(4)
C2 C3 C4 121.0(4)
C2 C3 Cl1 120.0(3)
C4 C3 Cl1 119.0(3)
C5 C4 C3 118.6(4)
C6 C5 C4 121.5(4)
C5 C6 C1 120.0(4)
C8 C7 C1 125.5(6)
C7 C8 C9 125.5(6)
O2 C9 O1 124.9(5)
O2 C9 C8 118.7(6)
O1 C9 C8 116.3(5)
loop_
_geom_bond_atom_site_label_1
_geom_bond_atom_site_label_2
_geom_bond_distance
C1 C6 1.387(7)
C1 C2 1.398(6)
C1 C7 1.483(6)
C2 C3 1.377(6)
C3 C4 1.380(6)
C3 Cl1 1.739(4)
C4 C5 1.379(6)
C5 C6 1.366(6)
C7 C8 1.278(7)
C8 C9 1.517(7)
C9 O2 1.177(7)
C9 O1 1.298(7)
