#------------------------------------------------------------------------------
#$Date: 2016-03-24 03:03:52 +0200 (Thu, 24 Mar 2016) $
#$Revision: 179611 $
#$URL: svn://www.crystallography.net/cod/cif/4/50/75/4507554.cif $
#------------------------------------------------------------------------------
#
# This file is available in the Crystallography Open Database (COD),
# http://www.crystallography.net/
#
# All data on this site have been placed in the public domain by the
# contributors.
#
data_4507554
loop_
_publ_author_name
'Ridout, Joe'
'Probert, Michael R.'
_publ_section_title
;
 High-Pressure and Low-Temperature Polymorphism in
 C--H···F--C Hydrogen Bonded Monofluorotoluenes
;
_journal_issue                   5
_journal_name_full               'Crystal Growth & Design'
_journal_page_first              1943
_journal_paper_doi               10.1021/cg301773h
_journal_volume                  13
_journal_year                    2013
_chemical_formula_moiety         'C7 H7 F'
_chemical_formula_sum            'C7 H7 F'
_chemical_formula_weight         110.13
_chemical_name_systematic        2-fluorotoluene
_space_group_crystal_system      orthorhombic
_space_group_IT_number           61
_space_group_name_Hall           '-P 2ac 2ab'
_space_group_name_H-M_alt        'P b c a'
_symmetry_space_group_name_Hall  '-P 2ac 2ab'
_symmetry_space_group_name_H-M   'P b c a'
_atom_sites_solution_hydrogens   geom
_atom_sites_solution_primary     dual
_atom_sites_solution_secondary   difmap
_audit_creation_date             2012-11-19
_audit_creation_method
;
  Olex2 1.2-alpha
  (compiled 2012.02.07 svn.r2199, GUI svn.r4069)
;
_cell_angle_alpha                90.00
_cell_angle_beta                 90.00
_cell_angle_gamma                90.00
_cell_formula_units_Z            8
_cell_length_a                   5.807(2)
_cell_length_b                   13.549(8)
_cell_length_c                   14.280(6)
_cell_measurement_reflns_used    216
_cell_measurement_temperature    293.15
_cell_measurement_theta_max      18.58
_cell_measurement_theta_min      3.22
_cell_volume                     1123.5(9)
_computing_cell_refinement       'SAINT v7.68A (Bruker, 2009)'
_computing_data_collection       'APEX2 (Bruker, 2010)'
_computing_data_reduction        'SAINT v7.60A (Bruker, 2009)'
_computing_molecular_graphics
;
O. V. Dolomanov, L. J. Bourhis, R. J. Gildea, J. A. K. Howard and H. Puschmann,
OLEX2: a complete structure solution, refinement and analysis program.
J. Appl. Cryst. (2009). 42, 339-341.
;
_computing_publication_material
;
O. V. Dolomanov, L. J. Bourhis, R. J. Gildea, J. A. K. Howard and H. Puschmann,
OLEX2: a complete structure solution, refinement and analysis program.
J. Appl. Cryst. (2009). 42, 339-341.
;
_computing_structure_refinement
;
XL, G.M. Sheldrick, Acta Cryst.
(2008). A64, 112-122
;
_computing_structure_solution
;
XM, G.M. Sheldrick, Acta Cryst.
(2008). A64, 112-122
;
_diffrn_ambient_temperature      293.15
_diffrn_detector                 'CCD area detector'
_diffrn_detector_area_resol_mean 7.9
_diffrn_detector_type            'Bruker APEXII CCD area detector'
_diffrn_measured_fraction_theta_full 0.459
_diffrn_measured_fraction_theta_max 0.459
_diffrn_measurement_device       'four-circle diffractometer'
_diffrn_measurement_device_type  'Bruker APEXII CCD area detector'
_diffrn_measurement_method       'φ scans'
_diffrn_radiation_collimation    'Multilayer mirrors'
_diffrn_radiation_monochromator  'Bruker Helios multilayer mirrors'
_diffrn_radiation_probe          x-ray
_diffrn_radiation_type           'Ag K\a'
_diffrn_radiation_wavelength     0.56087
_diffrn_radiation_xray_symbol    K-L~3~
_diffrn_reflns_av_R_equivalents  0.0368
_diffrn_reflns_av_unetI/netI     0.0188
_diffrn_reflns_limit_h_max       5
_diffrn_reflns_limit_h_min       -6
_diffrn_reflns_limit_k_max       6
_diffrn_reflns_limit_k_min       -5
_diffrn_reflns_limit_l_max       15
_diffrn_reflns_limit_l_min       -15
_diffrn_reflns_number            5772
_diffrn_reflns_theta_full        17.74
_diffrn_reflns_theta_max         17.74
_diffrn_reflns_theta_min         2.25
_diffrn_source                   'Microfocus sealed tube'
_diffrn_source_target            Ag
_diffrn_source_type              'Incoatec IuS'
_diffrn_standards_number         0
_exptl_absorpt_coefficient_mu    0.060
_exptl_absorpt_correction_T_max  0.7445
_exptl_absorpt_correction_T_min  0.5801
_exptl_absorpt_correction_type   multi-scan
_exptl_absorpt_process_details
;
SADABS-2008/1 (Bruker,2008) was used for absorption correction.
R(int) was 0.0779 before and 0.0478 after correction.
The Ratio of minimum to maximum transmission is 0.7792.
The λ/2 correction factor is 0.0015.
;
_exptl_crystal_colour            'clear light colourless'
_exptl_crystal_colour_lustre     clear
_exptl_crystal_colour_modifier   light
_exptl_crystal_colour_primary    colourless
_exptl_crystal_density_diffrn    1.302
_exptl_crystal_density_meas      ?
_exptl_crystal_density_method    'not measured'
_exptl_crystal_description       Cylinder
_exptl_crystal_F_000             464
_exptl_crystal_recrystallization_method
'Crystallised using high-pressure in a diamond anvil cell.'
_exptl_crystal_size_max          0.25
_exptl_crystal_size_mid          0.25
_exptl_crystal_size_min          0.12
_exptl_crystal_size_rad          0.25
_refine_diff_density_max         0.104
_refine_diff_density_min         -0.124
_refine_diff_density_rms         0.036
_refine_ls_extinction_method     none
_refine_ls_goodness_of_fit_ref   1.113
_refine_ls_hydrogen_treatment    constr
_refine_ls_matrix_type           full
_refine_ls_number_parameters     73
_refine_ls_number_reflns         347
_refine_ls_number_restraints     18
_refine_ls_restrained_S_all      1.086
_refine_ls_R_factor_all          0.0815
_refine_ls_R_factor_gt           0.0430
_refine_ls_shift/su_max          0.001
_refine_ls_shift/su_mean         0.000
_refine_ls_structure_factor_coef Fsqd
_refine_ls_weighting_details
'calc w=1/[σ²(Fo²)+(0.0375P)²+1.9837P] where P=(Fo²+2Fc²)/3'
_refine_ls_weighting_scheme      calc
_refine_ls_wR_factor_gt          0.1003
_refine_ls_wR_factor_ref         0.1316
_reflns_number_gt                234
_reflns_number_total             347
_reflns_threshold_expression     >2sigma(I)
_cod_data_source_file            cg301773h_si_001.cif
_cod_data_source_block           final
_cod_depositor_comments
;
The following automatic conversions were performed:

'_exptl_crystal_density_meas' value 'not_measured' was changed to '?'
- the value is perceived as not measured.

Automatic conversion script
Id: cif_fix_values 3008 2015-01-20 13:52:24Z robertas 
;
_cod_database_code               4507554
#BEGIN Tags that were not found in dictionaries:
_olex2_refinement_description
;
1. Others
 Fixed Uiso: H2(0.089) H4(0.09) H1(0.083) H3(0.096) H7(0.127) H6(0.127)
 H5(0.127)
 Fixed X: H2(0.8572) H4(0.2812) H1(0.971) H3(0.4982) H7(0.3365) H6(0.1869)
 H5(0.4105)
 Fixed Y: H2(0.7892) H4(0.6694) H1(0.6195) H3(0.8111) H7(0.4421) H6(0.5046)
 H5(0.4518)
 Fixed Z: H2(0.0746) H4(0.1941) H1(0.0438) H3(0.1554) H7(0.1093) H6(0.1788)
 H5(0.2145)
;
#END Tags that were not found in dictionaries
loop_
_space_group_symop_id
_space_group_symop_operation_xyz
1 'x, y, z'
2 '-x+1/2, -y, z+1/2'
3 'x+1/2, -y+1/2, -z'
4 '-x, y+1/2, -z+1/2'
5 '-x, -y, -z'
6 'x-1/2, y, -z-1/2'
7 '-x-1/2, y-1/2, z'
8 'x, -y-1/2, z-1/2'
loop_
_atom_site_label
_atom_site_type_symbol
_atom_site_fract_x
_atom_site_fract_y
_atom_site_fract_z
_atom_site_U_iso_or_equiv
_atom_site_adp_type
_atom_site_occupancy
_atom_site_symmetry_multiplicity
_atom_site_calc_flag
_atom_site_refinement_flags
C4 C 0.7626(14) 0.7370(15) 0.0923(5) 0.078(6) Uani 1 1 d U
H2 H 0.8572 0.7892 0.0746 0.089 Uiso 1 1 d .
C2 C 0.6909(12) 0.5601(17) 0.0956(4) 0.062(5) Uani 1 1 d U
C6 C 0.4183(12) 0.6620(15) 0.1617(5) 0.076(5) Uani 1 1 d U
H4 H 0.2812 0.6694 0.1941 0.090 Uiso 1 1 d .
C3 C 0.8301(13) 0.6364(18) 0.0724(5) 0.071(5) Uani 1 1 d U
H1 H 0.9710 0.6195 0.0438 0.083 Uiso 1 1 d .
C1 C 0.4831(11) 0.5767(13) 0.1387(4) 0.063(5) Uani 1 1 d U
C5 C 0.5517(11) 0.7487(12) 0.1392(4) 0.082(5) Uani 1 1 d U
H3 H 0.4982 0.8111 0.1554 0.096 Uiso 1 1 d .
C7 C 0.3410(10) 0.4852(11) 0.1619(4) 0.086(6) Uani 1 1 d U
H7 H 0.3365 0.4421 0.1093 0.127 Uiso 1 1 d .
H6 H 0.1869 0.5046 0.1788 0.127 Uiso 1 1 d .
H5 H 0.4105 0.4518 0.2145 0.127 Uiso 1 1 d .
F1 F 0.7654(8) 0.4773(10) 0.0715(3) 0.085(5) Uani 1 1 d U
loop_
_atom_site_aniso_label
_atom_site_aniso_U_11
_atom_site_aniso_U_22
_atom_site_aniso_U_33
_atom_site_aniso_U_23
_atom_site_aniso_U_13
_atom_site_aniso_U_12
C4 0.062(4) 0.115(18) 0.056(4) 0.028(7) -0.010(3) 0.002(8)
C2 0.040(4) 0.109(17) 0.037(3) 0.005(5) 0.008(3) 0.006(6)
C6 0.038(4) 0.145(17) 0.044(4) -0.014(6) 0.002(3) 0.002(6)
C3 0.042(4) 0.116(17) 0.056(4) 0.003(7) -0.001(3) -0.009(6)
C1 0.033(3) 0.128(16) 0.028(3) 0.010(5) 0.000(2) -0.004(5)
C5 0.067(4) 0.125(16) 0.053(3) -0.004(5) -0.015(3) 0.009(6)
C7 0.054(3) 0.153(17) 0.052(3) -0.013(5) 0.005(3) -0.026(6)
F1 0.062(3) 0.116(16) 0.078(3) -0.010(4) 0.021(2) -0.006(4)
loop_
_atom_type_symbol
_atom_type_description
_atom_type_scat_dispersion_real
_atom_type_scat_dispersion_imag
_atom_type_scat_source
C C 0.0015 0.0009 'International Tables Vol C Tables 4.2.6.8 and 6.1.1.4'
H H 0.0000 0.0000 'International Tables Vol C Tables 4.2.6.8 and 6.1.1.4'
F F 0.0096 0.0061 'International Tables Vol C Tables 4.2.6.8 and 6.1.1.4'
loop_
_geom_angle_atom_site_label_1
_geom_angle_atom_site_label_2
_geom_angle_atom_site_label_3
_geom_angle
C5 C4 C3 115.8(15)
C3 C2 C1 121(2)
F1 C2 C3 114.3(8)
F1 C2 C1 125(2)
C1 C6 C5 121.9(9)
C2 C3 C4 120.6(10)
C2 C1 C7 116.1(17)
C6 C1 C2 122.0(18)
C6 C1 C7 121.8(8)
C4 C5 C6 118.8(15)
loop_
_geom_bond_atom_site_label_1
_geom_bond_atom_site_label_2
_geom_bond_distance
C4 C3 1.45(3)
C4 C5 1.405(11)
C2 C3 1.35(3)
C2 C1 1.373(10)
C2 F1 1.25(2)
C6 C1 1.26(3)
C6 C5 1.44(2)
C1 C7 1.53(2)
