#------------------------------------------------------------------------------
#$Date: 2016-03-24 03:10:02 +0200 (Thu, 24 Mar 2016) $
#$Revision: 179616 $
#$URL: svn://www.crystallography.net/cod/cif/4/50/80/4508015.cif $
#------------------------------------------------------------------------------
#
# This file is available in the Crystallography Open Database (COD),
# http://www.crystallography.net/
#
# All data on this site have been placed in the public domain by the
# contributors.
#
data_4508015
loop_
_publ_author_name
'Bhattacharya, Suman'
'Saraswatula, Viswanadha G.'
'Saha, Binoy K.'
_publ_section_title
;
 Thermal Expansion in Alkane Diacids---Another Property Showing
 Alternation in an Odd--Even Series
;
_journal_issue                   8
_journal_name_full               'Crystal Growth & Design'
_journal_page_first              3651
_journal_paper_doi               10.1021/cg400668w
_journal_volume                  13
_journal_year                    2013
_chemical_formula_moiety         'C7 H12 O4'
_chemical_formula_sum            'C7 H12 O4'
_chemical_formula_weight         160.17
_chemical_name_common            C7-180-alpha-polymorph
_chemical_name_systematic        'Heptane-1,7-dioic acid'
_space_group_crystal_system      monoclinic
_space_group_IT_number           14
_space_group_name_Hall           '-P 2ybc'
_space_group_name_H-M_alt        'P 1 21/c 1'
_symmetry_space_group_name_Hall  '-P 2ybc'
_symmetry_space_group_name_H-M   'P 1 21/c 1'
_atom_sites_solution_hydrogens   geom
_atom_sites_solution_primary     direct
_atom_sites_solution_secondary   difmap
_audit_creation_date             2012-12-09
_audit_creation_method
;
  Olex2 1.2
  (compiled 2012.05.09 svn.r2324, GUI svn.r4230)
;
_cell_angle_alpha                90.00
_cell_angle_beta                 109.573(3)
_cell_angle_gamma                90.00
_cell_formula_units_Z            4
_cell_length_a                   5.5422(2)
_cell_length_b                   9.5516(5)
_cell_length_c                   16.0334(6)
_cell_measurement_reflns_used    1731
_cell_measurement_temperature    180(2)
_cell_measurement_theta_max      29.0133
_cell_measurement_theta_min      4.2424
_cell_volume                     799.71(6)
_computing_cell_refinement
;
CrysAlisPro, Agilent Technologies,
Version 1.171.36.21 (release 14-08-2012 CrysAlis171 .NET)
(compiled Sep 14 2012,17:21:16)
;
_computing_data_collection
;
CrysAlisPro, Agilent Technologies,
Version 1.171.36.21 (release 14-08-2012 CrysAlis171 .NET)
(compiled Sep 14 2012,17:21:16)
;
_computing_data_reduction
;
CrysAlisPro, Agilent Technologies,
Version 1.171.36.21 (release 14-08-2012 CrysAlis171 .NET)
(compiled Sep 14 2012,17:21:16)
;
_computing_molecular_graphics
;
O. V. Dolomanov, L. J. Bourhis, R. J. Gildea, J. A. K. Howard and H. Puschmann,
OLEX2: a complete structure solution, refinement and analysis program.
J. Appl. Cryst. (2009). 42, 339-341.
;
_computing_publication_material
;
O. V. Dolomanov, L. J. Bourhis, R. J. Gildea, J. A. K. Howard and H. Puschmann,
OLEX2: a complete structure solution, refinement and analysis program.
J. Appl. Cryst. (2009). 42, 339-341.
;
_computing_structure_refinement
;
SHELXL, G.M. Sheldrick, Acta Cryst.
(2008). A64, 112-122
;
_computing_structure_solution
;
SHELXS, G.M. Sheldrick, Acta Cryst.
(2008). A64, 112-122
;
_diffrn_ambient_temperature      180(2)
_diffrn_detector_area_resol_mean 15.9821
_diffrn_measured_fraction_theta_full 0.9879
_diffrn_measured_fraction_theta_max 0.8844
_diffrn_measurement_details
;
  1 omega  -87.00    2.00   1.0000    5.0000
omega____ theta____ kappa____ phi______ frames
    -      -17.5741  -37.0000   30.0000 89

  2 omega   -4.00   46.00   1.0000    5.0000
omega____ theta____ kappa____ phi______ frames
    -      -17.5741   57.0000 -120.0000 50

  3 omega  -78.00   20.00   1.0000    5.0000
omega____ theta____ kappa____ phi______ frames
    -      -17.5741  -19.0000  -90.0000 98

  4 omega  -91.00  -57.00   1.0000    5.0000
omega____ theta____ kappa____ phi______ frames
    -      -17.5741  -19.0000  120.0000 34
;
_diffrn_measurement_device_type  'Xcalibur, Eos'
_diffrn_measurement_method       'ω scans'
_diffrn_orient_matrix_UB_11      -0.0268714000
_diffrn_orient_matrix_UB_12      0.0101275000
_diffrn_orient_matrix_UB_13      0.0453666000
_diffrn_orient_matrix_UB_21      0.1145365000
_diffrn_orient_matrix_UB_22      0.0316003000
_diffrn_orient_matrix_UB_23      0.0067553000
_diffrn_orient_matrix_UB_31      -0.0503274000
_diffrn_orient_matrix_UB_32      0.0664353000
_diffrn_orient_matrix_UB_33      -0.0101072000
_diffrn_radiation_monochromator  graphite
_diffrn_radiation_type           'Mo K\a'
_diffrn_radiation_wavelength     0.7107
_diffrn_reflns_av_R_equivalents  0.0161
_diffrn_reflns_av_unetI/netI     0.0229
_diffrn_reflns_limit_h_max       7
_diffrn_reflns_limit_h_min       -7
_diffrn_reflns_limit_k_max       13
_diffrn_reflns_limit_k_min       -7
_diffrn_reflns_limit_l_max       15
_diffrn_reflns_limit_l_min       -21
_diffrn_reflns_number            4097
_diffrn_reflns_theta_full        25.00
_diffrn_reflns_theta_max         29.08
_diffrn_reflns_theta_min         4.25
_diffrn_source                   'Enhance (Mo) X-ray Source'
_exptl_absorpt_coefficient_mu    0.109
_exptl_absorpt_correction_T_max  0.985
_exptl_absorpt_correction_T_min  0.953
_exptl_absorpt_correction_type   multi-scan
_exptl_absorpt_process_details
;
CrysAlisPro, Agilent Technologies,
Version 1.171.36.21 (release 14-08-2012 CrysAlis171 .NET)
(compiled Sep 14 2012,17:21:16)
Empirical absorption correction using spherical harmonics,
 implemented in SCALE3 ABSPACK scaling algorithm.
;
_exptl_crystal_colour            colourless
_exptl_crystal_density_diffrn    1.330
_exptl_crystal_density_method    'not measured'
_exptl_crystal_description       plate
_exptl_crystal_F_000             344
_exptl_crystal_size_max          0.44
_exptl_crystal_size_mid          0.42
_exptl_crystal_size_min          0.14
_refine_diff_density_max         0.289
_refine_diff_density_min         -0.174
_refine_diff_density_rms         0.040
_refine_ls_extinction_method     none
_refine_ls_goodness_of_fit_ref   1.044
_refine_ls_hydrogen_treatment    mixed
_refine_ls_matrix_type           full
_refine_ls_number_parameters     108
_refine_ls_number_reflns         1825
_refine_ls_number_restraints     2
_refine_ls_restrained_S_all      1.044
_refine_ls_R_factor_all          0.0453
_refine_ls_R_factor_gt           0.0372
_refine_ls_shift/su_max          0.000
_refine_ls_shift/su_mean         0.000
_refine_ls_structure_factor_coef Fsqd
_refine_ls_weighting_details
'calc w=1/[σ²(Fo²)+(0.0436P)²+0.2559P] where P=(Fo²+2Fc²)/3'
_refine_ls_weighting_scheme      calc
_refine_ls_wR_factor_gt          0.0938
_refine_ls_wR_factor_ref         0.0996
_reflns_number_gt                1571
_reflns_number_total             2141
_reflns_threshold_expression     >2sigma(I)
_cod_data_source_file            cg400668w_si_002.cif
_cod_data_source_block           C7-180
_cod_database_code               4508015
loop_
_space_group_symop_id
_space_group_symop_operation_xyz
1 'x, y, z'
2 '-x, y+1/2, -z+1/2'
3 '-x, -y, -z'
4 'x, -y-1/2, z-1/2'
loop_
_atom_site_label
_atom_site_type_symbol
_atom_site_fract_x
_atom_site_fract_y
_atom_site_fract_z
_atom_site_U_iso_or_equiv
_atom_site_adp_type
_atom_site_occupancy
_atom_site_symmetry_multiplicity
_atom_site_calc_flag
_atom_site_refinement_flags
O3 O 0.75050(17) 0.59810(11) 0.50721(6) 0.0318(3) Uani 1 1 d .
O4 O 0.50930(18) 0.48308(11) 0.38789(6) 0.0349(3) Uani 1 1 d D
O2 O 1.3980(2) 0.67170(10) 0.02163(7) 0.0345(3) Uani 1 1 d D
O1 O 1.33959(19) 0.45840(10) 0.06727(6) 0.0328(3) Uani 1 1 d .
C1 C 1.3113(2) 0.58442(13) 0.06871(7) 0.0216(3) Uani 1 1 d .
C4 C 0.9730(2) 0.64663(13) 0.24090(8) 0.0232(3) Uani 1 1 d .
H4A H 0.8480 0.7147 0.2075 0.028 Uiso 1 1 calc R
H4B H 1.1170 0.6978 0.2807 0.028 Uiso 1 1 calc R
C2 C 1.1812(2) 0.65762(13) 0.12428(8) 0.0240(3) Uani 1 1 d .
H2A H 1.0463 0.7162 0.0860 0.029 Uiso 1 1 calc R
H2B H 1.3045 0.7188 0.1654 0.029 Uiso 1 1 calc R
C7 C 0.6887(2) 0.57159(13) 0.42742(8) 0.0215(3) Uani 1 1 d .
C3 C 1.0653(2) 0.56240(13) 0.17686(8) 0.0218(3) Uani 1 1 d .
H3A H 1.1924 0.4949 0.2097 0.026 Uiso 1 1 calc R
H3B H 0.9224 0.5113 0.1365 0.026 Uiso 1 1 calc R
C6 C 0.8141(3) 0.64436(14) 0.36999(8) 0.0284(3) Uani 1 1 d .
H6A H 0.9800 0.6782 0.4075 0.034 Uiso 1 1 calc R
H6B H 0.7117 0.7256 0.3439 0.034 Uiso 1 1 calc R
C5 C 0.8532(2) 0.55810(13) 0.29578(7) 0.0215(3) Uani 1 1 d .
H5A H 0.6896 0.5219 0.2580 0.026 Uiso 1 1 calc R
H5B H 0.9638 0.4791 0.3208 0.026 Uiso 1 1 calc R
H2 H 1.484(4) 0.628(2) -0.0065(12) 0.067(6) Uiso 1 1 d D
H4 H 0.439(4) 0.454(2) 0.4268(12) 0.079(7) Uiso 1 1 d D
loop_
_atom_site_aniso_label
_atom_site_aniso_U_11
_atom_site_aniso_U_22
_atom_site_aniso_U_33
_atom_site_aniso_U_23
_atom_site_aniso_U_13
_atom_site_aniso_U_12
O3 0.0352(5) 0.0434(6) 0.0226(4) -0.0069(4) 0.0175(4) -0.0101(4)
O4 0.0370(5) 0.0488(6) 0.0229(5) -0.0032(4) 0.0152(4) -0.0177(4)
O2 0.0518(6) 0.0252(5) 0.0437(6) 0.0043(4) 0.0388(5) 0.0028(4)
O1 0.0497(6) 0.0233(5) 0.0403(5) 0.0021(4) 0.0347(5) 0.0019(4)
C1 0.0238(6) 0.0247(6) 0.0200(5) 0.0017(5) 0.0121(4) -0.0002(5)
C4 0.0284(6) 0.0233(6) 0.0242(6) 0.0010(5) 0.0171(5) 0.0005(5)
C2 0.0301(6) 0.0236(6) 0.0249(6) 0.0019(5) 0.0180(5) 0.0034(5)
C7 0.0250(6) 0.0216(6) 0.0225(6) -0.0008(5) 0.0140(4) 0.0023(5)
C3 0.0250(6) 0.0241(6) 0.0211(5) 0.0000(5) 0.0142(4) 0.0003(5)
C6 0.0404(7) 0.0255(7) 0.0291(6) -0.0032(5) 0.0247(6) -0.0055(5)
C5 0.0253(6) 0.0225(6) 0.0214(5) -0.0006(4) 0.0142(4) -0.0009(5)
loop_
_atom_type_symbol
_atom_type_description
_atom_type_scat_dispersion_real
_atom_type_scat_dispersion_imag
_atom_type_scat_source
C C 0.0033 0.0016 'International Tables Vol C Tables 4.2.6.8 and 6.1.1.4'
H H 0.0000 0.0000 'International Tables Vol C Tables 4.2.6.8 and 6.1.1.4'
O O 0.0106 0.0060 'International Tables Vol C Tables 4.2.6.8 and 6.1.1.4'
loop_
_geom_angle_atom_site_label_1
_geom_angle_atom_site_label_2
_geom_angle_atom_site_label_3
_geom_angle
C7 O4 H4 107.8(14)
C1 O2 H2 111.3(14)
O2 C1 C2 112.74(11)
O1 C1 O2 122.80(10)
O1 C1 C2 124.45(10)
H4A C4 H4B 107.7
C3 C4 H4A 108.8
C3 C4 H4B 108.8
C3 C4 C5 113.97(10)
C5 C4 H4A 108.8
C5 C4 H4B 108.8
C1 C2 H2A 108.4
C1 C2 H2B 108.4
C1 C2 C3 115.37(10)
H2A C2 H2B 107.5
C3 C2 H2A 108.4
C3 C2 H2B 108.4
O3 C7 O4 122.76(11)
O3 C7 C6 121.13(11)
O4 C7 C6 116.08(10)
C4 C3 H3A 109.4
C4 C3 H3B 109.4
C2 C3 C4 110.96(10)
C2 C3 H3A 109.4
C2 C3 H3B 109.4
H3A C3 H3B 108.0
C7 C6 H6A 108.2
C7 C6 H6B 108.2
C7 C6 C5 116.53(10)
H6A C6 H6B 107.3
C5 C6 H6A 108.2
C5 C6 H6B 108.2
C4 C5 H5A 109.5
C4 C5 H5B 109.5
C6 C5 C4 110.79(10)
C6 C5 H5A 109.5
C6 C5 H5B 109.5
H5A C5 H5B 108.1
loop_
_geom_bond_atom_site_label_1
_geom_bond_atom_site_label_2
_geom_bond_distance
O3 C7 1.2347(14)
O4 C7 1.2971(15)
O4 H4 0.881(15)
O2 C1 1.3184(14)
O2 H2 0.864(15)
O1 C1 1.2150(15)
C1 C2 1.4945(16)
C4 H4A 0.9700
C4 H4B 0.9700
C4 C3 1.5213(15)
C4 C5 1.5237(15)
C2 H2A 0.9700
C2 H2B 0.9700
C2 C3 1.5211(16)
C7 C6 1.4978(16)
C3 H3A 0.9700
C3 H3B 0.9700
C6 H6A 0.9700
C6 H6B 0.9700
C6 C5 1.5212(16)
C5 H5A 0.9700
C5 H5B 0.9700
