#------------------------------------------------------------------------------
#$Date: 2016-03-24 03:10:02 +0200 (Thu, 24 Mar 2016) $
#$Revision: 179616 $
#$URL: svn://www.crystallography.net/cod/cif/4/50/80/4508019.cif $
#------------------------------------------------------------------------------
#
# This file is available in the Crystallography Open Database (COD),
# http://www.crystallography.net/
#
# All data on this site have been placed in the public domain by the
# contributors.
#
data_4508019
loop_
_publ_author_name
'Bhattacharya, Suman'
'Saraswatula, Viswanadha G.'
'Saha, Binoy K.'
_publ_section_title
;
 Thermal Expansion in Alkane Diacids---Another Property Showing
 Alternation in an Odd--Even Series
;
_journal_issue                   8
_journal_name_full               'Crystal Growth & Design'
_journal_page_first              3651
_journal_paper_doi               10.1021/cg400668w
_journal_volume                  13
_journal_year                    2013
_chemical_formula_moiety         'C7 H12 O4'
_chemical_formula_sum            'C7 H12 O4'
_chemical_formula_weight         160.17
_chemical_name_common            C7-180-alpha-polymorph
_chemical_name_systematic        'Heptane-1,7-dioic acid'
_space_group_crystal_system      monoclinic
_space_group_IT_number           14
_space_group_name_Hall           '-P 2ybc'
_space_group_name_H-M_alt        'P 1 21/c 1'
_symmetry_space_group_name_Hall  '-P 2ybc'
_symmetry_space_group_name_H-M   'P 1 21/c 1'
_atom_sites_solution_hydrogens   geom
_atom_sites_solution_primary     direct
_atom_sites_solution_secondary   difmap
_audit_creation_date             2012-12-09
_audit_creation_method
;
  Olex2 1.2
  (compiled 2012.05.09 svn.r2324, GUI svn.r4230)
;
_cell_angle_alpha                90.00
_cell_angle_beta                 108.479(6)
_cell_angle_gamma                90.00
_cell_formula_units_Z            4
_cell_length_a                   5.6139(4)
_cell_length_b                   9.6291(6)
_cell_length_c                   16.0097(13)
_cell_measurement_reflns_used    1294
_cell_measurement_temperature    276(2)
_cell_measurement_theta_max      28.9381
_cell_measurement_theta_min      3.8142
_cell_volume                     820.81(11)
_computing_cell_refinement
;
CrysAlisPro, Agilent Technologies,
Version 1.171.36.21 (release 14-08-2012 CrysAlis171 .NET)
(compiled Sep 14 2012,17:21:16)
;
_computing_data_collection
;
CrysAlisPro, Agilent Technologies,
Version 1.171.36.21 (release 14-08-2012 CrysAlis171 .NET)
(compiled Sep 14 2012,17:21:16)
;
_computing_data_reduction
;
CrysAlisPro, Agilent Technologies,
Version 1.171.36.21 (release 14-08-2012 CrysAlis171 .NET)
(compiled Sep 14 2012,17:21:16)
;
_computing_molecular_graphics
;
O. V. Dolomanov, L. J. Bourhis, R. J. Gildea, J. A. K. Howard and H. Puschmann,
OLEX2: a complete structure solution, refinement and analysis program.
J. Appl. Cryst. (2009). 42, 339-341.
;
_computing_publication_material
;
O. V. Dolomanov, L. J. Bourhis, R. J. Gildea, J. A. K. Howard and H. Puschmann,
OLEX2: a complete structure solution, refinement and analysis program.
J. Appl. Cryst. (2009). 42, 339-341.
;
_computing_structure_refinement
;
SHELXL, G.M. Sheldrick, Acta Cryst.
(2008). A64, 112-122
;
_computing_structure_solution
;
SHELXS, G.M. Sheldrick, Acta Cryst.
(2008). A64, 112-122
;
_diffrn_ambient_temperature      276(2)
_diffrn_detector_area_resol_mean 15.9821
_diffrn_measured_fraction_theta_full 0.9882
_diffrn_measured_fraction_theta_max 0.8814
_diffrn_measurement_details
;
  1 omega  -81.00  -41.00   1.0000    5.0000
omega____ theta____ kappa____ phi______ frames
    -      -17.6522 -178.0000 -180.0000 40

  2 omega  -94.00  -48.00   1.0000    5.0000
omega____ theta____ kappa____ phi______ frames
    -      -17.6522  178.0000   90.0000 46

  3 omega  -83.00    2.00   1.0000    5.0000
omega____ theta____ kappa____ phi______ frames
    -      -17.6522  -57.0000   60.0000 85

  4 omega   38.00   89.00   1.0000    5.0000
omega____ theta____ kappa____ phi______ frames
    -       19.2928   77.0000  150.0000 51

  5 omega  -94.00  -46.00   1.0000    5.0000
omega____ theta____ kappa____ phi______ frames
    -      -17.6522 -178.0000  -30.0000 48
;
_diffrn_measurement_device_type  'Xcalibur, Eos'
_diffrn_measurement_method       'ω scans'
_diffrn_orient_matrix_UB_11      -0.0245395000
_diffrn_orient_matrix_UB_12      0.0100181000
_diffrn_orient_matrix_UB_13      0.0450132000
_diffrn_orient_matrix_UB_21      0.1137315000
_diffrn_orient_matrix_UB_22      0.0308224000
_diffrn_orient_matrix_UB_23      0.0072230000
_diffrn_orient_matrix_UB_31      -0.0491254000
_diffrn_orient_matrix_UB_32      0.0660923000
_diffrn_orient_matrix_UB_33      -0.0101403000
_diffrn_radiation_monochromator  graphite
_diffrn_radiation_type           'Mo K\a'
_diffrn_radiation_wavelength     0.7107
_diffrn_reflns_av_R_equivalents  0.0175
_diffrn_reflns_av_unetI/netI     0.0268
_diffrn_reflns_limit_h_max       7
_diffrn_reflns_limit_h_min       -6
_diffrn_reflns_limit_k_max       13
_diffrn_reflns_limit_k_min       -12
_diffrn_reflns_limit_l_max       20
_diffrn_reflns_limit_l_min       -21
_diffrn_reflns_number            4174
_diffrn_reflns_theta_full        25.00
_diffrn_reflns_theta_max         29.04
_diffrn_reflns_theta_min         3.83
_diffrn_source                   'Enhance (Mo) X-ray Source'
_exptl_absorpt_coefficient_mu    0.106
_exptl_absorpt_correction_T_max  0.985
_exptl_absorpt_correction_T_min  0.954
_exptl_absorpt_correction_type   multi-scan
_exptl_absorpt_process_details
;
CrysAlisPro, Agilent Technologies,
Version 1.171.36.21 (release 14-08-2012 CrysAlis171 .NET)
(compiled Sep 14 2012,17:21:16)
Empirical absorption correction using spherical harmonics,
 implemented in SCALE3 ABSPACK scaling algorithm.
;
_exptl_crystal_colour            colourless
_exptl_crystal_colour_primary    colourless
_exptl_crystal_density_diffrn    1.296
_exptl_crystal_density_method    'not measured'
_exptl_crystal_description       plate
_exptl_crystal_F_000             344
_exptl_crystal_size_max          0.44
_exptl_crystal_size_mid          0.42
_exptl_crystal_size_min          0.14
_refine_diff_density_max         0.268
_refine_diff_density_min         -0.200
_refine_diff_density_rms         0.038
_refine_ls_extinction_method     none
_refine_ls_goodness_of_fit_ref   1.033
_refine_ls_hydrogen_treatment    mixed
_refine_ls_matrix_type           full
_refine_ls_number_parameters     108
_refine_ls_number_reflns         1868
_refine_ls_number_restraints     2
_refine_ls_restrained_S_all      1.033
_refine_ls_R_factor_all          0.0682
_refine_ls_R_factor_gt           0.0474
_refine_ls_shift/su_max          0.000
_refine_ls_shift/su_mean         0.000
_refine_ls_structure_factor_coef Fsqd
_refine_ls_weighting_details
'calc w=1/[σ²(Fo²)+(0.0682P)²+0.1733P] where P=(Fo²+2Fc²)/3'
_refine_ls_weighting_scheme      calc
_refine_ls_wR_factor_gt          0.1251
_refine_ls_wR_factor_ref         0.1400
_reflns_number_gt                1379
_reflns_number_total             2198
_reflns_threshold_expression     >2sigma(I)
_cod_data_source_file            cg400668w_si_002.cif
_cod_data_source_block           C7-276
_cod_database_code               4508019
loop_
_space_group_symop_id
_space_group_symop_operation_xyz
1 'x, y, z'
2 '-x, y+1/2, -z+1/2'
3 '-x, -y, -z'
4 'x, -y-1/2, z-1/2'
loop_
_atom_site_label
_atom_site_type_symbol
_atom_site_fract_x
_atom_site_fract_y
_atom_site_fract_z
_atom_site_U_iso_or_equiv
_atom_site_adp_type
_atom_site_occupancy
_atom_site_symmetry_multiplicity
_atom_site_calc_flag
_atom_site_refinement_flags
O3 O 0.7481(2) 0.60136(15) 0.50694(8) 0.0545(4) Uani 1 1 d .
O4 O 0.5122(3) 0.48828(16) 0.39022(9) 0.0600(4) Uani 1 1 d D
O2 O 1.3890(3) 0.66910(14) 0.01828(9) 0.0615(4) Uani 1 1 d D
O1 O 1.3490(3) 0.46158(13) 0.07052(9) 0.0580(4) Uani 1 1 d .
C1 C 1.3127(3) 0.58543(17) 0.06878(10) 0.0360(4) Uani 1 1 d .
C4 C 0.9750(3) 0.64965(17) 0.24145(10) 0.0394(4) Uani 1 1 d .
H4A H 0.8516 0.7160 0.2079 0.047 Uiso 1 1 calc R
H4B H 1.1140 0.7018 0.2804 0.047 Uiso 1 1 calc R
C2 C 1.1829(3) 0.65898(17) 0.12424(11) 0.0410(4) Uani 1 1 d .
H2A H 1.0498 0.7158 0.0861 0.049 Uiso 1 1 calc R
H2B H 1.3023 0.7210 0.1640 0.049 Uiso 1 1 calc R
C7 C 0.6851(3) 0.57421(17) 0.42700(10) 0.0365(4) Uani 1 1 d .
C3 C 1.0704(3) 0.56595(16) 0.17827(10) 0.0370(4) Uani 1 1 d .
H3A H 1.1966 0.5006 0.2114 0.044 Uiso 1 1 calc R
H3B H 0.9326 0.5133 0.1391 0.044 Uiso 1 1 calc R
C6 C 0.8119(4) 0.64713(18) 0.37021(11) 0.0471(5) Uani 1 1 d .
H6A H 0.9727 0.6814 0.4077 0.057 Uiso 1 1 calc R
H6B H 0.7111 0.7272 0.3440 0.057 Uiso 1 1 calc R
C5 C 0.8568(3) 0.56216(16) 0.29708(10) 0.0358(4) Uani 1 1 d .
H5A H 0.6984 0.5246 0.2599 0.043 Uiso 1 1 calc R
H5B H 0.9668 0.4849 0.3224 0.043 Uiso 1 1 calc R
H2 H 1.472(4) 0.627(3) -0.0105(15) 0.091(8) Uiso 1 1 d D
H4 H 0.435(6) 0.457(4) 0.427(2) 0.145(14) Uiso 1 1 d D
loop_
_atom_site_aniso_label
_atom_site_aniso_U_11
_atom_site_aniso_U_22
_atom_site_aniso_U_33
_atom_site_aniso_U_23
_atom_site_aniso_U_13
_atom_site_aniso_U_12
O3 0.0584(8) 0.0759(10) 0.0394(7) -0.0115(6) 0.0301(6) -0.0192(7)
O4 0.0622(9) 0.0835(10) 0.0420(8) -0.0068(7) 0.0277(7) -0.0299(7)
O2 0.0940(11) 0.0434(7) 0.0783(10) 0.0110(6) 0.0716(9) 0.0087(7)
O1 0.0895(10) 0.0389(7) 0.0728(9) 0.0052(6) 0.0644(8) 0.0054(6)
C1 0.0423(8) 0.0380(8) 0.0364(8) 0.0025(7) 0.0248(7) -0.0004(7)
C4 0.0495(9) 0.0378(8) 0.0428(9) 0.0015(7) 0.0314(8) 0.0020(7)
C2 0.0524(9) 0.0385(9) 0.0446(9) 0.0047(7) 0.0330(8) 0.0071(7)
C7 0.0420(8) 0.0379(8) 0.0381(9) -0.0029(7) 0.0247(7) 0.0012(7)
C3 0.0428(9) 0.0387(8) 0.0385(8) -0.0008(6) 0.0257(7) 0.0003(7)
C6 0.0664(11) 0.0426(9) 0.0492(10) -0.0051(8) 0.0423(9) -0.0077(8)
C5 0.0423(8) 0.0363(8) 0.0378(8) -0.0014(6) 0.0252(7) -0.0013(6)
loop_
_atom_type_symbol
_atom_type_description
_atom_type_scat_dispersion_real
_atom_type_scat_dispersion_imag
_atom_type_scat_source
C C 0.0033 0.0016 'International Tables Vol C Tables 4.2.6.8 and 6.1.1.4'
H H 0.0000 0.0000 'International Tables Vol C Tables 4.2.6.8 and 6.1.1.4'
O O 0.0106 0.0060 'International Tables Vol C Tables 4.2.6.8 and 6.1.1.4'
loop_
_geom_angle_atom_site_label_1
_geom_angle_atom_site_label_2
_geom_angle_atom_site_label_3
_geom_angle
C7 O4 H4 112(2)
C1 O2 H2 112.3(18)
O2 C1 C2 113.15(14)
O1 C1 O2 122.48(14)
O1 C1 C2 124.36(13)
H4A C4 H4B 107.6
C3 C4 H4A 108.7
C3 C4 H4B 108.7
C3 C4 C5 114.03(13)
C5 C4 H4A 108.7
C5 C4 H4B 108.7
C1 C2 H2A 108.4
C1 C2 H2B 108.4
C1 C2 C3 115.42(13)
H2A C2 H2B 107.5
C3 C2 H2A 108.4
C3 C2 H2B 108.4
O3 C7 O4 122.76(14)
O3 C7 C6 119.50(15)
O4 C7 C6 117.73(14)
C4 C3 H3A 109.3
C4 C3 H3B 109.3
C2 C3 C4 111.44(13)
C2 C3 H3A 109.3
C2 C3 H3B 109.3
H3A C3 H3B 108.0
C7 C6 H6A 108.2
C7 C6 H6B 108.2
C7 C6 C5 116.40(14)
H6A C6 H6B 107.3
C5 C6 H6A 108.2
C5 C6 H6B 108.2
C4 C5 H5A 109.4
C4 C5 H5B 109.4
C6 C5 C4 111.33(13)
C6 C5 H5A 109.4
C6 C5 H5B 109.4
H5A C5 H5B 108.0
loop_
_geom_bond_atom_site_label_1
_geom_bond_atom_site_label_2
_geom_bond_distance
O3 C7 1.2428(19)
O4 C7 1.269(2)
O4 H4 0.885(18)
O2 C1 1.3060(19)
O2 H2 0.856(17)
O1 C1 1.209(2)
C1 C2 1.494(2)
C4 H4A 0.9700
C4 H4B 0.9700
C4 C3 1.5173(19)
C4 C5 1.5225(19)
C2 H2A 0.9700
C2 H2B 0.9700
C2 C3 1.515(2)
C7 C6 1.496(2)
C3 H3A 0.9700
C3 H3B 0.9700
C6 H6A 0.9700
C6 H6B 0.9700
C6 C5 1.514(2)
C5 H5A 0.9700
C5 H5B 0.9700
