#------------------------------------------------------------------------------
#$Date: 2016-03-24 03:10:02 +0200 (Thu, 24 Mar 2016) $
#$Revision: 179616 $
#$URL: svn://www.crystallography.net/cod/cif/4/50/80/4508028.cif $
#------------------------------------------------------------------------------
#
# This file is available in the Crystallography Open Database (COD),
# http://www.crystallography.net/
#
# All data on this site have been placed in the public domain by the
# contributors.
#
data_4508028
loop_
_publ_author_name
'Bhattacharya, Suman'
'Saraswatula, Viswanadha G.'
'Saha, Binoy K.'
_publ_section_title
;
 Thermal Expansion in Alkane Diacids---Another Property Showing
 Alternation in an Odd--Even Series
;
_journal_issue                   8
_journal_name_full               'Crystal Growth & Design'
_journal_page_first              3651
_journal_paper_doi               10.1021/cg400668w
_journal_volume                  13
_journal_year                    2013
_chemical_formula_moiety         'C9 H16 O4'
_chemical_formula_sum            'C9 H16 O4'
_chemical_formula_weight         188.22
_chemical_name_common            C9-140-alpha-polymorph
_chemical_name_systematic        'Heptane-1,7-dicarboxylic acid'
_space_group_crystal_system      monoclinic
_space_group_IT_number           14
_space_group_name_Hall           '-P 2ybc'
_space_group_name_H-M_alt        'P 1 21/c 1'
_symmetry_space_group_name_Hall  '-P 2ybc'
_symmetry_space_group_name_H-M   'P 1 21/c 1'
_atom_sites_solution_hydrogens   geom
_atom_sites_solution_primary     direct
_atom_sites_solution_secondary   difmap
_audit_creation_date             2012-12-05
_audit_creation_method
;
  Olex2 1.2
  (compiled 2012.05.09 svn.r2324, GUI svn.r4230)
;
_cell_angle_alpha                90.00
_cell_angle_beta                 96.204(6)
_cell_angle_gamma                90.00
_cell_formula_units_Z            4
_cell_length_a                   5.5209(3)
_cell_length_b                   9.4673(7)
_cell_length_c                   18.9027(12)
_cell_measurement_reflns_used    1881
_cell_measurement_temperature    140(2)
_cell_measurement_theta_max      29.0265
_cell_measurement_theta_min      4.3219
_cell_volume                     982.22(11)
_computing_cell_refinement
;
CrysAlisPro, Agilent Technologies,
Version 1.171.36.21 (release 14-08-2012 CrysAlis171 .NET)
(compiled Sep 14 2012,17:21:16)
;
_computing_data_collection
;
CrysAlisPro, Agilent Technologies,
Version 1.171.36.21 (release 14-08-2012 CrysAlis171 .NET)
(compiled Sep 14 2012,17:21:16)
;
_computing_data_reduction
;
CrysAlisPro, Agilent Technologies,
Version 1.171.36.21 (release 14-08-2012 CrysAlis171 .NET)
(compiled Sep 14 2012,17:21:16)
;
_computing_molecular_graphics
;
O. V. Dolomanov, L. J. Bourhis, R. J. Gildea, J. A. K. Howard and H. Puschmann,
OLEX2: a complete structure solution, refinement and analysis program.
J. Appl. Cryst. (2009). 42, 339-341.
;
_computing_publication_material
;
O. V. Dolomanov, L. J. Bourhis, R. J. Gildea, J. A. K. Howard and H. Puschmann,
OLEX2: a complete structure solution, refinement and analysis program.
J. Appl. Cryst. (2009). 42, 339-341.
;
_computing_structure_refinement
;
SHELXL, G.M. Sheldrick, Acta Cryst.
(2008). A64, 112-122
;
_computing_structure_solution
;
SHELXS, G.M. Sheldrick, Acta Cryst.
(2008). A64, 112-122
;
_diffrn_ambient_temperature      140(2)
_diffrn_detector_area_resol_mean 15.9821
_diffrn_measured_fraction_theta_full 0.9869
_diffrn_measured_fraction_theta_max 0.8920
_diffrn_measurement_details
;
  1 omega  -86.00  -24.00   1.0000    5.0000
omega____ theta____ kappa____ phi______ frames
    -      -17.4960  -77.0000   60.0000 62

  2 omega  -73.00   11.00   1.0000    5.0000
omega____ theta____ kappa____ phi______ frames
    -      -17.4960  -77.0000 -120.0000 84

  3 omega    7.00   83.00   1.0000    5.0000
omega____ theta____ kappa____ phi______ frames
    -       19.2928   57.0000    0.0000 76

  4 omega  -48.00   -1.00   1.0000    5.0000
omega____ theta____ kappa____ phi______ frames
    -      -17.4960   77.0000    0.0000 47
;
_diffrn_measurement_device_type  'Xcalibur, Eos'
_diffrn_measurement_method       'ω scans'
_diffrn_orient_matrix_UB_11      0.0591309000
_diffrn_orient_matrix_UB_12      0.0152822000
_diffrn_orient_matrix_UB_13      0.0343709000
_diffrn_orient_matrix_UB_21      -0.1149501000
_diffrn_orient_matrix_UB_22      0.0112377000
_diffrn_orient_matrix_UB_23      0.0126616000
_diffrn_orient_matrix_UB_31      -0.0052955000
_diffrn_orient_matrix_UB_32      -0.0724747000
_diffrn_orient_matrix_UB_33      0.0092504000
_diffrn_radiation_monochromator  graphite
_diffrn_radiation_type           'Mo K\a'
_diffrn_radiation_wavelength     0.7107
_diffrn_reflns_av_R_equivalents  0.0263
_diffrn_reflns_av_unetI/netI     0.0379
_diffrn_reflns_limit_h_max       7
_diffrn_reflns_limit_h_min       -7
_diffrn_reflns_limit_k_max       12
_diffrn_reflns_limit_k_min       -11
_diffrn_reflns_limit_l_max       22
_diffrn_reflns_limit_l_min       -24
_diffrn_reflns_number            4974
_diffrn_reflns_theta_full        25.00
_diffrn_reflns_theta_max         29.07
_diffrn_reflns_theta_min         4.33
_diffrn_source                   'Enhance (Mo) X-ray Source'
_exptl_absorpt_coefficient_mu    0.099
_exptl_absorpt_correction_T_max  1.00000
_exptl_absorpt_correction_T_min  0.88712
_exptl_absorpt_correction_type   multi-scan
_exptl_absorpt_process_details
;
CrysAlisPro, Agilent Technologies,
Version 1.171.36.21 (release 14-08-2012 CrysAlis171 .NET)
(compiled Sep 14 2012,17:21:16)
Empirical absorption correction using spherical harmonics,
 implemented in SCALE3 ABSPACK scaling algorithm.
;
_exptl_crystal_colour            colourless
_exptl_crystal_density_diffrn    1.273
_exptl_crystal_density_method    'not measured'
_exptl_crystal_description       block
_exptl_crystal_F_000             408
_exptl_crystal_size_max          0.42
_exptl_crystal_size_mid          0.38
_exptl_crystal_size_min          0.18
_refine_diff_density_max         0.293
_refine_diff_density_min         -0.263
_refine_diff_density_rms         0.066
_refine_ls_extinction_method     none
_refine_ls_goodness_of_fit_ref   1.203
_refine_ls_hydrogen_treatment    mixed
_refine_ls_matrix_type           full
_refine_ls_number_parameters     126
_refine_ls_number_reflns         2241
_refine_ls_number_restraints     0
_refine_ls_restrained_S_all      1.203
_refine_ls_R_factor_all          0.0865
_refine_ls_R_factor_gt           0.0705
_refine_ls_shift/su_max          0.000
_refine_ls_shift/su_mean         0.000
_refine_ls_structure_factor_coef Fsqd
_refine_ls_weighting_details
'calc w=1/[σ²(Fo²)+(0.0379P)²+2.4498P] where P=(Fo²+2Fc²)/3'
_refine_ls_weighting_scheme      calc
_refine_ls_wR_factor_gt          0.1877
_refine_ls_wR_factor_ref         0.1943
_reflns_number_gt                1782
_reflns_number_total             2241
_reflns_threshold_expression     >2sigma(I)
_cod_data_source_file            cg400668w_si_002.cif
_cod_data_source_block           C9-140
_cod_database_code               4508028
loop_
_space_group_symop_id
_space_group_symop_operation_xyz
1 'x, y, z'
2 '-x, y+1/2, -z+1/2'
3 '-x, -y, -z'
4 'x, -y-1/2, z-1/2'
loop_
_atom_site_label
_atom_site_type_symbol
_atom_site_fract_x
_atom_site_fract_y
_atom_site_fract_z
_atom_site_U_iso_or_equiv
_atom_site_adp_type
_atom_site_occupancy
_atom_site_symmetry_multiplicity
_atom_site_calc_flag
_atom_site_refinement_flags
O1 O -0.7526(4) 0.5434(2) 0.05378(12) 0.0287(6) Uani 1 1 d .
O4 O 0.8511(4) 0.5169(3) 0.40888(12) 0.0301(6) Uani 1 1 d .
O2 O -0.8695(4) 0.3270(3) 0.01795(13) 0.0296(6) Uani 1 1 d .
C3 C -0.3399(5) 0.4399(3) 0.14279(15) 0.0199(6) Uani 1 1 d .
H3A H -0.4284 0.5032 0.1711 0.024 Uiso 1 1 calc R
H3B H -0.2546 0.4966 0.1107 0.024 Uiso 1 1 calc R
O3 O 0.7568(4) 0.4032(3) 0.50516(11) 0.0272(6) Uani 1 1 d .
C5 C 0.0326(5) 0.4457(3) 0.23616(15) 0.0212(6) Uani 1 1 d .
H5A H 0.1318 0.4948 0.2047 0.025 Uiso 1 1 calc R
H5B H -0.0511 0.5162 0.2617 0.025 Uiso 1 1 calc R
C6 C 0.1974(5) 0.3586(3) 0.28930(16) 0.0216(6) Uani 1 1 d .
H6A H 0.2795 0.2876 0.2636 0.026 Uiso 1 1 calc R
H6B H 0.0974 0.3097 0.3206 0.026 Uiso 1 1 calc R
C7 C 0.3888(5) 0.4458(3) 0.33443(15) 0.0190(6) Uani 1 1 d .
H7A H 0.5076 0.4813 0.3046 0.023 Uiso 1 1 calc R
H7B H 0.3111 0.5262 0.3544 0.023 Uiso 1 1 calc R
C4 C -0.1554(5) 0.3554(3) 0.19178(16) 0.0206(6) Uani 1 1 d .
H4A H -0.2427 0.2991 0.2236 0.025 Uiso 1 1 calc R
H4B H -0.0708 0.2909 0.1631 0.025 Uiso 1 1 calc R
C1 C -0.7221(5) 0.4158(3) 0.05514(15) 0.0194(6) Uani 1 1 d .
C2 C -0.5189(5) 0.3428(3) 0.09978(15) 0.0196(6) Uani 1 1 d .
H2A H -0.4296 0.2856 0.0688 0.024 Uiso 1 1 calc R
H2B H -0.5891 0.2793 0.1323 0.024 Uiso 1 1 calc R
C9 C 0.7180(5) 0.4292(3) 0.44124(15) 0.0192(6) Uani 1 1 d .
C8 C 0.5178(6) 0.3570(3) 0.39452(16) 0.0246(7) Uani 1 1 d .
H8A H 0.3967 0.3243 0.4243 0.029 Uiso 1 1 calc R
H8B H 0.5858 0.2743 0.3737 0.029 Uiso 1 1 calc R
H2 H -0.973(8) 0.369(4) 0.000(2) 0.033(11) Uiso 1 1 d .
H4 H 0.986(9) 0.543(5) 0.440(3) 0.066(15) Uiso 1 1 d .
loop_
_atom_site_aniso_label
_atom_site_aniso_U_11
_atom_site_aniso_U_22
_atom_site_aniso_U_33
_atom_site_aniso_U_23
_atom_site_aniso_U_13
_atom_site_aniso_U_12
O1 0.0257(11) 0.0215(12) 0.0348(13) -0.0012(9) -0.0150(9) 0.0000(9)
O4 0.0273(12) 0.0419(15) 0.0191(11) 0.0034(10) -0.0064(9) -0.0143(11)
O2 0.0262(12) 0.0228(12) 0.0349(13) -0.0025(10) -0.0187(10) 0.0003(10)
C3 0.0182(13) 0.0199(15) 0.0199(14) 0.0006(11) -0.0066(11) 0.0008(11)
O3 0.0246(11) 0.0362(13) 0.0186(11) 0.0066(9) -0.0078(8) -0.0065(10)
C5 0.0177(13) 0.0242(16) 0.0201(14) -0.0011(12) -0.0047(11) 0.0007(12)
C6 0.0203(14) 0.0215(15) 0.0211(14) -0.0017(12) -0.0058(11) 0.0003(12)
C7 0.0180(13) 0.0204(15) 0.0174(13) 0.0024(11) -0.0039(10) -0.0018(11)
C4 0.0166(13) 0.0235(15) 0.0199(14) -0.0003(12) -0.0066(10) 0.0013(12)
C1 0.0170(13) 0.0238(16) 0.0160(13) 0.0003(11) -0.0038(10) -0.0029(12)
C2 0.0165(13) 0.0200(15) 0.0208(14) -0.0007(11) -0.0048(11) 0.0008(11)
C9 0.0173(13) 0.0193(15) 0.0201(14) -0.0001(11) -0.0027(11) 0.0023(11)
C8 0.0237(15) 0.0220(16) 0.0251(15) 0.0018(12) -0.0104(12) -0.0044(13)
loop_
_atom_type_symbol
_atom_type_description
_atom_type_scat_dispersion_real
_atom_type_scat_dispersion_imag
_atom_type_scat_source
C C 0.0033 0.0016 'International Tables Vol C Tables 4.2.6.8 and 6.1.1.4'
H H 0.0000 0.0000 'International Tables Vol C Tables 4.2.6.8 and 6.1.1.4'
O O 0.0106 0.0060 'International Tables Vol C Tables 4.2.6.8 and 6.1.1.4'
loop_
_geom_angle_atom_site_label_1
_geom_angle_atom_site_label_2
_geom_angle_atom_site_label_3
_geom_angle
C9 O4 H4 109(3)
C1 O2 H2 107(3)
H3A C3 H3B 108.0
C4 C3 H3A 109.4
C4 C3 H3B 109.4
C2 C3 H3A 109.4
C2 C3 H3B 109.4
C2 C3 C4 111.1(2)
H5A C5 H5B 107.8
C6 C5 H5A 109.1
C6 C5 H5B 109.1
C6 C5 C4 112.5(3)
C4 C5 H5A 109.1
C4 C5 H5B 109.1
C5 C6 H6A 108.8
C5 C6 H6B 108.8
C5 C6 C7 113.8(3)
H6A C6 H6B 107.7
C7 C6 H6A 108.8
C7 C6 H6B 108.8
C6 C7 H7A 109.5
C6 C7 H7B 109.5
H7A C7 H7B 108.0
C8 C7 C6 110.9(2)
C8 C7 H7A 109.5
C8 C7 H7B 109.5
C3 C4 H4A 108.7
C3 C4 H4B 108.7
C5 C4 C3 114.2(2)
C5 C4 H4A 108.7
C5 C4 H4B 108.7
H4A C4 H4B 107.6
O1 C1 O2 123.0(3)
O1 C1 C2 124.2(3)
O2 C1 C2 112.8(3)
C3 C2 H2A 108.5
C3 C2 H2B 108.5
C1 C2 C3 115.2(2)
C1 C2 H2A 108.5
C1 C2 H2B 108.5
H2A C2 H2B 107.5
O4 C9 C8 115.5(3)
O3 C9 O4 122.8(3)
O3 C9 C8 121.7(3)
C7 C8 H8A 108.2
C7 C8 H8B 108.2
C9 C8 C7 116.2(3)
C9 C8 H8A 108.2
C9 C8 H8B 108.2
H8A C8 H8B 107.4
loop_
_geom_bond_atom_site_label_1
_geom_bond_atom_site_label_2
_geom_bond_distance
O1 C1 1.219(4)
O4 C9 1.304(4)
O4 H4 0.93(5)
O2 C1 1.319(3)
O2 H2 0.74(4)
C3 H3A 0.9700
C3 H3B 0.9700
C3 C4 1.527(4)
C3 C2 1.519(4)
O3 C9 1.229(3)
C5 H5A 0.9700
C5 H5B 0.9700
C5 C6 1.523(4)
C5 C4 1.524(4)
C6 H6A 0.9700
C6 H6B 0.9700
C6 C7 1.527(4)
C7 H7A 0.9700
C7 H7B 0.9700
C7 C8 1.526(4)
C4 H4A 0.9700
C4 H4B 0.9700
C1 C2 1.498(4)
C2 H2A 0.9700
C2 H2B 0.9700
C9 C8 1.503(4)
C8 H8A 0.9700
C8 H8B 0.9700
loop_
_geom_torsion_atom_site_label_1
_geom_torsion_atom_site_label_2
_geom_torsion_atom_site_label_3
_geom_torsion_atom_site_label_4
_geom_torsion
O1 C1 C2 C3 -2.4(5)
O4 C9 C8 C7 -36.9(4)
O2 C1 C2 C3 178.9(3)
O3 C9 C8 C7 145.3(3)
C5 C6 C7 C8 170.3(3)
C6 C5 C4 C3 174.5(3)
C6 C7 C8 C9 177.7(3)
C4 C3 C2 C1 174.4(3)
C4 C5 C6 C7 179.7(3)
C2 C3 C4 C5 179.3(3)
