#------------------------------------------------------------------------------
#$Date: 2016-03-24 03:10:02 +0200 (Thu, 24 Mar 2016) $
#$Revision: 179616 $
#$URL: svn://www.crystallography.net/cod/cif/4/50/80/4508030.cif $
#------------------------------------------------------------------------------
#
# This file is available in the Crystallography Open Database (COD),
# http://www.crystallography.net/
#
# All data on this site have been placed in the public domain by the
# contributors.
#
data_4508030
loop_
_publ_author_name
'Bhattacharya, Suman'
'Saraswatula, Viswanadha G.'
'Saha, Binoy K.'
_publ_section_title
;
 Thermal Expansion in Alkane Diacids---Another Property Showing
 Alternation in an Odd--Even Series
;
_journal_issue                   8
_journal_name_full               'Crystal Growth & Design'
_journal_page_first              3651
_journal_paper_doi               10.1021/cg400668w
_journal_volume                  13
_journal_year                    2013
_chemical_formula_moiety         'C9 H16 O4'
_chemical_formula_sum            'C9 H16 O4'
_chemical_formula_weight         188.21
_chemical_name_common            C9-220-alpha-polymorph
_chemical_name_systematic        'Heptane-1,7-dicarboxylic acid'
_space_group_crystal_system      monoclinic
_space_group_IT_number           14
_space_group_name_Hall           '-P 2ybc'
_space_group_name_H-M_alt        'P 1 21/c 1'
_symmetry_space_group_name_Hall  '-P 2ybc'
_symmetry_space_group_name_H-M   'P 1 21/c 1'
_atom_sites_solution_hydrogens   geom
_atom_sites_solution_primary     direct
_atom_sites_solution_secondary   difmap
_audit_creation_date             2012-12-05
_audit_creation_method
;
  Olex2 1.2
  (compiled 2012.05.09 svn.r2324, GUI svn.r4230)
;
_cell_angle_alpha                90.00
_cell_angle_beta                 97.132(7)
_cell_angle_gamma                90.00
_cell_formula_units_Z            4
_cell_length_a                   5.5651(4)
_cell_length_b                   9.5356(9)
_cell_length_c                   19.0072(16)
_cell_measurement_reflns_used    1576
_cell_measurement_temperature    220(2)
_cell_measurement_theta_max      29.0140
_cell_measurement_theta_min      4.2635
_cell_volume                     1000.84(15)
_computing_cell_refinement
;
CrysAlisPro, Agilent Technologies,
Version 1.171.36.21 (release 14-08-2012 CrysAlis171 .NET)
(compiled Sep 14 2012,17:21:16)
;
_computing_data_collection
;
CrysAlisPro, Agilent Technologies,
Version 1.171.36.21 (release 14-08-2012 CrysAlis171 .NET)
(compiled Sep 14 2012,17:21:16)
;
_computing_data_reduction
;
CrysAlisPro, Agilent Technologies,
Version 1.171.36.21 (release 14-08-2012 CrysAlis171 .NET)
(compiled Sep 14 2012,17:21:16)
;
_computing_molecular_graphics
;
O. V. Dolomanov, L. J. Bourhis, R. J. Gildea, J. A. K. Howard and H. Puschmann,
OLEX2: a complete structure solution, refinement and analysis program.
J. Appl. Cryst. (2009). 42, 339-341.
;
_computing_publication_material
;
O. V. Dolomanov, L. J. Bourhis, R. J. Gildea, J. A. K. Howard and H. Puschmann,
OLEX2: a complete structure solution, refinement and analysis program.
J. Appl. Cryst. (2009). 42, 339-341.
;
_computing_structure_refinement
;
SHELXL, G.M. Sheldrick, Acta Cryst.
(2008). A64, 112-122
;
_computing_structure_solution
;
SHELXS, G.M. Sheldrick, Acta Cryst.
(2008). A64, 112-122
;
_diffrn_ambient_temperature      220(2)
_diffrn_detector_area_resol_mean 15.9821
_diffrn_measured_fraction_theta_full 0.9875
_diffrn_measured_fraction_theta_max 0.9070
_diffrn_measurement_details
;
  1 omega  -80.00  -35.00   1.0000    5.0000
omega____ theta____ kappa____ phi______ frames
    -      -17.4960  -77.0000   30.0000 45

  2 omega  -19.00   13.00   1.0000    5.0000
omega____ theta____ kappa____ phi______ frames
    -      -17.4960  -77.0000   30.0000 32

  3 omega  -39.00   37.00   1.0000    5.0000
omega____ theta____ kappa____ phi______ frames
    -      -17.4960   57.0000 -180.0000 76

  4 omega  -78.00   -5.00   1.0000    5.0000
omega____ theta____ kappa____ phi______ frames
    -      -17.4960  -57.0000   60.0000 73

  5 omega  -54.00  -10.00   1.0000    5.0000
omega____ theta____ kappa____ phi______ frames
    -       19.2928  -19.0000  -30.0000 44
;
_diffrn_measurement_device_type  'Xcalibur, Eos'
_diffrn_measurement_method       'ω scans'
_diffrn_orient_matrix_UB_11      0.0598474000
_diffrn_orient_matrix_UB_12      0.0153211000
_diffrn_orient_matrix_UB_13      0.0343421000
_diffrn_orient_matrix_UB_21      -0.1138059000
_diffrn_orient_matrix_UB_22      0.0112487000
_diffrn_orient_matrix_UB_23      0.0123928000
_diffrn_orient_matrix_UB_31      -0.0050710000
_diffrn_orient_matrix_UB_32      -0.0720482000
_diffrn_orient_matrix_UB_33      0.0092293000
_diffrn_radiation_monochromator  graphite
_diffrn_radiation_type           'Mo K\a'
_diffrn_radiation_wavelength     0.7107
_diffrn_reflns_av_R_equivalents  0.0285
_diffrn_reflns_av_unetI/netI     0.0376
_diffrn_reflns_limit_h_max       7
_diffrn_reflns_limit_h_min       -7
_diffrn_reflns_limit_k_max       12
_diffrn_reflns_limit_k_min       -12
_diffrn_reflns_limit_l_max       21
_diffrn_reflns_limit_l_min       -24
_diffrn_reflns_number            5041
_diffrn_reflns_theta_full        25.00
_diffrn_reflns_theta_max         29.03
_diffrn_reflns_theta_min         4.26
_diffrn_source                   'Enhance (Mo) X-ray Source'
_exptl_absorpt_coefficient_mu    0.097
_exptl_absorpt_correction_T_max  1.00000
_exptl_absorpt_correction_T_min  0.86914
_exptl_absorpt_correction_type   multi-scan
_exptl_absorpt_process_details
;
CrysAlisPro, Agilent Technologies,
Version 1.171.36.21 (release 14-08-2012 CrysAlis171 .NET)
(compiled Sep 14 2012,17:21:16)
Empirical absorption correction using spherical harmonics,
 implemented in SCALE3 ABSPACK scaling algorithm.
;
_exptl_crystal_colour            colourless
_exptl_crystal_density_diffrn    1.242
_exptl_crystal_density_method    'not measured'
_exptl_crystal_description       plate
_exptl_crystal_F_000             404
_exptl_crystal_size_max          0.42
_exptl_crystal_size_mid          0.38
_exptl_crystal_size_min          0.18
_refine_diff_density_max         0.284
_refine_diff_density_min         -0.257
_refine_diff_density_rms         0.069
_refine_ls_extinction_method     none
_refine_ls_goodness_of_fit_ref   1.227
_refine_ls_hydrogen_treatment    mixed
_refine_ls_matrix_type           full
_refine_ls_number_parameters     126
_refine_ls_number_reflns         2297
_refine_ls_number_restraints     0
_refine_ls_restrained_S_all      1.227
_refine_ls_R_factor_all          0.0936
_refine_ls_R_factor_gt           0.0755
_refine_ls_shift/su_max          0.000
_refine_ls_shift/su_mean         0.000
_refine_ls_structure_factor_coef Fsqd
_refine_ls_weighting_details
'calc w=1/[σ²(Fo²)+(0.0706P)²+1.8746P] where P=(Fo²+2Fc²)/3'
_refine_ls_weighting_scheme      calc
_refine_ls_wR_factor_gt          0.2379
_refine_ls_wR_factor_ref         0.2463
_reflns_number_gt                1790
_reflns_number_total             2297
_reflns_threshold_expression     >2sigma(I)
_cod_data_source_file            cg400668w_si_002.cif
_cod_data_source_block           C9-220
_cod_database_code               4508030
loop_
_space_group_symop_id
_space_group_symop_operation_xyz
1 'x, y, z'
2 '-x, y+1/2, -z+1/2'
3 '-x, -y, -z'
4 'x, -y-1/2, z-1/2'
loop_
_atom_site_label
_atom_site_type_symbol
_atom_site_fract_x
_atom_site_fract_y
_atom_site_fract_z
_atom_site_U_iso_or_equiv
_atom_site_adp_type
_atom_site_occupancy
_atom_site_symmetry_multiplicity
_atom_site_calc_flag
_atom_site_refinement_flags
O1 O -0.7567(5) 0.5412(3) 0.05557(15) 0.0457(8) Uani 1 1 d .
O4 O 0.8509(5) 0.5138(3) 0.41030(14) 0.0476(8) Uani 1 1 d .
O2 O -0.8658(5) 0.3288(3) 0.01608(15) 0.0468(8) Uani 1 1 d .
C3 C -0.3414(6) 0.4378(4) 0.14334(18) 0.0315(7) Uani 1 1 d .
H3A H -0.4291 0.4998 0.1715 0.038 Uiso 1 1 calc R
H3B H -0.2576 0.4951 0.1120 0.038 Uiso 1 1 calc R
O3 O 0.7578(4) 0.4011(3) 0.50493(12) 0.0430(7) Uani 1 1 d .
C5 C 0.0305(5) 0.4432(4) 0.23697(17) 0.0310(7) Uani 1 1 d .
H5A H 0.1273 0.4929 0.2059 0.037 Uiso 1 1 calc R
H5B H -0.0523 0.5125 0.2625 0.037 Uiso 1 1 calc R
C6 C 0.1970(6) 0.3570(4) 0.28973(18) 0.0334(8) Uani 1 1 d .
H6A H 0.2776 0.2870 0.2640 0.040 Uiso 1 1 calc R
H6B H 0.0996 0.3079 0.3208 0.040 Uiso 1 1 calc R
C7 C 0.3881(6) 0.4431(4) 0.33491(16) 0.0297(7) Uani 1 1 d .
H7A H 0.5044 0.4788 0.3053 0.036 Uiso 1 1 calc R
H7B H 0.3115 0.5227 0.3548 0.036 Uiso 1 1 calc R
C4 C -0.1567(6) 0.3538(4) 0.19221(17) 0.0315(7) Uani 1 1 d .
H4A H -0.2422 0.2974 0.2236 0.038 Uiso 1 1 calc R
H4B H -0.0733 0.2902 0.1636 0.038 Uiso 1 1 calc R
C1 C -0.7231(5) 0.4151(4) 0.05530(16) 0.0289(7) Uani 1 1 d .
C2 C -0.5191(6) 0.3425(4) 0.09952(18) 0.0327(8) Uani 1 1 d .
H2A H -0.4308 0.2872 0.0684 0.039 Uiso 1 1 calc R
H2B H -0.5869 0.2781 0.1313 0.039 Uiso 1 1 calc R
C9 C 0.7201(6) 0.4277(3) 0.44103(17) 0.0299(7) Uani 1 1 d .
C8 C 0.5195(6) 0.3556(4) 0.39462(19) 0.0384(9) Uani 1 1 d .
H8A H 0.4014 0.3230 0.4244 0.046 Uiso 1 1 calc R
H8B H 0.5863 0.2736 0.3739 0.046 Uiso 1 1 calc R
H2 H -0.986(10) 0.373(6) 0.000(3) 0.065(15) Uiso 1 1 d .
H4 H 0.966(10) 0.547(6) 0.445(3) 0.069(15) Uiso 1 1 d .
loop_
_atom_site_aniso_label
_atom_site_aniso_U_11
_atom_site_aniso_U_22
_atom_site_aniso_U_33
_atom_site_aniso_U_23
_atom_site_aniso_U_13
_atom_site_aniso_U_12
O1 0.0414(14) 0.0319(14) 0.0555(16) -0.0039(12) -0.0265(12) 0.0032(11)
O4 0.0427(15) 0.0648(19) 0.0320(13) 0.0069(13) -0.0082(11) -0.0238(14)
O2 0.0406(15) 0.0338(14) 0.0574(17) -0.0051(12) -0.0278(13) 0.0016(12)
C3 0.0263(15) 0.0325(17) 0.0323(16) 0.0006(13) -0.0101(12) 0.0010(13)
O3 0.0362(13) 0.0606(18) 0.0283(12) 0.0090(12) -0.0108(10) -0.0122(12)
C5 0.0246(15) 0.0357(18) 0.0299(16) -0.0005(13) -0.0077(12) -0.0004(13)
C6 0.0282(16) 0.0350(18) 0.0332(17) -0.0010(14) -0.0105(13) -0.0016(14)
C7 0.0273(15) 0.0322(17) 0.0269(15) 0.0027(13) -0.0078(12) -0.0024(13)
C4 0.0250(14) 0.0368(18) 0.0296(16) -0.0020(14) -0.0092(12) 0.0022(13)
C1 0.0236(14) 0.0336(17) 0.0276(15) -0.0007(13) -0.0050(11) -0.0021(13)
C2 0.0275(15) 0.0346(18) 0.0325(17) -0.0028(14) -0.0097(13) 0.0033(13)
C9 0.0240(14) 0.0315(17) 0.0317(16) 0.0016(13) -0.0065(12) 0.0021(13)
C8 0.0364(18) 0.0344(19) 0.0390(19) 0.0041(15) -0.0174(14) -0.0066(15)
loop_
_atom_type_symbol
_atom_type_description
_atom_type_scat_dispersion_real
_atom_type_scat_dispersion_imag
_atom_type_scat_source
C C 0.0033 0.0016 'International Tables Vol C Tables 4.2.6.8 and 6.1.1.4'
H H 0.0000 0.0000 'International Tables Vol C Tables 4.2.6.8 and 6.1.1.4'
O O 0.0106 0.0060 'International Tables Vol C Tables 4.2.6.8 and 6.1.1.4'
loop_
_geom_angle_atom_site_label_1
_geom_angle_atom_site_label_2
_geom_angle_atom_site_label_3
_geom_angle
C9 O4 H4 106(3)
C1 O2 H2 107(4)
H3A C3 H3B 108.0
C4 C3 H3A 109.3
C4 C3 H3B 109.3
C2 C3 H3A 109.3
C2 C3 H3B 109.3
C2 C3 C4 111.4(3)
H5A C5 H5B 107.8
C6 C5 H5A 109.1
C6 C5 H5B 109.1
C6 C5 C4 112.6(3)
C4 C5 H5A 109.1
C4 C5 H5B 109.1
C5 C6 H6A 108.8
C5 C6 H6B 108.8
C5 C6 C7 114.0(3)
H6A C6 H6B 107.7
C7 C6 H6A 108.8
C7 C6 H6B 108.8
C6 C7 H7A 109.4
C6 C7 H7B 109.4
H7A C7 H7B 108.0
C8 C7 C6 111.3(3)
C8 C7 H7A 109.4
C8 C7 H7B 109.4
C3 C4 H4A 108.7
C3 C4 H4B 108.7
C5 C4 C3 114.2(3)
C5 C4 H4A 108.7
C5 C4 H4B 108.7
H4A C4 H4B 107.6
O1 C1 O2 122.7(3)
O1 C1 C2 124.1(3)
O2 C1 C2 113.2(3)
C3 C2 H2A 108.4
C3 C2 H2B 108.4
C1 C2 C3 115.5(3)
C1 C2 H2A 108.4
C1 C2 H2B 108.4
H2A C2 H2B 107.5
O4 C9 C8 116.6(3)
O3 C9 O4 122.9(3)
O3 C9 C8 120.5(3)
C7 C8 H8A 108.2
C7 C8 H8B 108.2
C9 C8 C7 116.2(3)
C9 C8 H8A 108.2
C9 C8 H8B 108.2
H8A C8 H8B 107.4
loop_
_geom_bond_atom_site_label_1
_geom_bond_atom_site_label_2
_geom_bond_distance
O1 C1 1.218(4)
O4 C9 1.285(4)
O4 H4 0.91(6)
O2 C1 1.310(4)
O2 H2 0.82(6)
C3 H3A 0.9700
C3 H3B 0.9700
C3 C4 1.524(4)
C3 C2 1.514(4)
O3 C9 1.233(4)
C5 H5A 0.9700
C5 H5B 0.9700
C5 C6 1.520(4)
C5 C4 1.522(4)
C6 H6A 0.9700
C6 H6B 0.9700
C6 C7 1.522(4)
C7 H7A 0.9700
C7 H7B 0.9700
C7 C8 1.521(4)
C4 H4A 0.9700
C4 H4B 0.9700
C1 C2 1.496(4)
C2 H2A 0.9700
C2 H2B 0.9700
C9 C8 1.500(4)
C8 H8A 0.9700
C8 H8B 0.9700
loop_
_geom_torsion_atom_site_label_1
_geom_torsion_atom_site_label_2
_geom_torsion_atom_site_label_3
_geom_torsion_atom_site_label_4
_geom_torsion
O1 C1 C2 C3 -3.3(5)
O4 C9 C8 C7 -37.1(5)
O2 C1 C2 C3 177.2(3)
O3 C9 C8 C7 144.7(4)
C5 C6 C7 C8 170.2(3)
C6 C5 C4 C3 174.7(3)
C6 C7 C8 C9 177.5(3)
C4 C3 C2 C1 174.0(3)
C4 C5 C6 C7 179.5(3)
C2 C3 C4 C5 179.0(3)
