#------------------------------------------------------------------------------
#$Date: 2016-03-24 03:14:46 +0200 (Thu, 24 Mar 2016) $
#$Revision: 179620 $
#$URL: svn://www.crystallography.net/cod/cif/4/50/84/4508409.cif $
#------------------------------------------------------------------------------
#
# This file is available in the Crystallography Open Database (COD),
# http://www.crystallography.net/
#
# All data on this site have been placed in the public domain by the
# contributors.
#
data_4508409
loop_
_publ_author_name
'Bajpai, Alankriti'
'Venkatakrishnan, Parthasarathy'
'Mandal, Susovan'
'Samanta, Subhas'
'Venugopalan, Paloth'
'Moorthy, Jarugu Narasimha'
_publ_section_title
;
 Self-Assembly of Conformationally Rigid Dialcohols
 (Bis-Benzocyclobutenols): Supramolecular Cyclophanes and Arrays
;
_journal_issue                   11
_journal_name_full               'Crystal Growth & Design'
_journal_page_first              4714
_journal_paper_doi               10.1021/cg400791a
_journal_volume                  13
_journal_year                    2013
_chemical_formula_moiety         'C10 H8 Br2 O2'
_chemical_formula_sum            'C10 H8 Br2 O2'
_chemical_formula_weight         319.96
_chemical_name_common            syn-1a
_chemical_name_systematic
;
 ?
;
_space_group_IT_number           15
_symmetry_cell_setting           monoclinic
_symmetry_Int_Tables_number      15
_symmetry_space_group_name_Hall  '-C 2yc'
_symmetry_space_group_name_H-M   'C 1 2/c 1'
_atom_sites_solution_hydrogens   geom
_atom_sites_solution_primary     direct
_atom_sites_solution_secondary   difmap
_audit_creation_method           'Manual edit of SHELXL-97 cif'
_cell_angle_alpha                90.00
_cell_angle_beta                 92.46(3)
_cell_angle_gamma                90.00
_cell_formula_units_Z            8
_cell_length_a                   14.727(3)
_cell_length_b                   8.1440(6)
_cell_length_c                   16.355(3)
_cell_measurement_temperature    100(2)
_cell_volume                     1959.8(6)
_computing_cell_refinement       'Bruker SAINT'
_computing_data_collection       'Bruker APEX'
_computing_data_reduction        'Bruker SAINT'
_computing_molecular_graphics    'SHELXL 5.1, XP (Sheldrick, 1994)'
_computing_publication_material  SHELXS-97
_computing_structure_refinement  'SHELXL-97 (Sheldrick, 2008)'
_computing_structure_solution    'SHELXS-97 (Sheldrick, 2008)'
_diffrn_ambient_temperature      100(2)
_diffrn_measured_fraction_theta_full 0.926
_diffrn_measured_fraction_theta_max 0.926
_diffrn_measurement_device_type  'Bruker SMART APEX'
_diffrn_measurement_method       'phi and omega scans'
_diffrn_radiation_monochromator  graphite
_diffrn_radiation_source         'fine-focus sealed tube'
_diffrn_radiation_type           MoK\a
_diffrn_radiation_wavelength     0.71073
_diffrn_reflns_av_R_equivalents  0.0790
_diffrn_reflns_av_sigmaI/netI    0.0985
_diffrn_reflns_limit_h_max       17
_diffrn_reflns_limit_h_min       -17
_diffrn_reflns_limit_k_max       0
_diffrn_reflns_limit_k_min       -7
_diffrn_reflns_limit_l_max       19
_diffrn_reflns_limit_l_min       -19
_diffrn_reflns_number            3480
_diffrn_reflns_theta_full        24.98
_diffrn_reflns_theta_max         24.98
_diffrn_reflns_theta_min         2.49
_exptl_absorpt_coefficient_mu    8.240
_exptl_absorpt_correction_T_max  0.58
_exptl_absorpt_correction_T_min  0.47
_exptl_absorpt_correction_type   multi-scan
_exptl_absorpt_process_details   '(SADABS; Bruker, 2007)'
_exptl_crystal_colour            colorless
_exptl_crystal_density_diffrn    2.169
_exptl_crystal_density_method    'not measured'
_exptl_crystal_description       block
_exptl_crystal_F_000             1232
_exptl_crystal_size_max          0.13
_exptl_crystal_size_mid          0.11
_exptl_crystal_size_min          0.09
_refine_diff_density_max         0.697
_refine_diff_density_min         -0.697
_refine_diff_density_rms         0.136
_refine_ls_extinction_method     none
_refine_ls_goodness_of_fit_ref   1.033
_refine_ls_hydrogen_treatment    constr
_refine_ls_matrix_type           full
_refine_ls_number_parameters     127
_refine_ls_number_reflns         1588
_refine_ls_number_restraints     0
_refine_ls_restrained_S_all      1.033
_refine_ls_R_factor_all          0.1140
_refine_ls_R_factor_gt           0.0536
_refine_ls_shift/su_max          0.000
_refine_ls_shift/su_mean         0.000
_refine_ls_structure_factor_coef Fsqd
_refine_ls_weighting_details
'calc w=1/[σ²(Fo²)+(0.0415P)²+0.0000P] where P=(Fo²+2Fc²)/3'
_refine_ls_weighting_scheme      calc
_refine_ls_wR_factor_gt          0.0893
_refine_ls_wR_factor_ref         0.0989
_reflns_number_gt                957
_reflns_number_total             1588
_reflns_threshold_expression     >2sigma(I)
_cod_data_source_file            cg400791a_si_005.cif
_cod_data_source_block           syn-1a
_cod_depositor_comments
;
The following automatic conversions were performed:

'_symmetry_cell_setting' value 'Monoclinic' changed to 'monoclinic'
according to /home/saulius/struct/CIF-dictionaries/cif_core.dic
dictionary named 'cif_core.dic' version 2.4.2 from
2011-04-26.

'_exptl_absorpt_correction_type' value 'Multi-scan'
changed to 'multi-scan' according to
/home/saulius/struct/CIF-dictionaries/cif_core.dic dictionary named
'cif_core.dic' version 2.4.2 from 2011-04-26.

Automatic conversion script
Id: cif_fix_values 1891 2012-01-12 08:04:46Z andrius 
;
_cod_original_sg_symbol_H-M      'C 2/c'
_cod_database_code               4508409
loop_
_symmetry_equiv_pos_as_xyz
'x, y, z'
'-x, y, -z+1/2'
'x+1/2, y+1/2, z'
'-x+1/2, y+1/2, -z+1/2'
'-x, -y, -z'
'x, -y, z-1/2'
'-x+1/2, -y+1/2, -z'
'x+1/2, -y+1/2, z-1/2'
loop_
_atom_site_label
_atom_site_type_symbol
_atom_site_fract_x
_atom_site_fract_y
_atom_site_fract_z
_atom_site_U_iso_or_equiv
_atom_site_adp_type
_atom_site_occupancy
_atom_site_symmetry_multiplicity
_atom_site_calc_flag
_atom_site_refinement_flags
Br1 Br 0.36731(6) 0.11093(11) 0.35245(5) 0.0319(3) Uani 1 1 d .
Br2 Br 0.39476(6) 0.63482(11) 0.66494(5) 0.0358(3) Uani 1 1 d .
O1 O 0.2888(3) 0.5725(6) 0.3156(3) 0.0316(14) Uani 1 1 d .
H1A H 0.2591 0.4884 0.3214 0.047 Uiso 1 1 calc R
O2 O 0.3400(4) 0.1655(6) 0.7129(3) 0.0342(15) Uani 1 1 d .
H2A H 0.3379 0.2512 0.7390 0.051 Uiso 1 1 calc R
C1 C 0.3720(6) 0.2604(9) 0.4412(5) 0.022(2) Uani 1 1 d .
C2 C 0.3693(5) 0.4281(9) 0.4317(4) 0.022(2) Uani 1 1 d .
C3 C 0.3741(5) 0.5370(10) 0.4971(5) 0.022(2) Uani 1 1 d .
C4 C 0.3827(6) 0.4859(10) 0.5784(5) 0.024(2) Uani 1 1 d .
C5 C 0.3864(5) 0.3183(9) 0.5871(4) 0.021(2) Uani 1 1 d .
C6 C 0.3797(5) 0.2088(10) 0.5215(5) 0.022(2) Uani 1 1 d .
C7 C 0.3685(6) 0.5666(10) 0.3679(5) 0.026(2) Uani 1 1 d .
H7A H 0.4247 0.5723 0.3381 0.031 Uiso 1 1 calc R
C8 C 0.3679(6) 0.6882(10) 0.4430(4) 0.028(2) Uani 1 1 d .
H8A H 0.4205 0.7597 0.4479 0.033 Uiso 1 1 calc R
H8B H 0.3118 0.7497 0.4470 0.033 Uiso 1 1 calc R
C9 C 0.4022(6) 0.1831(9) 0.6498(4) 0.025(2) Uani 1 1 d .
H9A H 0.4650 0.1842 0.6720 0.030 Uiso 1 1 calc R
C10 C 0.3904(6) 0.0579(9) 0.5750(4) 0.026(2) Uani 1 1 d .
H10A H 0.4441 -0.0070 0.5651 0.031 Uiso 1 1 calc R
H10B H 0.3365 -0.0103 0.5762 0.031 Uiso 1 1 calc R
loop_
_atom_site_aniso_label
_atom_site_aniso_U_11
_atom_site_aniso_U_22
_atom_site_aniso_U_33
_atom_site_aniso_U_23
_atom_site_aniso_U_13
_atom_site_aniso_U_12
Br1 0.0449(6) 0.0246(5) 0.0259(5) -0.0055(4) -0.0017(4) 0.0027(5)
Br2 0.0535(7) 0.0263(6) 0.0277(5) -0.0059(4) 0.0030(4) -0.0009(5)
O1 0.022(3) 0.032(3) 0.041(3) 0.005(3) 0.000(3) 0.000(3)
O2 0.063(4) 0.020(3) 0.021(3) -0.004(2) 0.010(3) -0.004(3)
C1 0.026(6) 0.016(6) 0.025(5) -0.001(3) 0.003(4) -0.003(4)
C2 0.023(5) 0.024(5) 0.019(4) 0.003(3) 0.001(4) 0.006(4)
C3 0.022(5) 0.019(4) 0.025(5) -0.002(3) -0.003(4) 0.001(4)
C4 0.015(6) 0.033(6) 0.023(5) -0.005(4) 0.001(4) -0.001(4)
C5 0.020(5) 0.019(5) 0.024(5) 0.006(3) -0.001(4) 0.003(4)
C6 0.011(5) 0.031(5) 0.024(4) 0.006(4) -0.001(4) 0.001(4)
C7 0.025(5) 0.029(5) 0.025(5) 0.009(4) 0.006(4) 0.001(4)
C8 0.029(6) 0.029(6) 0.025(5) -0.002(4) -0.002(4) -0.007(4)
C9 0.028(6) 0.022(5) 0.024(5) 0.001(3) -0.001(4) 0.004(4)
C10 0.031(6) 0.016(5) 0.031(5) -0.002(4) 0.003(4) 0.001(4)
loop_
_atom_type_symbol
_atom_type_description
_atom_type_scat_dispersion_real
_atom_type_scat_dispersion_imag
_atom_type_scat_source
C C 0.0033 0.0016 'International Tables Vol C Tables 4.2.6.8 and 6.1.1.4'
H H 0.0000 0.0000 'International Tables Vol C Tables 4.2.6.8 and 6.1.1.4'
O O 0.0106 0.0060 'International Tables Vol C Tables 4.2.6.8 and 6.1.1.4'
Br Br -0.2901 2.4595 'International Tables Vol C Tables 4.2.6.8 and 6.1.1.4'
loop_
_geom_angle_atom_site_label_1
_geom_angle_atom_site_label_2
_geom_angle_atom_site_label_3
_geom_angle
C7 O1 H1A 109.5
C9 O2 H2A 109.5
C2 C1 C6 114.2(7)
C2 C1 Br1 123.5(6)
C6 C1 Br1 122.3(6)
C1 C2 C3 123.2(7)
C1 C2 C7 143.6(7)
C3 C2 C7 93.0(7)
C2 C3 C4 122.9(8)
C2 C3 C8 94.0(6)
C4 C3 C8 143.1(7)
C5 C4 C3 113.3(7)
C5 C4 Br2 124.5(6)
C3 C4 Br2 122.1(6)
C4 C5 C6 123.7(7)
C4 C5 C9 142.7(8)
C6 C5 C9 93.4(6)
C1 C6 C5 122.5(7)
C1 C6 C10 143.1(7)
C5 C6 C10 94.2(6)
O1 C7 C2 114.6(6)
O1 C7 C8 114.5(6)
C2 C7 C8 86.1(6)
O1 C7 H7A 113.0
C2 C7 H7A 113.0
C8 C7 H7A 113.0
C3 C8 C7 86.7(6)
C3 C8 H8A 114.2
C7 C8 H8A 114.2
C3 C8 H8B 114.2
C7 C8 H8B 114.2
H8A C8 H8B 111.4
O2 C9 C5 118.8(7)
O2 C9 C10 116.2(7)
C5 C9 C10 86.4(6)
O2 C9 H9A 111.1
C5 C9 H9A 111.1
C10 C9 H9A 111.1
C6 C10 C9 85.9(6)
C6 C10 H10A 114.3
C9 C10 H10A 114.3
C6 C10 H10B 114.3
C9 C10 H10B 114.3
H10A C10 H10B 111.5
loop_
_geom_bond_atom_site_label_1
_geom_bond_atom_site_label_2
_geom_bond_distance
Br1 C1 1.893(7)
Br2 C4 1.866(8)
O1 C7 1.423(9)
O1 H1A 0.8200
O2 C9 1.416(9)
O2 H2A 0.8200
C1 C2 1.375(11)
C1 C6 1.379(10)
C2 C3 1.388(10)
C2 C7 1.537(10)
C3 C4 1.395(10)
C3 C8 1.517(11)
C4 C5 1.373(10)
C5 C6 1.394(11)
C5 C9 1.516(10)
C6 C10 1.513(10)
C7 C8 1.577(11)
C7 H7A 0.9800
C8 H8A 0.9700
C8 H8B 0.9700
C9 C10 1.597(10)
C9 H9A 0.9800
C10 H10A 0.9700
C10 H10B 0.9700
loop_
_geom_torsion_atom_site_label_1
_geom_torsion_atom_site_label_2
_geom_torsion_atom_site_label_3
_geom_torsion_atom_site_label_4
_geom_torsion
C6 C1 C2 C3 0.1(13)
Br1 C1 C2 C3 -179.0(6)
C6 C1 C2 C7 174.1(10)
Br1 C1 C2 C7 -5.0(17)
C1 C2 C3 C4 0.4(13)
C7 C2 C3 C4 -176.0(8)
C1 C2 C3 C8 179.8(8)
C7 C2 C3 C8 3.4(7)
C2 C3 C4 C5 0.3(12)
C8 C3 C4 C5 -178.7(11)
C2 C3 C4 Br2 176.9(7)
C8 C3 C4 Br2 -2.1(16)
C3 C4 C5 C6 -1.7(13)
Br2 C4 C5 C6 -178.2(6)
C3 C4 C5 C9 173.0(11)
Br2 C4 C5 C9 -3.5(18)
C2 C1 C6 C5 -1.4(12)
Br1 C1 C6 C5 177.7(6)
C2 C1 C6 C10 -176.0(11)
Br1 C1 C6 C10 3.1(16)
C4 C5 C6 C1 2.4(13)
C9 C5 C6 C1 -174.4(8)
C4 C5 C6 C10 179.1(8)
C9 C5 C6 C10 2.3(7)
C1 C2 C7 O1 66.5(15)
C3 C2 C7 O1 -118.5(7)
C1 C2 C7 C8 -178.3(13)
C3 C2 C7 C8 -3.3(7)
C2 C3 C8 C7 -3.3(7)
C4 C3 C8 C7 175.9(11)
O1 C7 C8 C3 118.3(7)
C2 C7 C8 C3 3.0(6)
C4 C5 C9 O2 64.2(16)
C6 C5 C9 O2 -120.2(7)
C4 C5 C9 C10 -177.8(12)
C6 C5 C9 C10 -2.2(7)
C1 C6 C10 C9 173.2(12)
C5 C6 C10 C9 -2.2(7)
O2 C9 C10 C6 122.5(7)
C5 C9 C10 C6 2.0(6)
