#------------------------------------------------------------------------------
#$Date: 2016-03-24 14:08:23 +0200 (Thu, 24 Mar 2016) $
#$Revision: 179653 $
#$URL: svn://www.crystallography.net/cod/cif/4/51/06/4510612.cif $
#------------------------------------------------------------------------------
#
# This file is available in the Crystallography Open Database (COD),
# http://www.crystallography.net/
#
# All data on this site have been placed in the public domain by the
# contributors.
#
data_4510612
loop_
_publ_author_name
'Jones, Andrew O. F.'
'Blagden, Nicholas'
'McIntyre, Garry J.'
'Parkin, Andrew'
'Seaton, Colin C.'
'Thomas, Lynne H.'
'Wilson, Chick C.'
_publ_section_title
;
 Tuning Proton Disorder in 3,5-Dinitrobenzoic Acid Dimers: the Effect of
 Local Environment
;
_journal_issue                   2
_journal_name_full               'Crystal Growth & Design'
_journal_page_first              497
_journal_paper_doi               10.1021/cg300906j
_journal_volume                  13
_journal_year                    2013
_chemical_formula_sum            'C7 H4 N2 O6'
_chemical_formula_weight         212.12
_chemical_name_systematic
;
 3,5-dinitrobenzoic acid
;
_space_group_IT_number           14
_symmetry_cell_setting           monoclinic
_symmetry_space_group_name_Hall  '-P 2ybc'
_symmetry_space_group_name_H-M   'P 1 21/c 1'
_atom_sites_solution_hydrogens   difmap
_atom_sites_solution_primary     direct
_atom_sites_solution_secondary   difmap
_audit_creation_method           SHELXL-97
_cell_angle_alpha                90.00
_cell_angle_beta                 96.533(3)
_cell_angle_gamma                90.00
_cell_formula_units_Z            4
_cell_length_a                   9.9026(10)
_cell_length_b                   8.9085(8)
_cell_length_c                   9.4714(7)
_cell_measurement_reflns_used    5760
_cell_measurement_temperature    200
_cell_measurement_theta_max      55.17
_cell_measurement_theta_min      6.17
_cell_volume                     830.12(13)
_computing_cell_refinement       'CrystalClear 1.4.0 (Rigaku, 2008)'
_computing_data_collection       'CrystalClear 1.4.0 (Rigaku, 2008)'
_computing_data_reduction        'CrystalClear 1.4.0 (Rigaku, 2008)'
_computing_molecular_graphics    'Mercury (McRae, 2006)'
_computing_publication_material  'WINGX (Farrugia, 1999)'
_computing_structure_refinement  'SHELXL-97 (Sheldrick, 2008)'
_computing_structure_solution    'SHELXS-97 (Sheldrick, 2008)'
_diffrn_ambient_temperature      200
_diffrn_measured_fraction_theta_full 0.991
_diffrn_measured_fraction_theta_max 0.991
_diffrn_measurement_device_type  'Rigaku R-AXIS RAPID IP Image Plate'
_diffrn_measurement_method       'Image Plate'
_diffrn_radiation_monochromator  graphite
_diffrn_radiation_source         'fine-focus sealed tube'
_diffrn_radiation_type           MoK\a
_diffrn_radiation_wavelength     0.71075
_diffrn_reflns_av_R_equivalents  0.0444
_diffrn_reflns_av_sigmaI/netI    0.0321
_diffrn_reflns_limit_h_max       12
_diffrn_reflns_limit_h_min       -12
_diffrn_reflns_limit_k_max       11
_diffrn_reflns_limit_k_min       -11
_diffrn_reflns_limit_l_max       12
_diffrn_reflns_limit_l_min       -11
_diffrn_reflns_number            10730
_diffrn_reflns_theta_full        27.48
_diffrn_reflns_theta_max         27.48
_diffrn_reflns_theta_min         3.08
_exptl_absorpt_coefficient_mu    0.153
_exptl_absorpt_correction_T_max  1.0000
_exptl_absorpt_correction_T_min  0.8277
_exptl_absorpt_correction_type   multi-scan
_exptl_absorpt_process_details   'ABSCOR, Rigaku 1995'
_exptl_crystal_colour            'pale yellow'
_exptl_crystal_density_diffrn    1.697
_exptl_crystal_density_method    'not measured'
_exptl_crystal_description       needle
_exptl_crystal_F_000             432
_exptl_crystal_size_max          0.5
_exptl_crystal_size_mid          0.2
_exptl_crystal_size_min          0.1
_refine_diff_density_max         0.232
_refine_diff_density_min         -0.269
_refine_diff_density_rms         0.060
_refine_ls_extinction_method     none
_refine_ls_goodness_of_fit_ref   1.123
_refine_ls_hydrogen_treatment    refall
_refine_ls_matrix_type           full
_refine_ls_number_parameters     152
_refine_ls_number_reflns         1887
_refine_ls_number_restraints     0
_refine_ls_restrained_S_all      1.123
_refine_ls_R_factor_all          0.0794
_refine_ls_R_factor_gt           0.0423
_refine_ls_shift/su_max          0.000
_refine_ls_shift/su_mean         0.000
_refine_ls_structure_factor_coef Fsqd
_refine_ls_weighting_details
'calc w=1/[σ²(Fo²)+(0.0568P)²+0.1508P] where P=(Fo²+2Fc²)/3'
_refine_ls_weighting_scheme      calc
_refine_ls_wR_factor_gt          0.0992
_refine_ls_wR_factor_ref         0.1263
_reflns_number_gt                1165
_reflns_number_total             1887
_reflns_threshold_expression     >2σ(I)
_cod_data_source_file            35-dnba_200K_P21c_X-ray_CIF.cif
_cod_data_source_block           35-dnba_200k_p21c
_cod_original_sg_symbol_H-M      P21/c
_cod_database_code               4510612
loop_
_symmetry_equiv_pos_as_xyz
'x, y, z'
'-x, y+1/2, -z+1/2'
'-x, -y, -z'
'x, -y-1/2, z-1/2'
loop_
_atom_site_label
_atom_site_type_symbol
_atom_site_fract_x
_atom_site_fract_y
_atom_site_fract_z
_atom_site_U_iso_or_equiv
_atom_site_adp_type
_atom_site_occupancy
_atom_site_symmetry_multiplicity
_atom_site_calc_flag
H3 H 0.109(2) -0.061(2) 0.604(2) 0.037(6) Uiso 1 1 d
H2 H 0.281(2) -0.271(2) 0.289(2) 0.029(5) Uiso 1 1 d
H1 H 0.394(2) 0.156(3) 0.396(2) 0.046(6) Uiso 1 1 d
H4 H 0.051(3) -0.531(4) 0.404(4) 0.104(11) Uiso 1 1 d
O3 O 0.15301(16) 0.19596(17) 0.68404(15) 0.0457(4) Uani 1 1 d
O1 O 0.03208(16) -0.32808(17) 0.57118(15) 0.0428(4) Uani 1 1 d
O6 O 0.54347(15) 0.02230(19) 0.23997(17) 0.0493(5) Uani 1 1 d
O2 O 0.10843(16) -0.43116(18) 0.37931(16) 0.0437(4) Uani 1 1 d
N2 N 0.44531(17) -0.06158(19) 0.22134(18) 0.0337(4) Uani 1 1 d
O5 O 0.42482(16) -0.14979(19) 0.12240(16) 0.0469(4) Uani 1 1 d
N1 N 0.23621(19) 0.1969(2) 0.59822(18) 0.0396(5) Uani 1 1 d
C3 C 0.17993(19) -0.1858(2) 0.44455(19) 0.0292(4) Uani 1 1 d
C4 C 0.2697(2) -0.1855(2) 0.3414(2) 0.0294(4) Uani 1 1 d
O4 O 0.3116(2) 0.3020(2) 0.5831(2) 0.0797(7) Uani 1 1 d
C7 C 0.1003(2) -0.3233(2) 0.4680(2) 0.0316(5) Uani 1 1 d
C6 C 0.3393(2) 0.0683(2) 0.4091(2) 0.0311(5) Uani 1 1 d
C2 C 0.1678(2) -0.0602(2) 0.5288(2) 0.0303(5) Uani 1 1 d
C1 C 0.2472(2) 0.0644(2) 0.50778(19) 0.0312(5) Uani 1 1 d
C5 C 0.34715(19) -0.0590(2) 0.32690(19) 0.0291(5) Uani 1 1 d
loop_
_atom_site_aniso_label
_atom_site_aniso_U_11
_atom_site_aniso_U_22
_atom_site_aniso_U_33
_atom_site_aniso_U_23
_atom_site_aniso_U_13
_atom_site_aniso_U_12
O3 0.0553(10) 0.0414(10) 0.0431(8) -0.0082(7) 0.0178(8) -0.0017(8)
O1 0.0531(9) 0.0398(9) 0.0377(8) -0.0021(7) 0.0151(7) -0.0156(8)
O6 0.0375(9) 0.0571(11) 0.0552(10) -0.0047(8) 0.0139(7) -0.0154(8)
O2 0.0584(10) 0.0289(8) 0.0463(9) -0.0055(7) 0.0173(8) -0.0107(7)
N2 0.0336(9) 0.0325(10) 0.0358(9) 0.0028(8) 0.0074(7) 0.0000(8)
O5 0.0551(10) 0.0449(10) 0.0437(9) -0.0106(8) 0.0196(7) -0.0053(8)
N1 0.0502(11) 0.0327(11) 0.0373(9) -0.0053(8) 0.0112(8) -0.0077(9)
C3 0.0312(10) 0.0272(11) 0.0294(10) 0.0023(8) 0.0038(8) -0.0034(8)
C4 0.0335(11) 0.0251(11) 0.0291(10) -0.0002(8) 0.0016(8) 0.0005(9)
O4 0.1120(17) 0.0528(12) 0.0851(13) -0.0368(10) 0.0580(12) -0.0480(12)
C7 0.0374(11) 0.0285(11) 0.0295(10) -0.0004(8) 0.0063(8) -0.0018(9)
C6 0.0326(11) 0.0301(11) 0.0300(10) 0.0015(8) 0.0016(8) -0.0053(9)
C2 0.0313(10) 0.0304(11) 0.0294(10) 0.0013(8) 0.0043(8) -0.0031(9)
C1 0.0359(11) 0.0284(11) 0.0288(10) -0.0033(8) 0.0014(8) -0.0016(9)
C5 0.0284(10) 0.0312(11) 0.0279(10) 0.0025(8) 0.0038(8) -0.0009(8)
loop_
_atom_type_symbol
_atom_type_description
_atom_type_scat_dispersion_real
_atom_type_scat_dispersion_imag
_atom_type_scat_source
C C 0.0033 0.0016 'International Tables Vol C Tables 4.2.6.8 and 6.1.1.4'
H H 0.0000 0.0000 'International Tables Vol C Tables 4.2.6.8 and 6.1.1.4'
N N 0.0061 0.0033 'International Tables Vol C Tables 4.2.6.8 and 6.1.1.4'
O O 0.0106 0.0060 'International Tables Vol C Tables 4.2.6.8 and 6.1.1.4'
loop_
_geom_angle_atom_site_label_1
_geom_angle_atom_site_label_2
_geom_angle_atom_site_label_3
_geom_angle
O5 N2 O6 124.29(18)
O5 N2 C5 117.77(17)
O6 N2 C5 117.91(17)
O4 N1 O3 123.59(18)
O4 N1 C1 117.56(18)
O3 N1 C1 118.86(17)
C2 C3 C4 120.38(18)
C2 C3 C7 119.75(17)
C4 C3 C7 119.83(18)
C5 C4 C3 118.57(19)
O1 C7 O2 124.42(18)
O1 C7 C3 119.17(18)
O2 C7 C3 116.40(17)
C1 C6 C5 116.40(19)
C3 C2 C1 118.35(19)
C6 C1 C2 123.16(19)
C6 C1 N1 118.25(18)
C2 C1 N1 118.56(18)
C4 C5 C6 123.12(19)
C4 C5 N2 118.25(18)
C6 C5 N2 118.61(17)
loop_
_geom_bond_atom_site_label_1
_geom_bond_atom_site_label_2
_geom_bond_distance
O3 N1 1.221(2)
O1 C7 1.250(2)
O6 N2 1.223(2)
O2 C7 1.285(2)
N2 O5 1.222(2)
N2 C5 1.472(2)
N1 O4 1.216(2)
N1 C1 1.470(3)
C3 C2 1.387(3)
C3 C4 1.393(3)
C3 C7 1.487(3)
C4 C5 1.379(3)
C6 C1 1.378(3)
C6 C5 1.383(3)
C2 C1 1.388(3)
