#------------------------------------------------------------------------------
#$Date: 2018-09-04 11:41:10 +0300 (Tue, 04 Sep 2018) $
#$Revision: 210387 $
#$URL: file:///home/coder/svn-repositories/cod/cif/4/51/23/4512323.cif $
#------------------------------------------------------------------------------
#
# This file is available in the Crystallography Open Database (COD),
# http://www.crystallography.net/
#
# All data on this site have been placed in the public domain by the
# contributors.
#
data_4512323
loop_
_publ_author_name
'Kim, Yejin'
'Mckinley, Emma J.'
'Christensen, Kirsten E.'
'Rees, Nicholas H.'
'Thompson, Amber L.'
_publ_section_title
;
 Toward the Understanding of Modulation in Molecular Materials:
 Barluenga's Reagent and its Analogues.
;
_journal_coden_ASTM              CGDEFU
_journal_issue                   12
_journal_name_full               'Crystal Growth & Design'
_journal_page_first              6294
_journal_page_last               6301
_journal_paper_doi               10.1021/cg500983s
_journal_volume                  14
_journal_year                    2014
_chemical_formula_moiety         'C10 H10 Br1 N2, Cl1 O4'
_chemical_formula_sum            'C10 H10 Br Cl N2 O4'
_chemical_formula_weight         337.56
_chemical_melting_point          ?
_space_group_IT_number           15
_symmetry_cell_setting           monoclinic
_symmetry_space_group_name_Hall  '-C 2yc'
_symmetry_space_group_name_H-M   'C 1 2/c 1'
_atom_sites_solution_hydrogens   difmap
_atom_sites_solution_primary     other
_audit_creation_date             2014-05-21
_audit_creation_method           CRYSTALS_ver_14.43
_cell_angle_alpha                90
_cell_angle_beta                 92.547(3)
_cell_angle_gamma                90
_cell_formula_units_Z            8
_cell_length_a                   10.2259(3)
_cell_length_b                   12.5223(4)
_cell_length_c                   20.4388(6)
_cell_measurement_reflns_used    6771
_cell_measurement_temperature    300
_cell_measurement_theta_max      24
_cell_measurement_theta_min      2
_cell_volume                     2614.64(14)
_computing_cell_refinement       'CrysAlis, (Oxford Diffraction, 2002)'
_computing_data_collection       'SuperNova, (Oxford Diffraction, 2010)'
_computing_data_reduction        'CrysAlis, (Oxford Diffraction, 2002)'
_computing_molecular_graphics    'CAMERON (Watkin et al., 1996)'
_computing_publication_material  'CRYSTALS (Betteridge et al., 2003)'
_computing_structure_refinement  'CRYSTALS (Betteridge et al., 2003)'
_computing_structure_solution    'Refinement from low temperature structure'
_diffrn_ambient_temperature      300
_diffrn_measured_fraction_theta_full 0.996
_diffrn_measured_fraction_theta_max 0.937
_diffrn_measurement_device       Area
_diffrn_measurement_device_type  'Oxford Diffraction SuperNova'
_diffrn_measurement_method       ω
_diffrn_radiation_monochromator  graphite
_diffrn_radiation_type           'Mo K\a'
_diffrn_radiation_wavelength     0.71070
_diffrn_reflns_av_R_equivalents  0.051
_diffrn_reflns_limit_h_max       14
_diffrn_reflns_limit_h_min       -14
_diffrn_reflns_limit_k_max       17
_diffrn_reflns_limit_k_min       -17
_diffrn_reflns_limit_l_max       28
_diffrn_reflns_limit_l_min       -27
_diffrn_reflns_number            26876
_diffrn_reflns_theta_full        26.042
_diffrn_reflns_theta_max         29.933
_diffrn_reflns_theta_min         1.995
_diffrn_standards_number         0
_exptl_absorpt_coefficient_mu    3.356
_exptl_absorpt_correction_T_max  0.67
_exptl_absorpt_correction_T_min  0.48
_exptl_absorpt_correction_type   multi-scan
_exptl_absorpt_process_details   'CrysAlis, (Oxford Diffraction, 2002)'
_exptl_crystal_colour            clear_pale_colourless
_exptl_crystal_density_diffrn    1.715
_exptl_crystal_density_meas      ?
_exptl_crystal_density_method    'not measured'
_exptl_crystal_description       lath
_exptl_crystal_F_000             1344
_exptl_crystal_size_max          0.30
_exptl_crystal_size_mid          0.13
_exptl_crystal_size_min          0.12
_refine_diff_density_max         0.93
_refine_diff_density_min         -0.96
_refine_ls_extinction_method     None
_refine_ls_goodness_of_fit_ref   0.9600
_refine_ls_hydrogen_treatment    constr
_refine_ls_matrix_type           full
_refine_ls_number_parameters     163
_refine_ls_number_reflns         3551
_refine_ls_number_restraints     0
_refine_ls_R_factor_all          0.0791
_refine_ls_R_factor_gt           0.0386
_refine_ls_shift/su_max          0.0007199
_refine_ls_shift/su_mean         0.0000281
_refine_ls_structure_factor_coef Fsqd
_refine_ls_weighting_details
;
 Method, part 1, Chebychev polynomial, (Watkin, 1994, Prince, 1982) 
 [weight] = 1.0/[A₀*T₀(x)+A₁*T₁(x) ... +Aₙ₋₁]*Tₙ₋₁(x)] 
 where Ai are the Chebychev coefficients listed below and x= Fcalc/Fmax 
 Method = Robust Weighting (Prince, 1982) 
 W = [weight] * [1-(deltaF/6*sigmaF)²]² 
 Ai are: 
 851. 0.130E+04 824. 365. 90.0 
;
_refine_ls_weighting_scheme      calc
_refine_ls_wR_factor_all         0.0907
_refine_ls_wR_factor_gt          0.0659
_refine_ls_wR_factor_ref         0.0907
_reflns_limit_h_max              14
_reflns_limit_h_min              -14
_reflns_limit_k_max              17
_reflns_limit_k_min              0
_reflns_limit_l_max              28
_reflns_limit_l_min              0
_reflns_number_gt                2366
_reflns_number_total             3564
_reflns_threshold_expression     I>2.0σ(I)
_oxford_diffrn_Wilson_B_factor   3.92
_oxford_diffrn_Wilson_scale      0.50
_oxford_refine_ls_r_factor_ref   0.0791
_oxford_refine_ls_scale          1.540(6)
_oxford_reflns_number_all        3551
_oxford_reflns_threshold_expression_ref I>-3.0\s(I)
_oxford_structure_analysis_title 031yk14-300K
_cod_data_source_file            cg500983s_si_002.cif
_cod_data_source_block           BrPy2ClO4-300K
_cod_depositor_comments
;
The following automatic conversions were performed:

'_chemical_melting_point' value 'not measured' was changed to '?' -
the value is undefined or not given.

'_atom_sites_solution_primary'
value 'Other' changed to 'other' according to
/home/saulius/struct/COD-crude-data--automatic-downloads/rss-feeds/ACS/lib/dictionaries/cif_core.dic
dictionary named 'cif_core.dic' version 2.4.2 from 2011-04-26.

Automatic conversion script
Id: cif_fix_values 2935 2014-11-11 08:27:57Z andrius 

The following automatic conversions were performed:

'_exptl_crystal_density_meas' value 'not measured' was changed to '?'
- the value is perceived as not measured.

Automatic conversion script
Id: cif_fix_values 3008 2015-01-20 13:52:24Z robertas 

 Adding full bibliography for 4512310--4512328.cif.
;
_cod_original_formula_sum        'C10 H10 Br1 Cl1 N2 O4'
_cod_database_code               4512323
loop_
_symmetry_equiv_pos_as_xyz
x,y,z
-x,-y,-z
x+1/2,y+1/2,z
-x+1/2,-y+1/2,-z
-x,y,-z+1/2
x,-y,z+1/2
-x+1/2,y+1/2,-z+1/2
x+1/2,-y+1/2,z+1/2
loop_
_atom_site_label
_atom_site_type_symbol
_atom_site_fract_x
_atom_site_fract_y
_atom_site_fract_z
_atom_site_U_iso_or_equiv
_atom_site_occupancy
_atom_site_adp_type
_atom_site_refinement_flags_posn
Cl1 Cl 0.21745(10) 0.52527(9) 0.64118(5) 0.0611 1.0000 Uani .
O1 O 0.1218(3) 0.4972(4) 0.68599(17) 0.0988 1.0000 Uani .
O2 O 0.2016(4) 0.6326(3) 0.6230(2) 0.1096 1.0000 Uani .
O3 O 0.2060(5) 0.4602(4) 0.58508(19) 0.1161 1.0000 Uani .
O4 O 0.3436(3) 0.5123(4) 0.6718(2) 0.1095 1.0000 Uani .
Br1 Br 0.50046(4) 0.64896(3) 0.514679(19) 0.0528 1.0000 Uani .
N1 N 0.3618(3) 0.6220(2) 0.43978(15) 0.0517 1.0000 Uani .
C11 C 0.2355(4) 0.6238(3) 0.4523(2) 0.0568 1.0000 Uani .
C12 C 0.1425(4) 0.6048(3) 0.4032(2) 0.0647 1.0000 Uani .
C13 C 0.1811(5) 0.5846(3) 0.3414(2) 0.0679 1.0000 Uani .
C14 C 0.3111(5) 0.5832(3) 0.3291(2) 0.0685 1.0000 Uani .
C15 C 0.4016(5) 0.6023(3) 0.3796(2) 0.0599 1.0000 Uani .
N2 N 0.6429(3) 0.6740(3) 0.59176(17) 0.0563 1.0000 Uani .
C21 C 0.7690(4) 0.6683(3) 0.5798(3) 0.0686 1.0000 Uani .
C22 C 0.8622(5) 0.6803(4) 0.6306(4) 0.0889 1.0000 Uani .
C23 C 0.8214(7) 0.6977(5) 0.6917(3) 0.0990 1.0000 Uani .
C24 C 0.6918(6) 0.7037(4) 0.7033(3) 0.0893 1.0000 Uani .
C25 C 0.6040(5) 0.6911(4) 0.6520(2) 0.0699 1.0000 Uani .
H111 H 0.2117 0.6373 0.4946 0.0680 1.0000 Uiso R
H121 H 0.0548 0.6056 0.4123 0.0778 1.0000 Uiso R
H131 H 0.1190 0.5717 0.3081 0.0821 1.0000 Uiso R
H141 H 0.3390 0.5703 0.2879 0.0819 1.0000 Uiso R
H151 H 0.4904 0.6007 0.3721 0.0719 1.0000 Uiso R
H211 H 0.7942 0.6562 0.5376 0.0821 1.0000 Uiso R
H221 H 0.9497 0.6762 0.6222 0.1070 1.0000 Uiso R
H231 H 0.8825 0.7063 0.7260 0.1191 1.0000 Uiso R
H241 H 0.6631 0.7164 0.7451 0.1071 1.0000 Uiso R
H251 H 0.5142 0.6938 0.6592 0.0840 1.0000 Uiso R
loop_
_atom_site_aniso_label
_atom_site_aniso_U_11
_atom_site_aniso_U_22
_atom_site_aniso_U_33
_atom_site_aniso_U_23
_atom_site_aniso_U_13
_atom_site_aniso_U_12
Cl1 0.0545(5) 0.0775(7) 0.0516(5) 0.0067(5) 0.0046(4) 0.0026(5)
O1 0.071(2) 0.155(4) 0.071(2) 0.021(2) 0.0107(18) -0.019(2)
O2 0.136(4) 0.076(2) 0.119(3) 0.020(2) 0.029(3) 0.020(2)
O3 0.157(4) 0.118(3) 0.074(2) -0.023(2) 0.010(2) -0.020(3)
O4 0.056(2) 0.175(4) 0.097(3) 0.010(3) 0.0016(19) 0.019(2)
Br1 0.0546(2) 0.05147(19) 0.0519(2) -0.00077(19) -0.00369(14) 0.00274(19)
N1 0.062(2) 0.0483(17) 0.0443(16) -0.0019(13) -0.0052(14) 0.0039(14)
C11 0.060(2) 0.057(2) 0.053(2) -0.0032(18) 0.0017(18) 0.0040(19)
C12 0.061(3) 0.063(3) 0.070(3) -0.001(2) -0.010(2) 0.001(2)
C13 0.084(3) 0.060(3) 0.058(3) -0.003(2) -0.019(2) -0.002(2)
C14 0.106(4) 0.057(2) 0.043(2) -0.0056(18) 0.004(2) -0.002(2)
C15 0.069(3) 0.056(2) 0.055(2) -0.0059(19) 0.009(2) 0.002(2)
N2 0.0540(19) 0.0529(19) 0.061(2) 0.0050(15) -0.0089(15) 0.0001(15)
C21 0.057(2) 0.061(3) 0.088(3) 0.021(2) 0.000(2) 0.000(2)
C22 0.056(3) 0.071(3) 0.137(5) 0.028(3) -0.022(3) -0.005(2)
C23 0.106(5) 0.080(4) 0.105(5) 0.008(3) -0.056(4) -0.014(3)
C24 0.108(5) 0.087(4) 0.070(3) -0.011(3) -0.025(3) 0.000(3)
C25 0.072(3) 0.072(3) 0.064(3) -0.003(2) -0.006(2) 0.000(2)
loop_
_atom_type_symbol
_atom_type_scat_dispersion_real
_atom_type_scat_dispersion_imag
_atom_type_scat_Cromer_Mann_a1
_atom_type_scat_Cromer_Mann_b1
_atom_type_scat_Cromer_Mann_a2
_atom_type_scat_Cromer_Mann_b2
_atom_type_scat_Cromer_Mann_a3
_atom_type_scat_Cromer_Mann_b3
_atom_type_scat_Cromer_Mann_a4
_atom_type_scat_Cromer_Mann_b4
_atom_type_scat_Cromer_Mann_c
_atom_type_scat_source
C 0.0033 0.0016 2.3100 20.8439 1.0200 10.2075 1.5886 0.5687 0.8650 51.6512
0.2156 'International Tables Vol C 4.2.6.8 and 6.1.1.4'
H 0.0000 0.0000 0.4930 10.5109 0.3229 26.1257 0.1402 3.1424 0.0408 57.7998
0.0030 'International Tables Vol C 4.2.6.8 and 6.1.1.4'
Br -0.2901 2.4595 17.1789 2.1723 5.2358 16.5796 5.6377 0.2609 3.9851 41.4328
2.9557 'International Tables Vol C 4.2.6.8 and 6.1.1.4'
Cl 0.1484 0.1585 11.4604 0.0104 7.1964 1.1662 6.2556 18.5194 1.6455 47.7784
-9.5574 'International Tables Vol C 4.2.6.8 and 6.1.1.4'
N 0.0061 0.0033 12.2126 0.0057 3.1322 9.8933 2.0125 28.9975 1.1663 0.5826
-11.5290 'International Tables Vol C 4.2.6.8 and 6.1.1.4'
O 0.0106 0.0060 3.0485 13.2771 2.2868 5.7011 1.5463 0.3239 0.8670 32.9089
0.2508 'International Tables Vol C 4.2.6.8 and 6.1.1.4'
loop_
_geom_angle_atom_site_label_1
_geom_angle_atom_site_label_2
_geom_angle_atom_site_label_3
_geom_angle
_geom_angle_publ_flag
O1 Cl1 O2 109.6(3) yes
O1 Cl1 O3 110.4(3) yes
O2 Cl1 O3 109.5(3) yes
O1 Cl1 O4 109.1(2) yes
O2 Cl1 O4 108.6(3) yes
O3 Cl1 O4 109.5(3) yes
N1 Br1 N2 179.09(13) yes
Br1 N1 C11 119.7(3) yes
Br1 N1 C15 119.0(3) yes
C11 N1 C15 121.3(3) yes
N1 C11 C12 120.3(4) yes
N1 C11 H111 118.8 no
C12 C11 H111 120.9 no
C11 C12 C13 119.3(4) yes
C11 C12 H121 120.0 no
C13 C12 H121 120.7 no
C12 C13 C14 119.9(4) yes
C12 C13 H131 119.8 no
C14 C13 H131 120.3 no
C13 C14 C15 119.2(4) yes
C13 C14 H141 121.2 no
C15 C14 H141 119.7 no
C14 C15 N1 120.0(4) yes
C14 C15 H151 120.1 no
N1 C15 H151 119.8 no
Br1 N2 C21 119.8(3) yes
Br1 N2 C25 119.2(3) yes
C21 N2 C25 120.9(4) yes
N2 C21 C22 120.0(5) yes
N2 C21 H211 119.6 no
C22 C21 H211 120.4 no
C21 C22 C23 118.6(5) yes
C21 C22 H221 119.9 no
C23 C22 H221 121.5 no
C22 C23 C24 120.9(5) yes
C22 C23 H231 119.7 no
C24 C23 H231 119.5 no
C23 C24 C25 118.4(5) yes
C23 C24 H241 121.3 no
C25 C24 H241 120.3 no
C24 C25 N2 121.3(5) yes
C24 C25 H251 119.5 no
N2 C25 H251 119.2 no
loop_
_geom_bond_atom_site_label_1
_geom_bond_atom_site_label_2
_geom_bond_distance
_geom_bond_publ_flag
Cl1 O1 1.414(3) yes
Cl1 O2 1.402(4) yes
Cl1 O3 1.407(4) yes
Cl1 O4 1.418(4) yes
Br1 N1 2.068(3) yes
Br1 N2 2.121(3) yes
N1 C11 1.328(5) yes
N1 C15 1.335(5) yes
C11 C12 1.372(5) yes
C11 H111 0.925 no
C12 C13 1.364(6) yes
C12 H121 0.923 no
C13 C14 1.364(7) yes
C13 H131 0.926 no
C14 C15 1.376(6) yes
C14 H141 0.915 no
C15 H151 0.928 no
N2 C21 1.325(5) yes
N2 C25 1.328(5) yes
C21 C22 1.384(7) yes
C21 H211 0.924 no
C22 C23 1.352(8) yes
C22 H221 0.920 no
C23 C24 1.359(8) yes
C23 H231 0.924 no
C24 C25 1.359(6) yes
C24 H241 0.930 no
C25 H251 0.937 no
loop_
_geom_hbond_atom_site_label_D
_geom_hbond_atom_site_label_H
_geom_hbond_atom_site_label_A
_geom_hbond_site_symmetry_A
_geom_hbond_angle_DHA
_geom_hbond_distance_DH
_geom_hbond_distance_HA
_geom_hbond_distance_DA
_geom_hbond_publ_flag
C14 H141 O4 6_564 158.80 0.915 2.590 3.460(7) yes
C15 H151 O4 2_666 141.62 0.928 2.414 3.193(7) yes
