#------------------------------------------------------------------------------
#$Date: 2016-03-24 14:41:09 +0200 (Thu, 24 Mar 2016) $
#$Revision: 179671 $
#$URL: svn://www.crystallography.net/cod/cif/4/51/24/4512401.cif $
#------------------------------------------------------------------------------
#
# This file is available in the Crystallography Open Database (COD),
# http://www.crystallography.net/
#
# All data on this site have been placed in the public domain by the
# contributors.
#
data_4512401
loop_
_publ_author_name
'Fu, Ruibiao'
'Hu, Shengmin'
'Wu, Xintao'
_publ_section_title
;
 New 3D Lanthanide Phosphonates: Syntheses, Crystal Structure, Thermal
 Stability, Luminescence, and Magnetism
;
_journal_issue                   12
_journal_name_full               'Crystal Growth & Design'
_journal_page_first              6197
_journal_paper_doi               10.1021/cg501355t
_journal_volume                  14
_journal_year                    2014
_chemical_formula_sum            'C3 H8 Eu N O7 P2'
_chemical_formula_weight         384.00
_chemical_name_systematic
; 
 ? 
;
_space_group_IT_number           62
_symmetry_cell_setting           orthorhombic
_symmetry_space_group_name_Hall  '-P 2ac 2n'
_symmetry_space_group_name_H-M   'P n m a'
_atom_sites_solution_hydrogens   geom
_atom_sites_solution_primary     direct
_atom_sites_solution_secondary   difmap
_audit_creation_method           SHELXL-97
_cell_angle_alpha                90.00
_cell_angle_beta                 90.00
_cell_angle_gamma                90.00
_cell_formula_units_Z            4
_cell_length_a                   9.9906(10)
_cell_length_b                   8.1942(9)
_cell_length_c                   10.2599(12)
_cell_measurement_reflns_used    2381
_cell_measurement_temperature    293(2)
_cell_measurement_theta_max      27.5127
_cell_measurement_theta_min      2.8457
_cell_volume                     839.93(16)
_computing_cell_refinement       'CrystalClear (Rigaku Inc., 2008)'
_computing_data_collection       'CrystalClear (Rigaku Inc., 2008)'
_computing_data_reduction        'CrystalClear (Rigaku Inc., 2008)'
_computing_molecular_graphics    'Bruker SHELXTL'
_computing_publication_material  'Bruker SHELXTL'
_computing_structure_refinement  'SHELXL-97 (Sheldrick, 1997)'
_computing_structure_solution    'SHELXS-97 (Sheldrick, 1990)'
_diffrn_ambient_temperature      293(2)
_diffrn_measured_fraction_theta_full 0.999
_diffrn_measured_fraction_theta_max 0.999
_diffrn_measurement_device_type  'Mercury70 (2x2 bin mode)'
_diffrn_measurement_method       'ω scans'
_diffrn_radiation_monochromator  graphite
_diffrn_radiation_source         'fine-focus sealed tube'
_diffrn_radiation_type           MoK\a
_diffrn_radiation_wavelength     0.71073
_diffrn_reflns_av_R_equivalents  0.0297
_diffrn_reflns_av_sigmaI/netI    0.0219
_diffrn_reflns_limit_h_max       12
_diffrn_reflns_limit_h_min       -12
_diffrn_reflns_limit_k_max       10
_diffrn_reflns_limit_k_min       -10
_diffrn_reflns_limit_l_max       13
_diffrn_reflns_limit_l_min       -13
_diffrn_reflns_number            6155
_diffrn_reflns_theta_full        27.45
_diffrn_reflns_theta_max         27.45
_diffrn_reflns_theta_min         2.85
_exptl_absorpt_coefficient_mu    7.861
_exptl_absorpt_correction_T_max  1.0000
_exptl_absorpt_correction_T_min  0.8998
_exptl_absorpt_correction_type   multi-scan
_exptl_absorpt_process_details   'CrystalClear (Rigaku Inc., 2008)'
_exptl_crystal_colour            colorless
_exptl_crystal_density_diffrn    3.037
_exptl_crystal_density_method    'not measured'
_exptl_crystal_description       needle
_exptl_crystal_F_000             728
_exptl_crystal_size_max          0.3000
_exptl_crystal_size_mid          0.0500
_exptl_crystal_size_min          0.0500
_refine_diff_density_max         0.920
_refine_diff_density_min         -0.873
_refine_diff_density_rms         0.190
_refine_ls_extinction_method     none
_refine_ls_goodness_of_fit_ref   1.067
_refine_ls_hydrogen_treatment    mixed
_refine_ls_matrix_type           full
_refine_ls_number_parameters     88
_refine_ls_number_reflns         1030
_refine_ls_number_restraints     0
_refine_ls_restrained_S_all      1.067
_refine_ls_R_factor_all          0.0302
_refine_ls_R_factor_gt           0.0290
_refine_ls_shift/su_max          0.000
_refine_ls_shift/su_mean         0.000
_refine_ls_structure_factor_coef Fsqd
_refine_ls_weighting_details
'calc w=1/[σ²(Fo²)+(0.0000P)²+20.2543P] where P=(Fo²+2Fc²)/3'
_refine_ls_weighting_scheme      calc
_refine_ls_wR_factor_gt          0.0692
_refine_ls_wR_factor_ref         0.0698
_reflns_number_gt                1004
_reflns_number_total             1030
_reflns_threshold_expression     >2sigma(I)
_cod_data_source_file            1.cif
_cod_data_source_block           f1
_cod_depositor_comments
;
The following automatic conversions were performed:

'_exptl_absorpt_correction_type' value 'Multi-scan' changed to
'multi-scan' according to
/home/saulius/struct/COD-crude-data--automatic-downloads/rss-feeds/ACS/lib/dictionaries/cif_core.dic
dictionary named 'cif_core.dic' version 2.4.2 from 2011-04-26.

Automatic conversion script
Id: cif_fix_values 2935 2014-11-11 08:27:57Z andrius 

 Adding full bibliography for 4512398--4512401.cif.
;
_cod_original_sg_symbol_H-M      Pnma
_cod_database_code               4512401
loop_
_symmetry_equiv_pos_as_xyz
'x, y, z'
'-x+1/2, -y, z+1/2'
'-x, y+1/2, -z'
'x+1/2, -y+1/2, -z+1/2'
'-x, -y, -z'
'x-1/2, y, -z-1/2'
'x, -y-1/2, z'
'-x-1/2, y-1/2, z-1/2'
loop_
_atom_site_label
_atom_site_type_symbol
_atom_site_fract_x
_atom_site_fract_y
_atom_site_fract_z
_atom_site_U_iso_or_equiv
_atom_site_adp_type
_atom_site_occupancy
_atom_site_symmetry_multiplicity
_atom_site_calc_flag
_atom_site_refinement_flags
Eu1 Eu -0.11534(4) 0.7500 0.63265(4) 0.00909(13) Uani 1 2 d S
P1 P 0.19411(15) 0.93737(18) 0.60804(15) 0.0110(3) Uani 1 1 d .
O1 O 0.0544(5) 0.9415(6) 0.6685(5) 0.0297(13) Uani 1 1 d .
O2 O 0.2194(5) 1.0778(6) 0.5154(4) 0.0196(10) Uani 1 1 d .
O3 O 0.3046(5) 0.9275(6) 0.7094(4) 0.0185(10) Uani 1 1 d .
O4 O 0.0651(7) 0.7500 0.4440(6) 0.0190(14) Uani 1 2 d S
H1 H 0.045(18) 0.86(2) 0.426(17) 0.04(5) Uiso 0.50 1 d P
N1 N 0.5492(9) 0.7500 0.3521(9) 0.029(2) Uani 1 2 d S
H4 H 0.528(11) 0.859(14) 0.298(10) 0.08(4) Uiso 1 1 d .
H5 H 0.635(16) 0.7500 0.385(15) 0.06(5) Uiso 1 2 d S
C1 C 0.1964(8) 0.7500 0.5101(8) 0.0119(17) Uani 1 2 d S
C2 C 0.3051(9) 0.7500 0.4055(9) 0.0189(19) Uani 1 2 d S
H2 H 0.2936 0.8446 0.3515 0.023 Uiso 1 1 d R
C3 C 0.4490(10) 0.7500 0.4602(10) 0.025(2) Uani 1 2 d S
H3 H 0.461(9) 0.840(11) 0.515(8) 0.04(3) Uiso 1 1 d .
loop_
_atom_site_aniso_label
_atom_site_aniso_U_11
_atom_site_aniso_U_22
_atom_site_aniso_U_33
_atom_site_aniso_U_23
_atom_site_aniso_U_13
_atom_site_aniso_U_12
Eu1 0.0102(2) 0.0089(2) 0.0082(2) 0.000 0.00034(16) 0.000
P1 0.0101(7) 0.0070(7) 0.0158(7) 0.0016(6) 0.0000(6) -0.0007(6)
O1 0.017(2) 0.019(3) 0.053(3) -0.022(2) 0.016(2) -0.009(2)
O2 0.025(3) 0.012(2) 0.022(2) 0.0071(19) -0.0086(19) -0.0065(19)
O3 0.026(3) 0.016(2) 0.014(2) 0.0005(18) -0.0054(18) 0.004(2)
O4 0.015(3) 0.026(4) 0.016(3) 0.000 -0.005(3) 0.000
N1 0.011(4) 0.053(6) 0.022(4) 0.000 0.010(4) 0.000
C1 0.008(4) 0.020(5) 0.008(4) 0.000 -0.001(3) 0.000
C2 0.012(4) 0.024(5) 0.020(5) 0.000 0.000(4) 0.000
C3 0.013(5) 0.045(7) 0.017(5) 0.000 0.006(4) 0.000
loop_
_atom_type_symbol
_atom_type_description
_atom_type_scat_dispersion_real
_atom_type_scat_dispersion_imag
_atom_type_scat_source
C C 0.0033 0.0016 'International Tables Vol C Tables 4.2.6.8 and 6.1.1.4'
H H 0.0000 0.0000 'International Tables Vol C Tables 4.2.6.8 and 6.1.1.4'
N N 0.0061 0.0033 'International Tables Vol C Tables 4.2.6.8 and 6.1.1.4'
O O 0.0106 0.0060 'International Tables Vol C Tables 4.2.6.8 and 6.1.1.4'
P P 0.1023 0.0942 'International Tables Vol C Tables 4.2.6.8 and 6.1.1.4'
Eu Eu -0.1578 3.6682 'International Tables Vol C Tables 4.2.6.8 and 6.1.1.4'
loop_
_geom_angle_atom_site_label_1
_geom_angle_atom_site_label_2
_geom_angle_atom_site_label_3
_geom_angle
_geom_angle_site_symmetry_1
_geom_angle_site_symmetry_3
O2 Eu1 O2 75.0(2) 3_546 5_576
O2 Eu1 O3 133.19(16) 3_546 6_557
O2 Eu1 O3 85.49(16) 5_576 6_557
O2 Eu1 O3 85.49(16) 3_546 4_466
O2 Eu1 O3 133.19(17) 5_576 4_466
O3 Eu1 O3 77.7(2) 6_557 4_466
O2 Eu1 O1 146.71(18) 3_546 .
O2 Eu1 O1 91.12(19) 5_576 .
O3 Eu1 O1 73.72(16) 6_557 .
O3 Eu1 O1 124.11(18) 4_466 .
O2 Eu1 O1 91.12(19) 3_546 7_575
O2 Eu1 O1 146.71(18) 5_576 7_575
O3 Eu1 O1 124.11(18) 6_557 7_575
O3 Eu1 O1 73.72(16) 4_466 7_575
O1 Eu1 O1 84.3(3) . 7_575
O2 Eu1 O4 80.00(17) 3_546 .
O2 Eu1 O4 80.00(17) 5_576 .
O3 Eu1 O4 138.26(13) 6_557 .
O3 Eu1 O4 138.26(13) 4_466 .
O1 Eu1 O4 67.72(16) . .
O1 Eu1 O4 67.72(16) 7_575 .
O2 Eu1 P1 128.50(13) 3_546 .
O2 Eu1 P1 94.74(12) 5_576 .
O3 Eu1 P1 94.64(12) 6_557 .
O3 Eu1 P1 129.58(12) 4_466 .
O1 Eu1 P1 21.00(11) . .
O1 Eu1 P1 70.22(13) 7_575 .
O4 Eu1 P1 48.53(12) . .
O2 Eu1 P1 94.74(12) 3_546 7_575
O2 Eu1 P1 128.50(13) 5_576 7_575
O3 Eu1 P1 129.58(12) 6_557 7_575
O3 Eu1 P1 94.64(12) 4_466 7_575
O1 Eu1 P1 70.22(12) . 7_575
O1 Eu1 P1 21.00(12) 7_575 7_575
O4 Eu1 P1 48.53(12) . 7_575
P1 Eu1 P1 52.67(5) . 7_575
O2 P1 O3 110.4(3) . .
O2 P1 O1 113.0(3) . .
O3 P1 O1 112.8(3) . .
O2 P1 C1 106.8(3) . .
O3 P1 C1 108.8(3) . .
O1 P1 C1 104.6(3) . .
O2 P1 Eu1 122.14(19) . .
O3 P1 Eu1 125.15(19) . .
O1 P1 Eu1 33.29(18) . .
C1 P1 Eu1 71.3(3) . .
P1 O1 Eu1 125.7(3) . .
P1 O2 Eu1 143.0(3) . 5_576
P1 O3 Eu1 139.7(3) . 6_657
C1 O4 Eu1 105.7(5) . .
O4 C1 C2 108.0(7) . .
O4 C1 P1 103.9(4) . .
C2 C1 P1 113.2(3) . .
O4 C1 P1 103.9(4) . 7_575
C2 C1 P1 113.2(3) . 7_575
P1 C1 P1 113.6(4) . 7_575
C1 C2 C3 114.0(8) . .
N1 C3 C2 110.7(8) . .
loop_
_geom_bond_atom_site_label_1
_geom_bond_atom_site_label_2
_geom_bond_distance
_geom_bond_site_symmetry_2
Eu1 O2 2.319(4) 3_546
Eu1 O2 2.319(4) 5_576
Eu1 O3 2.320(4) 6_557
Eu1 O3 2.320(4) 4_466
Eu1 O1 2.339(5) .
Eu1 O1 2.339(5) 7_575
Eu1 O4 2.645(7) .
Eu1 P1 3.4611(16) .
Eu1 P1 3.4611(16) 7_575
P1 O2 1.514(5) .
P1 O3 1.518(4) .
P1 O1 1.528(5) .
P1 C1 1.835(5) .
O2 Eu1 2.319(4) 5_576
O3 Eu1 2.320(4) 6_657
O4 C1 1.476(10) .
N1 C3 1.494(12) .
C1 C2 1.527(12) .
C1 P1 1.835(5) 7_575
C2 C3 1.544(13) .
