#------------------------------------------------------------------------------
#$Date: 2016-02-14 06:40:26 +0200 (Sun, 14 Feb 2016) $
#$Revision: 176432 $
#$URL: svn://www.crystallography.net/cod/cif/4/51/27/4512746.cif $
#------------------------------------------------------------------------------
#
# This file is available in the Crystallography Open Database (COD),
# http://www.crystallography.net/
#
# All data on this site have been placed in the public domain by the
# contributors.
#
data_4512746
loop_
_publ_author_name
'Ostrowska, Kinga'
'Kropidłowska, Magdalena'
'Katrusiak, Andrzej'
_publ_section_title
;
 High-Pressure Crystallization and Structural Transformations in
 CompressedR,S-Ibuprofen
;
_journal_issue                   3
_journal_name_full               'Crystal Growth & Design'
_journal_page_first              1512
_journal_paper_doi               10.1021/cg5018888
_journal_volume                  15
_journal_year                    2015
_chemical_formula_moiety         'C13 H18 O2'
_chemical_formula_sum            'C13 H18 O2'
_chemical_formula_weight         206.27
_chemical_melting_point          349
_chemical_name_common
;
(R,S)-2-(4-(2-methylpropyl)phenyl)propanoic acid
;
_chemical_name_systematic
;
 (R,S)-ibuprofen
;
_space_group_IT_number           14
_symmetry_cell_setting           monoclinic
_symmetry_space_group_name_Hall  '-P 2ybc'
_symmetry_space_group_name_H-M   'P 1 21/c 1'
_atom_sites_solution_hydrogens   geom
_atom_sites_solution_primary     direct
_atom_sites_solution_secondary   difmap
_audit_creation_method           SHELXL-97
_cell_angle_alpha                90.00
_cell_angle_beta                 100.21(5)
_cell_angle_gamma                90.00
_cell_formula_units_Z            4
_cell_length_a                   13.905(3)
_cell_length_b                   7.4574(18)
_cell_length_c                   10.007(12)
_cell_measurement_pressure       2320000
_cell_measurement_reflns_used    1607
_cell_measurement_temperature    296(2)
_cell_measurement_theta_max      28.37
_cell_measurement_theta_min      3.39
_cell_volume                     1021.2(13)
_computing_cell_refinement       'CrysAlis (Oxford Diffraction, 2002)'
_computing_data_collection       'CrysAlis (Oxford Diffraction, 2002)'
_computing_data_reduction        'CrysAlis (Oxford Diffraction, 2002)'
_computing_molecular_graphics
;X-Seed (Barbour, 2001) 
and POV-Ray (Persistence of Vision, 2004)

Mercury (2008)
;
_computing_publication_material  'SHELXL-97 (Sheldrick, 1997)'
_computing_structure_refinement  'SHELXL-97 (Sheldrick, 1997)'
_computing_structure_solution    'SHELXS-97 (Sheldrick, 1990)'
_diffrn_ambient_temperature      296(2)
_diffrn_detector_area_resol_mean 16.4
_diffrn_measured_fraction_theta_full 0.310
_diffrn_measured_fraction_theta_max 0.310
_diffrn_measurement_device_type  'multiwire proportional'
_diffrn_measurement_method
;HP omega scans - for more details see:
A. Budzianowski, A. Katrusiak in High-Pressure Crystallography
(Eds.: A. Katrusiak, P. F. McMillan),
Dordrecht: Kluwer Acad. Publ., 2004 pp.157-168
;
_diffrn_radiation_monochromator  graphite
_diffrn_radiation_source         'fine-focus sealed tube'
_diffrn_radiation_type           AgK\a
_diffrn_radiation_wavelength     0.56085
_diffrn_reflns_av_R_equivalents  0.3370
_diffrn_reflns_av_sigmaI/netI    0.2760
_diffrn_reflns_limit_h_max       23
_diffrn_reflns_limit_h_min       -23
_diffrn_reflns_limit_k_max       12
_diffrn_reflns_limit_k_min       -11
_diffrn_reflns_limit_l_max       6
_diffrn_reflns_limit_l_min       -6
_diffrn_reflns_number            10899
_diffrn_reflns_theta_full        28.37
_diffrn_reflns_theta_max         28.37
_diffrn_reflns_theta_min         3.39
_exptl_absorpt_coefficient_mu    0.057
_exptl_absorpt_correction_T_max  0.997
_exptl_absorpt_correction_T_min  0.989
_exptl_absorpt_correction_type   multi-scan
_exptl_absorpt_process_details
; 
Correction for absorption was made using XEMP (SHELXTL, 
Sheldrick (1990)).
;
_exptl_crystal_colour            colourless
_exptl_crystal_density_diffrn    1.342
_exptl_crystal_density_method    'not measured'
_exptl_crystal_description       plate
_exptl_crystal_F_000             448
_exptl_crystal_size_max          0.46
_exptl_crystal_size_mid          0.16
_exptl_crystal_size_min          0.05
_refine_diff_density_max         0.225
_refine_diff_density_min         -0.204
_refine_diff_density_rms         0.053
_refine_ls_extinction_coef       0.06(4)
_refine_ls_extinction_expression Fc^*^=kFc[1+0.001xFc²λ³/sin(2θ)]^-1/4^
_refine_ls_extinction_method     SHELXL
_refine_ls_goodness_of_fit_ref   1.001
_refine_ls_hydrogen_treatment    constr
_refine_ls_matrix_type           full
_refine_ls_number_parameters     137
_refine_ls_number_reflns         1607
_refine_ls_number_restraints     90
_refine_ls_restrained_S_all      0.992
_refine_ls_R_factor_all          0.3235
_refine_ls_R_factor_gt           0.1193
_refine_ls_shift/su_max          0.000
_refine_ls_shift/su_mean         0.000
_refine_ls_structure_factor_coef Fsqd
_refine_ls_weighting_details
'calc w=1/[σ²(Fo²)+(0.1774P)²+0.0000P] where P=(Fo²+2Fc²)/3'
_refine_ls_weighting_scheme      calc
_refine_ls_wR_factor_gt          0.2684
_refine_ls_wR_factor_ref         0.3759
_reflns_number_gt                519
_reflns_number_total             1607
_reflns_threshold_expression     >2sigma(I)
_cod_data_source_file            cg5018888_si_002.cif
_cod_data_source_block           ibuprofen_232
_cod_depositor_comments
;
The following automatic conversions were performed:
'_atom_site_symetry_multiplicity' tag replaced with
'_atom_site_symmetry_multiplicity'.

Automatic conversion script
Id: cif_correct_tags 1440 2010-10-19 06:21:57Z saulius 

The following automatic conversions were performed:

'_symmetry_cell_setting' value 'Monoclinic' changed to 'monoclinic'
according to
/usr/data/users/saulius/crontab/automatic-downloads/rss-feeds/ACS/lib/dictionaries/cif_core.dic
dictionary named 'cif_core.dic' version 2.4.2 from 2011-04-26.

Automatic conversion script
Id: cif_fix_values 3008 2015-01-20 13:52:24Z robertas 

 Adding full bibliography for 4512740--4512754.cif.
;
_cod_original_cell_volume        1021.3(12)
_cod_original_sg_symbol_Hall     '-P 2y bc'
_cod_original_sg_symbol_H-M      P2(1)/c
_cod_database_code               4512746
loop_
_symmetry_equiv_pos_as_xyz
'x, y, z'
'-x, y+1/2, -z+1/2'
'-x, -y, -z'
'x, -y-1/2, z-1/2'
loop_
_atom_site_label
_atom_site_type_symbol
_atom_site_fract_x
_atom_site_fract_y
_atom_site_fract_z
_atom_site_U_iso_or_equiv
_atom_site_adp_type
_atom_site_occupancy
_atom_site_symmetry_multiplicity
_atom_site_calc_flag
_atom_site_refinement_flags
O2 O 0.5039(3) 0.1866(6) 0.5697(8) 0.043(3) Uani 1 1 d U
O1 O 0.6269(3) -0.0106(5) 0.5984(8) 0.042(3) Uani 1 1 d U
H01 H 0.5849 -0.0748 0.5546 0.050 Uiso 1 1 calc R
C7 C 0.6586(4) 0.2783(8) 0.6923(14) 0.034(3) Uani 1 1 d U
H7A H 0.7114 0.2145 0.7513 0.041 Uiso 1 1 calc R
C1 C 0.7010(4) 0.3846(7) 0.5881(13) 0.032(3) Uani 1 1 d U
C9 C 0.5894(4) 0.1451(8) 0.6174(13) 0.036(3) Uani 1 1 d U
C11 C 0.9087(4) 0.7832(8) 0.3498(14) 0.037(3) Uani 1 1 d U
H11A H 0.9509 0.7141 0.4202 0.044 Uiso 1 1 calc R
C4 C 0.7803(4) 0.5632(8) 0.3809(14) 0.038(3) Uani 1 1 d U
C5 C 0.8297(4) 0.4210(7) 0.4609(13) 0.032(3) Uani 1 1 d U
H5A H 0.8922 0.3898 0.4480 0.039 Uiso 1 1 calc R
C10 C 0.8238(4) 0.6607(8) 0.2814(13) 0.039(3) Uani 1 1 d U
H10A H 0.7741 0.7335 0.2262 0.047 Uiso 1 1 calc R
H10B H 0.8484 0.5760 0.2220 0.047 Uiso 1 1 calc R
C6 C 0.7898(4) 0.3293(9) 0.5548(13) 0.041(3) Uani 1 1 d U
H6A H 0.8216 0.2293 0.5971 0.049 Uiso 1 1 calc R
C3 C 0.6903(4) 0.6089(8) 0.4113(14) 0.039(3) Uani 1 1 d U
H3A H 0.6543 0.6982 0.3603 0.047 Uiso 1 1 calc R
C2 C 0.6495(4) 0.5245(8) 0.5186(13) 0.041(3) Uani 1 1 d U
H2A H 0.5906 0.5631 0.5401 0.049 Uiso 1 1 calc R
C13 C 0.8694(5) 0.9462(9) 0.4161(15) 0.049(3) Uani 1 1 d U
H13A H 0.9227 1.0234 0.4532 0.074 Uiso 1 1 calc R
H13B H 0.8364 0.9069 0.4874 0.074 Uiso 1 1 calc R
H13C H 0.8244 1.0106 0.3492 0.074 Uiso 1 1 calc R
C12 C 0.9679(4) 0.8382(8) 0.2424(13) 0.045(3) Uani 1 1 d U
H12A H 1.0190 0.9187 0.2818 0.067 Uiso 1 1 calc R
H12B H 0.9260 0.8972 0.1690 0.067 Uiso 1 1 calc R
H12C H 0.9960 0.7336 0.2088 0.067 Uiso 1 1 calc R
C8 C 0.6031(5) 0.3965(9) 0.7811(15) 0.051(4) Uani 1 1 d U
H8A H 0.5761 0.3218 0.8433 0.076 Uiso 1 1 calc R
H8B H 0.5514 0.4596 0.7238 0.076 Uiso 1 1 calc R
H8C H 0.6475 0.4812 0.8311 0.076 Uiso 1 1 calc R
loop_
_atom_site_aniso_label
_atom_site_aniso_U_11
_atom_site_aniso_U_22
_atom_site_aniso_U_33
_atom_site_aniso_U_23
_atom_site_aniso_U_13
_atom_site_aniso_U_12
O2 0.0231(18) 0.048(2) 0.060(9) -0.005(3) 0.011(3) -0.0022(17)
O1 0.043(2) 0.037(2) 0.040(8) 0.000(3) -0.007(3) 0.0048(17)
C7 0.028(3) 0.038(3) 0.035(10) 0.010(4) 0.002(4) -0.005(2)
C1 0.029(3) 0.037(3) 0.029(9) -0.003(3) -0.001(4) 0.001(2)
C9 0.031(3) 0.040(3) 0.040(10) -0.008(4) 0.018(4) -0.003(2)
C11 0.027(3) 0.051(3) 0.036(10) -0.001(4) 0.016(4) 0.000(2)
C4 0.031(3) 0.040(3) 0.043(10) 0.001(3) 0.007(4) 0.000(2)
C5 0.028(2) 0.040(3) 0.031(10) -0.010(3) 0.012(4) 0.007(2)
C10 0.031(3) 0.042(3) 0.043(10) 0.004(4) 0.003(4) 0.003(2)
C6 0.025(3) 0.046(3) 0.050(10) 0.004(4) 0.004(4) -0.003(2)
C3 0.031(3) 0.039(3) 0.048(10) 0.013(4) 0.010(4) 0.002(2)
C2 0.027(2) 0.042(3) 0.054(10) 0.004(4) 0.008(4) 0.003(2)
C13 0.044(3) 0.052(4) 0.052(10) -0.012(4) 0.011(5) 0.000(3)
C12 0.035(3) 0.047(3) 0.050(10) -0.002(4) 0.004(5) -0.002(3)
C8 0.048(3) 0.054(4) 0.046(10) 0.000(4) -0.003(5) 0.006(3)
loop_
_atom_type_symbol
_atom_type_description
_atom_type_scat_dispersion_real
_atom_type_scat_dispersion_imag
_atom_type_scat_source
C C 0.0015 0.0009 'International Tables Vol C Tables 4.2.6.8 and 6.1.1.4'
H H 0.0000 0.0000 'International Tables Vol C Tables 4.2.6.8 and 6.1.1.4'
O O 0.0056 0.0036 'International Tables Vol C Tables 4.2.6.8 and 6.1.1.4'
loop_
_geom_angle_atom_site_label_1
_geom_angle_atom_site_label_2
_geom_angle_atom_site_label_3
_geom_angle
C9 C7 C8 109.0(6)
C9 C7 C1 107.4(11)
C8 C7 C1 113.1(6)
C2 C1 C6 120.2(9)
C2 C1 C7 120.9(6)
C6 C1 C7 118.6(6)
O2 C9 O1 123.3(7)
O2 C9 C7 121.1(6)
O1 C9 C7 115.4(5)
C13 C11 C12 111.8(6)
C13 C11 C10 110.9(5)
C12 C11 C10 108.2(10)
C5 C4 C3 115.1(9)
C5 C4 C10 122.7(6)
C3 C4 C10 122.2(7)
C4 C5 C6 123.1(6)
C4 C10 C11 111.7(11)
C5 C6 C1 120.2(7)
C2 C3 C4 123.1(7)
C1 C2 C3 117.8(7)
loop_
_geom_bond_atom_site_label_1
_geom_bond_atom_site_label_2
_geom_bond_distance
O2 C9 1.240(7)
O1 C9 1.300(7)
C7 C9 1.489(11)
C7 C8 1.550(16)
C7 C1 1.511(16)
C1 C2 1.381(11)
C1 C6 1.397(10)
C11 C13 1.532(12)
C11 C12 1.521(16)
C11 C10 1.552(10)
C4 C5 1.429(12)
C4 C3 1.382(10)
C4 C10 1.449(15)
C5 C6 1.358(14)
C3 C2 1.444(16)
loop_
_geom_torsion_atom_site_label_1
_geom_torsion_atom_site_label_2
_geom_torsion_atom_site_label_3
_geom_torsion_atom_site_label_4
_geom_torsion
C9 C7 C1 C2 80.6(10)
C8 C7 C1 C2 -39.7(12)
C9 C7 C1 C6 -94.0(8)
C8 C7 C1 C6 145.7(8)
C8 C7 C9 O2 38.8(15)
C1 C7 C9 O2 -84.0(12)
C8 C7 C9 O1 -145.6(9)
C1 C7 C9 O1 91.6(9)
C3 C4 C5 C6 3.6(13)
C10 C4 C5 C6 179.8(10)
C5 C4 C10 C11 -70.4(11)
C3 C4 C10 C11 105.4(9)
C13 C11 C10 C4 -72.9(9)
C12 C11 C10 C4 164.2(6)
C4 C5 C6 C1 -7.1(15)
C2 C1 C6 C5 4.9(14)
C7 C1 C6 C5 179.6(9)
C5 C4 C3 C2 1.9(14)
C10 C4 C3 C2 -174.2(10)
C6 C1 C2 C3 0.4(14)
C7 C1 C2 C3 -174.1(10)
C4 C3 C2 C1 -3.9(16)
