#------------------------------------------------------------------------------
#$Date: 2016-02-09 20:42:54 +0200 (Tue, 09 Feb 2016) $
#$Revision: 176292 $
#$URL: svn://www.crystallography.net/cod/cif/6/00/01/6000166.cif $
#------------------------------------------------------------------------------
#
# This file is available in the Crystallography Open Database (COD),
# http://www.crystallography.net/
#
# All data on this site have been placed in the public domain by the
# contributors.
#
data_6000166
loop_
_publ_author_name
'Benard-Rocherulle, P.'
'Louer, D.'
_publ_section_title
;
 Ab initio structure determination of new mixed zirconium hydroxide
 nitrates ZrM(OH)(2)(NO3)(3) (M = K, Rb) from X-ray powder diffraction
 data
;
_journal_name_full               'Journal of Solid State Chemistry'
_journal_page_first              167
_journal_page_last               175
_journal_paper_doi               10.1006/jssc.1999.8515
_journal_volume                  149
_journal_year                    2000
_chemical_formula_sum            'H2 N3 O11 Rb Zr'
_space_group_name_H-M_alt        'P b c n'
_cell_angle_alpha                90.000
_cell_angle_beta                 90.000
_cell_angle_gamma                90.000
_cell_length_a                   10.1260
_cell_length_b                   16.4920
_cell_length_c                   5.8550
_cell_volume                     977.77
_cod_database_code               6000166
loop_
_atom_site_label
_atom_site_fract_x
_atom_site_fract_y
_atom_site_fract_z
? ? ? ?
