#------------------------------------------------------------------------------
#$Date: 2016-02-09 20:42:54 +0200 (Tue, 09 Feb 2016) $
#$Revision: 176292 $
#$URL: svn://www.crystallography.net/cod/cif/6/00/01/6000183.cif $
#------------------------------------------------------------------------------
#
# This file is available in the Crystallography Open Database (COD),
# http://www.crystallography.net/
#
# All data on this site have been placed in the public domain by the
# contributors.
#
data_6000183
loop_
_publ_author_name
'Paulet, C.'
'Serre, C.'
'Loiseau, T.'
'Riou, D.'
'Ferey, G.'
_publ_section_title
;
 Hybrid open-frameworks (MIL-n): Syntheses and structures of 2-dimensional
 gallium methylphosphonates (MIL-23) and 3-dimensional copper vanadium
 methyldiphosphonate (MIL-24)
;
_journal_coden_ASTM              CASCFN
_journal_name_full
;
 Comptes Rendus de l'Academie des Sciences, Serie IIc: Chimie
;
_journal_page_first              631
_journal_page_last               636
_journal_volume                  2
_journal_year                    1999
_chemical_formula_sum            'C3 H16 F3 Ga3 N2 O9 P2'
_space_group_name_H-M_alt        'P -3'
_cell_angle_alpha                90.000
_cell_angle_beta                 90.000
_cell_angle_gamma                120.000
_cell_length_a                   7.2514
_cell_length_b                   7.2514
_cell_length_c                   7.3413
_cell_volume                     334.31
_cod_database_code               6000183
loop_
_atom_site_label
_atom_site_fract_x
_atom_site_fract_y
_atom_site_fract_z
? ? ? ?
