#------------------------------------------------------------------------------
#$Date: 2016-02-09 20:42:54 +0200 (Tue, 09 Feb 2016) $
#$Revision: 176292 $
#$URL: svn://www.crystallography.net/cod/cif/6/00/02/6000232.cif $
#------------------------------------------------------------------------------
#
# This file is available in the Crystallography Open Database (COD),
# http://www.crystallography.net/
#
# All data on this site have been placed in the public domain by the
# contributors.
#
data_6000232
loop_
_publ_author_name
'Jackson, S. K.'
'Layland, R. C.'
'zur Loye, H. C.'
_publ_section_title
;
 The simultaneous powder X-ray and neutron diffraction refinement of two
 eta-carbide type nitrides, Fe3Mo3N and Co3Mo3N, prepared by ammonolysis
 and by plasma nitridation of oxide precursors
;
_journal_name_full               'Journal of Alloys and Compounds'
_journal_page_first              94
_journal_page_last               101
_journal_paper_doi               10.1016/S0925-8388(99)00484-3
_journal_volume                  291
_journal_year                    1999
_chemical_formula_sum            'Co3 Mo3 N'
_space_group_name_H-M_alt        'F d -3 m'
_cell_angle_alpha                90.000
_cell_angle_beta                 90.000
_cell_angle_gamma                90.000
_cell_length_a                   11.0270
_cell_length_b                   11.0270
_cell_length_c                   11.0270
_cell_volume                     1340.83
_cod_database_code               6000232
loop_
_atom_site_label
_atom_site_fract_x
_atom_site_fract_y
_atom_site_fract_z
? ? ? ?
