#------------------------------------------------------------------------------
#$Date: 2016-11-27 02:57:03 +0200 (Sun, 27 Nov 2016) $
#$Revision: 188703 $
#$URL: file:///home/coder/svn-repositories/cod/cif/6/00/03/6000363.cif $
#------------------------------------------------------------------------------
#
# This file is available in the Crystallography Open Database (COD),
# http://www.crystallography.net/
#
# All data on this site have been placed in the public domain by the
# contributors.
#
data_6000363
loop_
_publ_author_name
'Wada, H.'
'Amiel, O.'
'Takenouchi, S.'
_publ_section_title
;
 Insertion of lithium into Ag₄Hf₃S₈ and Ag₂HfS₃ by n-BuLi and its
 structural change
;
_journal_name_full               'Solid State Ionics'
_journal_page_first              487
_journal_page_last               491
_journal_paper_doi               10.1016/S0167-2738(98)00314-2
_journal_volume                  115
_journal_year                    1998
_chemical_formula_sum            'Ag2 Hf3 Li5 S8'
_space_group_name_H-M_alt        'P 43 3 2'
_cell_angle_alpha                90.000
_cell_angle_beta                 90.000
_cell_angle_gamma                90.000
_cell_length_a                   10.4327
_cell_length_b                   10.4327
_cell_length_c                   10.4327
_cell_volume                     1135.51
_cod_database_code               6000363
loop_
_atom_site_label
_atom_site_fract_x
_atom_site_fract_y
_atom_site_fract_z
? ? ? ?
