#------------------------------------------------------------------------------
#$Date: 2016-11-20 06:37:39 +0200 (Sun, 20 Nov 2016) $
#$Revision: 188597 $
#$URL: file:///home/coder/svn-repositories/cod/cif/6/00/04/6000447.cif $
#------------------------------------------------------------------------------
#
# This file is available in the Crystallography Open Database (COD),
# http://www.crystallography.net/
#
# All data on this site have been placed in the public domain by the
# contributors.
#
data_6000447
loop_
_publ_author_name
'Malchus, M.'
'Jansen, M.'
_publ_section_title
;
 Structural investigations of the phase transitions of tetramethylammonium
 sulfate
;
_journal_issue                   4
_journal_name_full               'Acta Crystallographica B'
_journal_page_first              494
_journal_page_last               502
_journal_paper_doi               10.1107/S0108768197018351
_journal_volume                  54
_journal_year                    1998
_chemical_formula_sum            'C8 H24 N2 O4 S'
_space_group_name_H-M_alt        F
_cell_angle_alpha                90.000
_cell_angle_beta                 90.000
_cell_angle_gamma                90.000
_cell_length_a                   11.0260
_cell_length_b                   11.0260
_cell_length_c                   11.0260
_cell_volume                     1340.46
_diffrn_ambient_temperature      473
_cod_database_code               6000447
loop_
_atom_site_label
_atom_site_fract_x
_atom_site_fract_y
_atom_site_fract_z
? ? ? ?
