#------------------------------------------------------------------------------
#$Date: 2016-02-09 20:42:54 +0200 (Tue, 09 Feb 2016) $
#$Revision: 176292 $
#$URL: svn://www.crystallography.net/cod/cif/6/00/04/6000470.cif $
#------------------------------------------------------------------------------
#
# This file is available in the Crystallography Open Database (COD),
# http://www.crystallography.net/
#
# All data on this site have been placed in the public domain by the
# contributors.
#
data_6000470
loop_
_publ_author_name
'Vaidhyanathan, R.'
'Natarajan, S.'
'Rao, C. N. R.'
_publ_section_title
;
 Three-dimensional yttrium oxalates possessing large channels
;
_journal_name_full               'Chemistry of Materials'
_journal_page_first              185
_journal_page_last               191
_journal_paper_doi               10.1021/cm000419o
_journal_volume                  13
_journal_year                    2001
_chemical_formula_sum            'C9 H12 N2 O8 Y'
_space_group_name_H-M_alt        'C 1 c 1'
_cell_angle_alpha                90.000
_cell_angle_beta                 130.640
_cell_angle_gamma                90.000
_cell_length_a                   11.5520
_cell_length_b                   17.1680
_cell_length_c                   8.7190
_cell_volume                     1312.14
_cod_database_code               6000470
loop_
_atom_site_label
_atom_site_fract_x
_atom_site_fract_y
_atom_site_fract_z
? ? ? ?
