#------------------------------------------------------------------------------
#$Date: 2016-02-09 20:42:54 +0200 (Tue, 09 Feb 2016) $
#$Revision: 176292 $
#$URL: svn://www.crystallography.net/cod/cif/6/00/04/6000485.cif $
#------------------------------------------------------------------------------
#
# This file is available in the Crystallography Open Database (COD),
# http://www.crystallography.net/
#
# All data on this site have been placed in the public domain by the
# contributors.
#
data_6000485
loop_
_publ_author_name
'Choudhury, A.'
'Natarajan, S.'
'Rao, C. N. R.'
_publ_section_title
;
 Layered cobalt phosphates by the amine phosphate route
;
_journal_name_full               'Journal of Solid State Chemistry'
_journal_page_first              62
_journal_page_last               70
_journal_paper_doi               10.1006/jssc.2000.8892
_journal_volume                  155
_journal_year                    2000
_chemical_formula_sum            'C3 H15 Co2 N2 O13 P3'
_space_group_name_H-M_alt        'P 1 21/c 1'
_cell_angle_alpha                90.000
_cell_angle_beta                 93.230
_cell_angle_gamma                90.000
_cell_length_a                   8.6080
_cell_length_b                   9.6400
_cell_length_c                   17.2580
_cell_volume                     1429.81
_cod_database_code               6000485
loop_
_atom_site_label
_atom_site_fract_x
_atom_site_fract_y
_atom_site_fract_z
? ? ? ?
