#------------------------------------------------------------------------------
#$Date: 2016-02-09 20:42:54 +0200 (Tue, 09 Feb 2016) $
#$Revision: 176292 $
#$URL: svn://www.crystallography.net/cod/cif/6/00/05/6000510.cif $
#------------------------------------------------------------------------------
#
# This file is available in the Crystallography Open Database (COD),
# http://www.crystallography.net/
#
# All data on this site have been placed in the public domain by the
# contributors.
#
data_6000510
loop_
_publ_author_name
'Dahlke, P.'
'Graulich, J.'
'Welsch, M.'
'Pebler, J.'
'Babel, D.'
_publ_section_title
;
 Structural and magnetochemical studies of Ba5Mn3F19 and related compounds
 A(5)(II)M(3)(III)F(19)
;
_journal_name_full
'Zeitschrift Fur Anorganische Und Allgemeine Chemie'
_journal_page_first              1255
_journal_page_last               1263
_journal_paper_doi
10.1002/(SICI)1521-3749(200005)626:5<1255::AID-ZAAC1255>3.0.CO;2-J
_journal_volume                  626
_journal_year                    2000
_chemical_formula_sum            'Ba5 F19 Ga3'
_space_group_name_H-M_alt        'I 4/m'
_cell_angle_alpha                90.000
_cell_angle_beta                 90.000
_cell_angle_gamma                90.000
_cell_length_a                   14.6600
_cell_length_b                   14.6600
_cell_length_c                   7.6010
_cell_volume                     1633.57
_cod_database_code               6000510
loop_
_atom_site_label
_atom_site_fract_x
_atom_site_fract_y
_atom_site_fract_z
? ? ? ?
