#------------------------------------------------------------------------------
#$Date: 2016-02-09 20:42:54 +0200 (Tue, 09 Feb 2016) $
#$Revision: 176292 $
#$URL: svn://www.crystallography.net/cod/cif/6/00/05/6000596.cif $
#------------------------------------------------------------------------------
#
# This file is available in the Crystallography Open Database (COD),
# http://www.crystallography.net/
#
# All data on this site have been placed in the public domain by the
# contributors.
#
data_6000596
loop_
_publ_author_name
'Nunez, P.'
'Moralesescobar, M.'
'Roisnel, T.'
'Kiat, J. M.'
'Saezpuche, R.'
'Guengard, H.'
'Grannec, J.'
'Tressaud, A.'
_publ_section_title
;
 Structural and magnetic phase transitions of the 2D ferromagnetic
 fluoride Tl2CuF4
;
_journal_name_full               'Journal of Solid State Chemistry'
_journal_page_first              87
_journal_page_last               94
_journal_paper_doi               10.1006/jssc.1996.0086
_journal_volume                  122
_journal_year                    1996
_chemical_formula_sum            'Cu F4 Tl2'
_space_group_name_H-M_alt        I2/m
_cell_angle_alpha                90.000
_cell_angle_beta                 94.564
_cell_angle_gamma                90.000
_cell_length_a                   4.1820
_cell_length_b                   4.1830
_cell_length_c                   13.4920
_cell_volume                     235.27
_cod_database_code               6000596
loop_
_atom_site_label
_atom_site_fract_x
_atom_site_fract_y
_atom_site_fract_z
? ? ? ?
